BEGIN:VCALENDAR
VERSION:2.0
PRODID:-//Pataskala Church of the Nazarene - ECPv6.6.4//NONSGML v1.0//EN
CALSCALE:GREGORIAN
METHOD:PUBLISH
X-WR-CALNAME:Pataskala Church of the Nazarene
X-ORIGINAL-URL:https://pataskalanaz.digitalchurch.app
X-WR-CALDESC:Events for Pataskala Church of the Nazarene
REFRESH-INTERVAL;VALUE=DURATION:PT1H
X-Robots-Tag:noindex
X-PUBLISHED-TTL:PT1H
BEGIN:VTIMEZONE
TZID:America/New_York
BEGIN:DAYLIGHT
TZOFFSETFROM:-0500
TZOFFSETTO:-0400
TZNAME:EDT
DTSTART:20260308T070000
END:DAYLIGHT
BEGIN:STANDARD
TZOFFSETFROM:-0400
TZOFFSETTO:-0500
TZNAME:EST
DTSTART:20261101T060000
END:STANDARD
BEGIN:DAYLIGHT
TZOFFSETFROM:-0500
TZOFFSETTO:-0400
TZNAME:EDT
DTSTART:20270314T070000
END:DAYLIGHT
BEGIN:STANDARD
TZOFFSETFROM:-0400
TZOFFSETTO:-0500
TZNAME:EST
DTSTART:20271107T060000
END:STANDARD
END:VTIMEZONE
BEGIN:VEVENT
DTSTART;TZID=America/New_York:20261227T180000
DTEND;TZID=America/New_York:20261227T180000
DTSTAMP:20260424T040124
CREATED:20240225T181847Z
LAST-MODIFIED:20240225T181847Z
UID:19948-1798394400-1798394400@pataskalanaz.digitalchurch.app
SUMMARY:Amplified: Youth Group
DESCRIPTION:
URL:https://pataskalanaz.digitalchurch.app/event/amplified-youth-group/2026-12-27/
LOCATION:Pataskala Church of the Nazarene\, 8100 Hazelton Etna Road\, Pataskala\, OH\, 43062\, United States
END:VEVENT
BEGIN:VEVENT
DTSTART;TZID=America/New_York:20261230T183000
DTEND;TZID=America/New_York:20261230T183000
DTSTAMP:20260424T040124
CREATED:20221031T224349Z
LAST-MODIFIED:20221031T224349Z
UID:19953-1798655400-1798655400@pataskalanaz.digitalchurch.app
SUMMARY:Youth Group
DESCRIPTION:
URL:https://pataskalanaz.digitalchurch.app/event/youth-group/2026-12-30/
LOCATION:Pataskala Church of the Nazarene\, 8100 Hazelton Etna Road\, Pataskala\, OH\, 43062\, United States
CATEGORIES:Next Gen
END:VEVENT
BEGIN:VEVENT
DTSTART;TZID=America/New_York:20270103T180000
DTEND;TZID=America/New_York:20270103T180000
DTSTAMP:20260424T040124
CREATED:20240225T181847Z
LAST-MODIFIED:20240225T181847Z
UID:19958-1798999200-1798999200@pataskalanaz.digitalchurch.app
SUMMARY:Amplified: Youth Group
DESCRIPTION:
URL:https://pataskalanaz.digitalchurch.app/event/amplified-youth-group/2027-01-03/
LOCATION:Pataskala Church of the Nazarene\, 8100 Hazelton Etna Road\, Pataskala\, OH\, 43062\, United States
END:VEVENT
BEGIN:VEVENT
DTSTART;TZID=America/New_York:20270106T183000
DTEND;TZID=America/New_York:20270106T183000
DTSTAMP:20260424T040124
CREATED:20221031T224349Z
LAST-MODIFIED:20221031T224349Z
UID:19963-1799260200-1799260200@pataskalanaz.digitalchurch.app
SUMMARY:Youth Group
DESCRIPTION:
URL:https://pataskalanaz.digitalchurch.app/event/youth-group/2027-01-06/
LOCATION:Pataskala Church of the Nazarene\, 8100 Hazelton Etna Road\, Pataskala\, OH\, 43062\, United States
CATEGORIES:Next Gen
END:VEVENT
BEGIN:VEVENT
DTSTART;TZID=America/New_York:20270110T180000
DTEND;TZID=America/New_York:20270110T180000
DTSTAMP:20260424T040124
CREATED:20240225T181847Z
LAST-MODIFIED:20240225T181847Z
UID:19968-1799604000-1799604000@pataskalanaz.digitalchurch.app
SUMMARY:Amplified: Youth Group
DESCRIPTION:
URL:https://pataskalanaz.digitalchurch.app/event/amplified-youth-group/2027-01-10/
LOCATION:Pataskala Church of the Nazarene\, 8100 Hazelton Etna Road\, Pataskala\, OH\, 43062\, United States
END:VEVENT
BEGIN:VEVENT
DTSTART;TZID=America/New_York:20270113T183000
DTEND;TZID=America/New_York:20270113T183000
DTSTAMP:20260424T040124
CREATED:20221031T224349Z
LAST-MODIFIED:20221031T224349Z
UID:19973-1799865000-1799865000@pataskalanaz.digitalchurch.app
SUMMARY:Youth Group
DESCRIPTION:
URL:https://pataskalanaz.digitalchurch.app/event/youth-group/2027-01-13/
LOCATION:Pataskala Church of the Nazarene\, 8100 Hazelton Etna Road\, Pataskala\, OH\, 43062\, United States
CATEGORIES:Next Gen
END:VEVENT
BEGIN:VEVENT
DTSTART;TZID=America/New_York:20270117T180000
DTEND;TZID=America/New_York:20270117T180000
DTSTAMP:20260424T040124
CREATED:20240225T181847Z
LAST-MODIFIED:20240225T181847Z
UID:19978-1800208800-1800208800@pataskalanaz.digitalchurch.app
SUMMARY:Amplified: Youth Group
DESCRIPTION:
URL:https://pataskalanaz.digitalchurch.app/event/amplified-youth-group/2027-01-17/
LOCATION:Pataskala Church of the Nazarene\, 8100 Hazelton Etna Road\, Pataskala\, OH\, 43062\, United States
END:VEVENT
BEGIN:VEVENT
DTSTART;TZID=America/New_York:20270120T183000
DTEND;TZID=America/New_York:20270120T183000
DTSTAMP:20260424T040124
CREATED:20221031T224349Z
LAST-MODIFIED:20221031T224349Z
UID:19983-1800469800-1800469800@pataskalanaz.digitalchurch.app
SUMMARY:Youth Group
DESCRIPTION:
URL:https://pataskalanaz.digitalchurch.app/event/youth-group/2027-01-20/
LOCATION:Pataskala Church of the Nazarene\, 8100 Hazelton Etna Road\, Pataskala\, OH\, 43062\, United States
CATEGORIES:Next Gen
END:VEVENT
BEGIN:VEVENT
DTSTART;TZID=America/New_York:20270124T180000
DTEND;TZID=America/New_York:20270124T180000
DTSTAMP:20260424T040124
CREATED:20240225T181847Z
LAST-MODIFIED:20240225T181847Z
UID:19988-1800813600-1800813600@pataskalanaz.digitalchurch.app
SUMMARY:Amplified: Youth Group
DESCRIPTION:
URL:https://pataskalanaz.digitalchurch.app/event/amplified-youth-group/2027-01-24/
LOCATION:Pataskala Church of the Nazarene\, 8100 Hazelton Etna Road\, Pataskala\, OH\, 43062\, United States
END:VEVENT
BEGIN:VEVENT
DTSTART;TZID=America/New_York:20270127T183000
DTEND;TZID=America/New_York:20270127T183000
DTSTAMP:20260424T040124
CREATED:20221031T224349Z
LAST-MODIFIED:20221031T224349Z
UID:19993-1801074600-1801074600@pataskalanaz.digitalchurch.app
SUMMARY:Youth Group
DESCRIPTION:
URL:https://pataskalanaz.digitalchurch.app/event/youth-group/2027-01-27/
LOCATION:Pataskala Church of the Nazarene\, 8100 Hazelton Etna Road\, Pataskala\, OH\, 43062\, United States
CATEGORIES:Next Gen
END:VEVENT
BEGIN:VEVENT
DTSTART;TZID=America/New_York:20270131T180000
DTEND;TZID=America/New_York:20270131T180000
DTSTAMP:20260424T040124
CREATED:20240225T181847Z
LAST-MODIFIED:20240225T181847Z
UID:19998-1801418400-1801418400@pataskalanaz.digitalchurch.app
SUMMARY:Amplified: Youth Group
DESCRIPTION:
URL:https://pataskalanaz.digitalchurch.app/event/amplified-youth-group/2027-01-31/
LOCATION:Pataskala Church of the Nazarene\, 8100 Hazelton Etna Road\, Pataskala\, OH\, 43062\, United States
END:VEVENT
BEGIN:VEVENT
DTSTART;TZID=America/New_York:20270203T183000
DTEND;TZID=America/New_York:20270203T183000
DTSTAMP:20260424T040124
CREATED:20221031T224349Z
LAST-MODIFIED:20221031T224349Z
UID:20003-1801679400-1801679400@pataskalanaz.digitalchurch.app
SUMMARY:Youth Group
DESCRIPTION:
URL:https://pataskalanaz.digitalchurch.app/event/youth-group/2027-02-03/
LOCATION:Pataskala Church of the Nazarene\, 8100 Hazelton Etna Road\, Pataskala\, OH\, 43062\, United States
CATEGORIES:Next Gen
END:VEVENT
BEGIN:VEVENT
DTSTART;TZID=America/New_York:20270207T180000
DTEND;TZID=America/New_York:20270207T180000
DTSTAMP:20260424T040124
CREATED:20240225T181847Z
LAST-MODIFIED:20240225T181847Z
UID:20008-1802023200-1802023200@pataskalanaz.digitalchurch.app
SUMMARY:Amplified: Youth Group
DESCRIPTION:
URL:https://pataskalanaz.digitalchurch.app/event/amplified-youth-group/2027-02-07/
LOCATION:Pataskala Church of the Nazarene\, 8100 Hazelton Etna Road\, Pataskala\, OH\, 43062\, United States
END:VEVENT
BEGIN:VEVENT
DTSTART;TZID=America/New_York:20270210T183000
DTEND;TZID=America/New_York:20270210T183000
DTSTAMP:20260424T040124
CREATED:20221031T224349Z
LAST-MODIFIED:20221031T224349Z
UID:20013-1802284200-1802284200@pataskalanaz.digitalchurch.app
SUMMARY:Youth Group
DESCRIPTION:
URL:https://pataskalanaz.digitalchurch.app/event/youth-group/2027-02-10/
LOCATION:Pataskala Church of the Nazarene\, 8100 Hazelton Etna Road\, Pataskala\, OH\, 43062\, United States
CATEGORIES:Next Gen
END:VEVENT
BEGIN:VEVENT
DTSTART;TZID=America/New_York:20270214T180000
DTEND;TZID=America/New_York:20270214T180000
DTSTAMP:20260424T040124
CREATED:20240225T181847Z
LAST-MODIFIED:20240225T181847Z
UID:20018-1802628000-1802628000@pataskalanaz.digitalchurch.app
SUMMARY:Amplified: Youth Group
DESCRIPTION:
URL:https://pataskalanaz.digitalchurch.app/event/amplified-youth-group/2027-02-14/
LOCATION:Pataskala Church of the Nazarene\, 8100 Hazelton Etna Road\, Pataskala\, OH\, 43062\, United States
END:VEVENT
BEGIN:VEVENT
DTSTART;TZID=America/New_York:20270217T183000
DTEND;TZID=America/New_York:20270217T183000
DTSTAMP:20260424T040124
CREATED:20221031T224349Z
LAST-MODIFIED:20221031T224349Z
UID:20023-1802889000-1802889000@pataskalanaz.digitalchurch.app
SUMMARY:Youth Group
DESCRIPTION:
URL:https://pataskalanaz.digitalchurch.app/event/youth-group/2027-02-17/
LOCATION:Pataskala Church of the Nazarene\, 8100 Hazelton Etna Road\, Pataskala\, OH\, 43062\, United States
CATEGORIES:Next Gen
END:VEVENT
BEGIN:VEVENT
DTSTART;TZID=America/New_York:20270221T180000
DTEND;TZID=America/New_York:20270221T180000
DTSTAMP:20260424T040124
CREATED:20240225T181847Z
LAST-MODIFIED:20240225T181847Z
UID:20028-1803232800-1803232800@pataskalanaz.digitalchurch.app
SUMMARY:Amplified: Youth Group
DESCRIPTION:
URL:https://pataskalanaz.digitalchurch.app/event/amplified-youth-group/2027-02-21/
LOCATION:Pataskala Church of the Nazarene\, 8100 Hazelton Etna Road\, Pataskala\, OH\, 43062\, United States
END:VEVENT
BEGIN:VEVENT
DTSTART;TZID=America/New_York:20270224T183000
DTEND;TZID=America/New_York:20270224T183000
DTSTAMP:20260424T040124
CREATED:20221031T224349Z
LAST-MODIFIED:20221031T224349Z
UID:20033-1803493800-1803493800@pataskalanaz.digitalchurch.app
SUMMARY:Youth Group
DESCRIPTION:
URL:https://pataskalanaz.digitalchurch.app/event/youth-group/2027-02-24/
LOCATION:Pataskala Church of the Nazarene\, 8100 Hazelton Etna Road\, Pataskala\, OH\, 43062\, United States
CATEGORIES:Next Gen
END:VEVENT
BEGIN:VEVENT
DTSTART;TZID=America/New_York:20270228T180000
DTEND;TZID=America/New_York:20270228T180000
DTSTAMP:20260424T040124
CREATED:20240225T181847Z
LAST-MODIFIED:20240225T181847Z
UID:20038-1803837600-1803837600@pataskalanaz.digitalchurch.app
SUMMARY:Amplified: Youth Group
DESCRIPTION:
URL:https://pataskalanaz.digitalchurch.app/event/amplified-youth-group/2027-02-28/
LOCATION:Pataskala Church of the Nazarene\, 8100 Hazelton Etna Road\, Pataskala\, OH\, 43062\, United States
END:VEVENT
BEGIN:VEVENT
DTSTART;TZID=America/New_York:20270303T183000
DTEND;TZID=America/New_York:20270303T183000
DTSTAMP:20260424T040124
CREATED:20221031T224349Z
LAST-MODIFIED:20221031T224349Z
UID:20043-1804098600-1804098600@pataskalanaz.digitalchurch.app
SUMMARY:Youth Group
DESCRIPTION:
URL:https://pataskalanaz.digitalchurch.app/event/youth-group/2027-03-03/
LOCATION:Pataskala Church of the Nazarene\, 8100 Hazelton Etna Road\, Pataskala\, OH\, 43062\, United States
CATEGORIES:Next Gen
END:VEVENT
BEGIN:VEVENT
DTSTART;TZID=America/New_York:20270307T180000
DTEND;TZID=America/New_York:20270307T180000
DTSTAMP:20260424T040124
CREATED:20240225T181847Z
LAST-MODIFIED:20240225T181847Z
UID:20048-1804442400-1804442400@pataskalanaz.digitalchurch.app
SUMMARY:Amplified: Youth Group
DESCRIPTION:
URL:https://pataskalanaz.digitalchurch.app/event/amplified-youth-group/2027-03-07/
LOCATION:Pataskala Church of the Nazarene\, 8100 Hazelton Etna Road\, Pataskala\, OH\, 43062\, United States
END:VEVENT
BEGIN:VEVENT
DTSTART;TZID=America/New_York:20270310T183000
DTEND;TZID=America/New_York:20270310T183000
DTSTAMP:20260424T040124
CREATED:20221031T224349Z
LAST-MODIFIED:20221031T224349Z
UID:20053-1804703400-1804703400@pataskalanaz.digitalchurch.app
SUMMARY:Youth Group
DESCRIPTION:
URL:https://pataskalanaz.digitalchurch.app/event/youth-group/2027-03-10/
LOCATION:Pataskala Church of the Nazarene\, 8100 Hazelton Etna Road\, Pataskala\, OH\, 43062\, United States
CATEGORIES:Next Gen
END:VEVENT
BEGIN:VEVENT
DTSTART;TZID=America/New_York:20270314T180000
DTEND;TZID=America/New_York:20270314T180000
DTSTAMP:20260424T040124
CREATED:20240225T181847Z
LAST-MODIFIED:20240225T181847Z
UID:20058-1805047200-1805047200@pataskalanaz.digitalchurch.app
SUMMARY:Amplified: Youth Group
DESCRIPTION:
URL:https://pataskalanaz.digitalchurch.app/event/amplified-youth-group/2027-03-14/
LOCATION:Pataskala Church of the Nazarene\, 8100 Hazelton Etna Road\, Pataskala\, OH\, 43062\, United States
END:VEVENT
BEGIN:VEVENT
DTSTART;TZID=America/New_York:20270317T183000
DTEND;TZID=America/New_York:20270317T183000
DTSTAMP:20260424T040124
CREATED:20221031T224349Z
LAST-MODIFIED:20221031T224349Z
UID:20063-1805308200-1805308200@pataskalanaz.digitalchurch.app
SUMMARY:Youth Group
DESCRIPTION:
URL:https://pataskalanaz.digitalchurch.app/event/youth-group/2027-03-17/
LOCATION:Pataskala Church of the Nazarene\, 8100 Hazelton Etna Road\, Pataskala\, OH\, 43062\, United States
CATEGORIES:Next Gen
END:VEVENT
BEGIN:VEVENT
DTSTART;TZID=America/New_York:20270321T180000
DTEND;TZID=America/New_York:20270321T180000
DTSTAMP:20260424T040124
CREATED:20240225T181847Z
LAST-MODIFIED:20240225T181847Z
UID:20068-1805652000-1805652000@pataskalanaz.digitalchurch.app
SUMMARY:Amplified: Youth Group
DESCRIPTION:
URL:https://pataskalanaz.digitalchurch.app/event/amplified-youth-group/2027-03-21/
LOCATION:Pataskala Church of the Nazarene\, 8100 Hazelton Etna Road\, Pataskala\, OH\, 43062\, United States
END:VEVENT
BEGIN:VEVENT
DTSTART;TZID=America/New_York:20270324T183000
DTEND;TZID=America/New_York:20270324T183000
DTSTAMP:20260424T040124
CREATED:20221031T224349Z
LAST-MODIFIED:20221031T224349Z
UID:20073-1805913000-1805913000@pataskalanaz.digitalchurch.app
SUMMARY:Youth Group
DESCRIPTION:
URL:https://pataskalanaz.digitalchurch.app/event/youth-group/2027-03-24/
LOCATION:Pataskala Church of the Nazarene\, 8100 Hazelton Etna Road\, Pataskala\, OH\, 43062\, United States
CATEGORIES:Next Gen
END:VEVENT
BEGIN:VEVENT
DTSTART;TZID=America/New_York:20270328T180000
DTEND;TZID=America/New_York:20270328T180000
DTSTAMP:20260424T040124
CREATED:20240225T181847Z
LAST-MODIFIED:20240225T181847Z
UID:20078-1806256800-1806256800@pataskalanaz.digitalchurch.app
SUMMARY:Amplified: Youth Group
DESCRIPTION:
URL:https://pataskalanaz.digitalchurch.app/event/amplified-youth-group/2027-03-28/
LOCATION:Pataskala Church of the Nazarene\, 8100 Hazelton Etna Road\, Pataskala\, OH\, 43062\, United States
END:VEVENT
BEGIN:VEVENT
DTSTART;TZID=America/New_York:20270331T183000
DTEND;TZID=America/New_York:20270331T183000
DTSTAMP:20260424T040124
CREATED:20221031T224349Z
LAST-MODIFIED:20221031T224349Z
UID:20083-1806517800-1806517800@pataskalanaz.digitalchurch.app
SUMMARY:Youth Group
DESCRIPTION:
URL:https://pataskalanaz.digitalchurch.app/event/youth-group/2027-03-31/
LOCATION:Pataskala Church of the Nazarene\, 8100 Hazelton Etna Road\, Pataskala\, OH\, 43062\, United States
CATEGORIES:Next Gen
END:VEVENT
BEGIN:VEVENT
DTSTART;TZID=America/New_York:20270404T180000
DTEND;TZID=America/New_York:20270404T180000
DTSTAMP:20260424T040124
CREATED:20240225T181847Z
LAST-MODIFIED:20240225T181847Z
UID:20088-1806861600-1806861600@pataskalanaz.digitalchurch.app
SUMMARY:Amplified: Youth Group
DESCRIPTION:
URL:https://pataskalanaz.digitalchurch.app/event/amplified-youth-group/2027-04-04/
LOCATION:Pataskala Church of the Nazarene\, 8100 Hazelton Etna Road\, Pataskala\, OH\, 43062\, United States
END:VEVENT
BEGIN:VEVENT
DTSTART;TZID=America/New_York:20270407T183000
DTEND;TZID=America/New_York:20270407T183000
DTSTAMP:20260424T040124
CREATED:20221031T224349Z
LAST-MODIFIED:20221031T224349Z
UID:20093-1807122600-1807122600@pataskalanaz.digitalchurch.app
SUMMARY:Youth Group
DESCRIPTION:
URL:https://pataskalanaz.digitalchurch.app/event/youth-group/2027-04-07/
LOCATION:Pataskala Church of the Nazarene\, 8100 Hazelton Etna Road\, Pataskala\, OH\, 43062\, United States
CATEGORIES:Next Gen
END:VEVENT
END:VCALENDAR