BEGIN:VCALENDAR
VERSION:2.0
PRODID:-//Pataskala Church of the Nazarene - ECPv6.6.4//NONSGML v1.0//EN
CALSCALE:GREGORIAN
METHOD:PUBLISH
X-WR-CALNAME:Pataskala Church of the Nazarene
X-ORIGINAL-URL:https://pataskalanaz.digitalchurch.app
X-WR-CALDESC:Events for Pataskala Church of the Nazarene
REFRESH-INTERVAL;VALUE=DURATION:PT1H
X-Robots-Tag:noindex
X-PUBLISHED-TTL:PT1H
BEGIN:VTIMEZONE
TZID:America/New_York
BEGIN:DAYLIGHT
TZOFFSETFROM:-0500
TZOFFSETTO:-0400
TZNAME:EDT
DTSTART:20260308T070000
END:DAYLIGHT
BEGIN:STANDARD
TZOFFSETFROM:-0400
TZOFFSETTO:-0500
TZNAME:EST
DTSTART:20261101T060000
END:STANDARD
BEGIN:DAYLIGHT
TZOFFSETFROM:-0500
TZOFFSETTO:-0400
TZNAME:EDT
DTSTART:20270314T070000
END:DAYLIGHT
BEGIN:STANDARD
TZOFFSETFROM:-0400
TZOFFSETTO:-0500
TZNAME:EST
DTSTART:20271107T060000
END:STANDARD
END:VTIMEZONE
BEGIN:VEVENT
DTSTART;TZID=America/New_York:20261018T180000
DTEND;TZID=America/New_York:20261018T180000
DTSTAMP:20260423T092937
CREATED:20240225T181847Z
LAST-MODIFIED:20240225T181847Z
UID:19848-1792346400-1792346400@pataskalanaz.digitalchurch.app
SUMMARY:Amplified: Youth Group
DESCRIPTION:
URL:https://pataskalanaz.digitalchurch.app/event/amplified-youth-group/2026-10-18/
LOCATION:Pataskala Church of the Nazarene\, 8100 Hazelton Etna Road\, Pataskala\, OH\, 43062\, United States
END:VEVENT
BEGIN:VEVENT
DTSTART;TZID=America/New_York:20261021T183000
DTEND;TZID=America/New_York:20261021T183000
DTSTAMP:20260423T092937
CREATED:20221031T224349Z
LAST-MODIFIED:20221031T224349Z
UID:19853-1792607400-1792607400@pataskalanaz.digitalchurch.app
SUMMARY:Youth Group
DESCRIPTION:
URL:https://pataskalanaz.digitalchurch.app/event/youth-group/2026-10-21/
LOCATION:Pataskala Church of the Nazarene\, 8100 Hazelton Etna Road\, Pataskala\, OH\, 43062\, United States
CATEGORIES:Next Gen
END:VEVENT
BEGIN:VEVENT
DTSTART;TZID=America/New_York:20261025T180000
DTEND;TZID=America/New_York:20261025T180000
DTSTAMP:20260423T092937
CREATED:20240225T181847Z
LAST-MODIFIED:20240225T181847Z
UID:19858-1792951200-1792951200@pataskalanaz.digitalchurch.app
SUMMARY:Amplified: Youth Group
DESCRIPTION:
URL:https://pataskalanaz.digitalchurch.app/event/amplified-youth-group/2026-10-25/
LOCATION:Pataskala Church of the Nazarene\, 8100 Hazelton Etna Road\, Pataskala\, OH\, 43062\, United States
END:VEVENT
BEGIN:VEVENT
DTSTART;TZID=America/New_York:20261028T183000
DTEND;TZID=America/New_York:20261028T183000
DTSTAMP:20260423T092937
CREATED:20221031T224349Z
LAST-MODIFIED:20221031T224349Z
UID:19863-1793212200-1793212200@pataskalanaz.digitalchurch.app
SUMMARY:Youth Group
DESCRIPTION:
URL:https://pataskalanaz.digitalchurch.app/event/youth-group/2026-10-28/
LOCATION:Pataskala Church of the Nazarene\, 8100 Hazelton Etna Road\, Pataskala\, OH\, 43062\, United States
CATEGORIES:Next Gen
END:VEVENT
BEGIN:VEVENT
DTSTART;TZID=America/New_York:20261101T180000
DTEND;TZID=America/New_York:20261101T180000
DTSTAMP:20260423T092937
CREATED:20240225T181847Z
LAST-MODIFIED:20240225T181847Z
UID:19868-1793556000-1793556000@pataskalanaz.digitalchurch.app
SUMMARY:Amplified: Youth Group
DESCRIPTION:
URL:https://pataskalanaz.digitalchurch.app/event/amplified-youth-group/2026-11-01/
LOCATION:Pataskala Church of the Nazarene\, 8100 Hazelton Etna Road\, Pataskala\, OH\, 43062\, United States
END:VEVENT
BEGIN:VEVENT
DTSTART;TZID=America/New_York:20261104T183000
DTEND;TZID=America/New_York:20261104T183000
DTSTAMP:20260423T092937
CREATED:20221031T224349Z
LAST-MODIFIED:20221031T224349Z
UID:19873-1793817000-1793817000@pataskalanaz.digitalchurch.app
SUMMARY:Youth Group
DESCRIPTION:
URL:https://pataskalanaz.digitalchurch.app/event/youth-group/2026-11-04/
LOCATION:Pataskala Church of the Nazarene\, 8100 Hazelton Etna Road\, Pataskala\, OH\, 43062\, United States
CATEGORIES:Next Gen
END:VEVENT
BEGIN:VEVENT
DTSTART;TZID=America/New_York:20261108T180000
DTEND;TZID=America/New_York:20261108T180000
DTSTAMP:20260423T092937
CREATED:20240225T181847Z
LAST-MODIFIED:20240225T181847Z
UID:19878-1794160800-1794160800@pataskalanaz.digitalchurch.app
SUMMARY:Amplified: Youth Group
DESCRIPTION:
URL:https://pataskalanaz.digitalchurch.app/event/amplified-youth-group/2026-11-08/
LOCATION:Pataskala Church of the Nazarene\, 8100 Hazelton Etna Road\, Pataskala\, OH\, 43062\, United States
END:VEVENT
BEGIN:VEVENT
DTSTART;TZID=America/New_York:20261111T183000
DTEND;TZID=America/New_York:20261111T183000
DTSTAMP:20260423T092937
CREATED:20221031T224349Z
LAST-MODIFIED:20221031T224349Z
UID:19883-1794421800-1794421800@pataskalanaz.digitalchurch.app
SUMMARY:Youth Group
DESCRIPTION:
URL:https://pataskalanaz.digitalchurch.app/event/youth-group/2026-11-11/
LOCATION:Pataskala Church of the Nazarene\, 8100 Hazelton Etna Road\, Pataskala\, OH\, 43062\, United States
CATEGORIES:Next Gen
END:VEVENT
BEGIN:VEVENT
DTSTART;TZID=America/New_York:20261115T180000
DTEND;TZID=America/New_York:20261115T180000
DTSTAMP:20260423T092937
CREATED:20240225T181847Z
LAST-MODIFIED:20240225T181847Z
UID:19888-1794765600-1794765600@pataskalanaz.digitalchurch.app
SUMMARY:Amplified: Youth Group
DESCRIPTION:
URL:https://pataskalanaz.digitalchurch.app/event/amplified-youth-group/2026-11-15/
LOCATION:Pataskala Church of the Nazarene\, 8100 Hazelton Etna Road\, Pataskala\, OH\, 43062\, United States
END:VEVENT
BEGIN:VEVENT
DTSTART;TZID=America/New_York:20261118T183000
DTEND;TZID=America/New_York:20261118T183000
DTSTAMP:20260423T092937
CREATED:20221031T224349Z
LAST-MODIFIED:20221031T224349Z
UID:19893-1795026600-1795026600@pataskalanaz.digitalchurch.app
SUMMARY:Youth Group
DESCRIPTION:
URL:https://pataskalanaz.digitalchurch.app/event/youth-group/2026-11-18/
LOCATION:Pataskala Church of the Nazarene\, 8100 Hazelton Etna Road\, Pataskala\, OH\, 43062\, United States
CATEGORIES:Next Gen
END:VEVENT
BEGIN:VEVENT
DTSTART;TZID=America/New_York:20261122T180000
DTEND;TZID=America/New_York:20261122T180000
DTSTAMP:20260423T092937
CREATED:20240225T181847Z
LAST-MODIFIED:20240225T181847Z
UID:19898-1795370400-1795370400@pataskalanaz.digitalchurch.app
SUMMARY:Amplified: Youth Group
DESCRIPTION:
URL:https://pataskalanaz.digitalchurch.app/event/amplified-youth-group/2026-11-22/
LOCATION:Pataskala Church of the Nazarene\, 8100 Hazelton Etna Road\, Pataskala\, OH\, 43062\, United States
END:VEVENT
BEGIN:VEVENT
DTSTART;TZID=America/New_York:20261125T183000
DTEND;TZID=America/New_York:20261125T183000
DTSTAMP:20260423T092937
CREATED:20221031T224349Z
LAST-MODIFIED:20221031T224349Z
UID:19903-1795631400-1795631400@pataskalanaz.digitalchurch.app
SUMMARY:Youth Group
DESCRIPTION:
URL:https://pataskalanaz.digitalchurch.app/event/youth-group/2026-11-25/
LOCATION:Pataskala Church of the Nazarene\, 8100 Hazelton Etna Road\, Pataskala\, OH\, 43062\, United States
CATEGORIES:Next Gen
END:VEVENT
BEGIN:VEVENT
DTSTART;TZID=America/New_York:20261129T180000
DTEND;TZID=America/New_York:20261129T180000
DTSTAMP:20260423T092937
CREATED:20240225T181847Z
LAST-MODIFIED:20240225T181847Z
UID:19908-1795975200-1795975200@pataskalanaz.digitalchurch.app
SUMMARY:Amplified: Youth Group
DESCRIPTION:
URL:https://pataskalanaz.digitalchurch.app/event/amplified-youth-group/2026-11-29/
LOCATION:Pataskala Church of the Nazarene\, 8100 Hazelton Etna Road\, Pataskala\, OH\, 43062\, United States
END:VEVENT
BEGIN:VEVENT
DTSTART;TZID=America/New_York:20261202T183000
DTEND;TZID=America/New_York:20261202T183000
DTSTAMP:20260423T092937
CREATED:20221031T224349Z
LAST-MODIFIED:20221031T224349Z
UID:19913-1796236200-1796236200@pataskalanaz.digitalchurch.app
SUMMARY:Youth Group
DESCRIPTION:
URL:https://pataskalanaz.digitalchurch.app/event/youth-group/2026-12-02/
LOCATION:Pataskala Church of the Nazarene\, 8100 Hazelton Etna Road\, Pataskala\, OH\, 43062\, United States
CATEGORIES:Next Gen
END:VEVENT
BEGIN:VEVENT
DTSTART;TZID=America/New_York:20261206T180000
DTEND;TZID=America/New_York:20261206T180000
DTSTAMP:20260423T092937
CREATED:20240225T181847Z
LAST-MODIFIED:20240225T181847Z
UID:19918-1796580000-1796580000@pataskalanaz.digitalchurch.app
SUMMARY:Amplified: Youth Group
DESCRIPTION:
URL:https://pataskalanaz.digitalchurch.app/event/amplified-youth-group/2026-12-06/
LOCATION:Pataskala Church of the Nazarene\, 8100 Hazelton Etna Road\, Pataskala\, OH\, 43062\, United States
END:VEVENT
BEGIN:VEVENT
DTSTART;TZID=America/New_York:20261209T183000
DTEND;TZID=America/New_York:20261209T183000
DTSTAMP:20260423T092937
CREATED:20221031T224349Z
LAST-MODIFIED:20221031T224349Z
UID:19923-1796841000-1796841000@pataskalanaz.digitalchurch.app
SUMMARY:Youth Group
DESCRIPTION:
URL:https://pataskalanaz.digitalchurch.app/event/youth-group/2026-12-09/
LOCATION:Pataskala Church of the Nazarene\, 8100 Hazelton Etna Road\, Pataskala\, OH\, 43062\, United States
CATEGORIES:Next Gen
END:VEVENT
BEGIN:VEVENT
DTSTART;TZID=America/New_York:20261213T180000
DTEND;TZID=America/New_York:20261213T180000
DTSTAMP:20260423T092937
CREATED:20240225T181847Z
LAST-MODIFIED:20240225T181847Z
UID:19928-1797184800-1797184800@pataskalanaz.digitalchurch.app
SUMMARY:Amplified: Youth Group
DESCRIPTION:
URL:https://pataskalanaz.digitalchurch.app/event/amplified-youth-group/2026-12-13/
LOCATION:Pataskala Church of the Nazarene\, 8100 Hazelton Etna Road\, Pataskala\, OH\, 43062\, United States
END:VEVENT
BEGIN:VEVENT
DTSTART;TZID=America/New_York:20261216T183000
DTEND;TZID=America/New_York:20261216T183000
DTSTAMP:20260423T092937
CREATED:20221031T224349Z
LAST-MODIFIED:20221031T224349Z
UID:19933-1797445800-1797445800@pataskalanaz.digitalchurch.app
SUMMARY:Youth Group
DESCRIPTION:
URL:https://pataskalanaz.digitalchurch.app/event/youth-group/2026-12-16/
LOCATION:Pataskala Church of the Nazarene\, 8100 Hazelton Etna Road\, Pataskala\, OH\, 43062\, United States
CATEGORIES:Next Gen
END:VEVENT
BEGIN:VEVENT
DTSTART;TZID=America/New_York:20261220T180000
DTEND;TZID=America/New_York:20261220T180000
DTSTAMP:20260423T092937
CREATED:20240225T181847Z
LAST-MODIFIED:20240225T181847Z
UID:19938-1797789600-1797789600@pataskalanaz.digitalchurch.app
SUMMARY:Amplified: Youth Group
DESCRIPTION:
URL:https://pataskalanaz.digitalchurch.app/event/amplified-youth-group/2026-12-20/
LOCATION:Pataskala Church of the Nazarene\, 8100 Hazelton Etna Road\, Pataskala\, OH\, 43062\, United States
END:VEVENT
BEGIN:VEVENT
DTSTART;TZID=America/New_York:20261223T183000
DTEND;TZID=America/New_York:20261223T183000
DTSTAMP:20260423T092937
CREATED:20221031T224349Z
LAST-MODIFIED:20221031T224349Z
UID:19943-1798050600-1798050600@pataskalanaz.digitalchurch.app
SUMMARY:Youth Group
DESCRIPTION:
URL:https://pataskalanaz.digitalchurch.app/event/youth-group/2026-12-23/
LOCATION:Pataskala Church of the Nazarene\, 8100 Hazelton Etna Road\, Pataskala\, OH\, 43062\, United States
CATEGORIES:Next Gen
END:VEVENT
BEGIN:VEVENT
DTSTART;TZID=America/New_York:20261227T180000
DTEND;TZID=America/New_York:20261227T180000
DTSTAMP:20260423T092937
CREATED:20240225T181847Z
LAST-MODIFIED:20240225T181847Z
UID:19948-1798394400-1798394400@pataskalanaz.digitalchurch.app
SUMMARY:Amplified: Youth Group
DESCRIPTION:
URL:https://pataskalanaz.digitalchurch.app/event/amplified-youth-group/2026-12-27/
LOCATION:Pataskala Church of the Nazarene\, 8100 Hazelton Etna Road\, Pataskala\, OH\, 43062\, United States
END:VEVENT
BEGIN:VEVENT
DTSTART;TZID=America/New_York:20261230T183000
DTEND;TZID=America/New_York:20261230T183000
DTSTAMP:20260423T092937
CREATED:20221031T224349Z
LAST-MODIFIED:20221031T224349Z
UID:19953-1798655400-1798655400@pataskalanaz.digitalchurch.app
SUMMARY:Youth Group
DESCRIPTION:
URL:https://pataskalanaz.digitalchurch.app/event/youth-group/2026-12-30/
LOCATION:Pataskala Church of the Nazarene\, 8100 Hazelton Etna Road\, Pataskala\, OH\, 43062\, United States
CATEGORIES:Next Gen
END:VEVENT
BEGIN:VEVENT
DTSTART;TZID=America/New_York:20270103T180000
DTEND;TZID=America/New_York:20270103T180000
DTSTAMP:20260423T092937
CREATED:20240225T181847Z
LAST-MODIFIED:20240225T181847Z
UID:19958-1798999200-1798999200@pataskalanaz.digitalchurch.app
SUMMARY:Amplified: Youth Group
DESCRIPTION:
URL:https://pataskalanaz.digitalchurch.app/event/amplified-youth-group/2027-01-03/
LOCATION:Pataskala Church of the Nazarene\, 8100 Hazelton Etna Road\, Pataskala\, OH\, 43062\, United States
END:VEVENT
BEGIN:VEVENT
DTSTART;TZID=America/New_York:20270106T183000
DTEND;TZID=America/New_York:20270106T183000
DTSTAMP:20260423T092937
CREATED:20221031T224349Z
LAST-MODIFIED:20221031T224349Z
UID:19963-1799260200-1799260200@pataskalanaz.digitalchurch.app
SUMMARY:Youth Group
DESCRIPTION:
URL:https://pataskalanaz.digitalchurch.app/event/youth-group/2027-01-06/
LOCATION:Pataskala Church of the Nazarene\, 8100 Hazelton Etna Road\, Pataskala\, OH\, 43062\, United States
CATEGORIES:Next Gen
END:VEVENT
BEGIN:VEVENT
DTSTART;TZID=America/New_York:20270110T180000
DTEND;TZID=America/New_York:20270110T180000
DTSTAMP:20260423T092937
CREATED:20240225T181847Z
LAST-MODIFIED:20240225T181847Z
UID:19968-1799604000-1799604000@pataskalanaz.digitalchurch.app
SUMMARY:Amplified: Youth Group
DESCRIPTION:
URL:https://pataskalanaz.digitalchurch.app/event/amplified-youth-group/2027-01-10/
LOCATION:Pataskala Church of the Nazarene\, 8100 Hazelton Etna Road\, Pataskala\, OH\, 43062\, United States
END:VEVENT
BEGIN:VEVENT
DTSTART;TZID=America/New_York:20270113T183000
DTEND;TZID=America/New_York:20270113T183000
DTSTAMP:20260423T092937
CREATED:20221031T224349Z
LAST-MODIFIED:20221031T224349Z
UID:19973-1799865000-1799865000@pataskalanaz.digitalchurch.app
SUMMARY:Youth Group
DESCRIPTION:
URL:https://pataskalanaz.digitalchurch.app/event/youth-group/2027-01-13/
LOCATION:Pataskala Church of the Nazarene\, 8100 Hazelton Etna Road\, Pataskala\, OH\, 43062\, United States
CATEGORIES:Next Gen
END:VEVENT
BEGIN:VEVENT
DTSTART;TZID=America/New_York:20270117T180000
DTEND;TZID=America/New_York:20270117T180000
DTSTAMP:20260423T092937
CREATED:20240225T181847Z
LAST-MODIFIED:20240225T181847Z
UID:19978-1800208800-1800208800@pataskalanaz.digitalchurch.app
SUMMARY:Amplified: Youth Group
DESCRIPTION:
URL:https://pataskalanaz.digitalchurch.app/event/amplified-youth-group/2027-01-17/
LOCATION:Pataskala Church of the Nazarene\, 8100 Hazelton Etna Road\, Pataskala\, OH\, 43062\, United States
END:VEVENT
BEGIN:VEVENT
DTSTART;TZID=America/New_York:20270120T183000
DTEND;TZID=America/New_York:20270120T183000
DTSTAMP:20260423T092937
CREATED:20221031T224349Z
LAST-MODIFIED:20221031T224349Z
UID:19983-1800469800-1800469800@pataskalanaz.digitalchurch.app
SUMMARY:Youth Group
DESCRIPTION:
URL:https://pataskalanaz.digitalchurch.app/event/youth-group/2027-01-20/
LOCATION:Pataskala Church of the Nazarene\, 8100 Hazelton Etna Road\, Pataskala\, OH\, 43062\, United States
CATEGORIES:Next Gen
END:VEVENT
BEGIN:VEVENT
DTSTART;TZID=America/New_York:20270124T180000
DTEND;TZID=America/New_York:20270124T180000
DTSTAMP:20260423T092937
CREATED:20240225T181847Z
LAST-MODIFIED:20240225T181847Z
UID:19988-1800813600-1800813600@pataskalanaz.digitalchurch.app
SUMMARY:Amplified: Youth Group
DESCRIPTION:
URL:https://pataskalanaz.digitalchurch.app/event/amplified-youth-group/2027-01-24/
LOCATION:Pataskala Church of the Nazarene\, 8100 Hazelton Etna Road\, Pataskala\, OH\, 43062\, United States
END:VEVENT
BEGIN:VEVENT
DTSTART;TZID=America/New_York:20270127T183000
DTEND;TZID=America/New_York:20270127T183000
DTSTAMP:20260423T092937
CREATED:20221031T224349Z
LAST-MODIFIED:20221031T224349Z
UID:19993-1801074600-1801074600@pataskalanaz.digitalchurch.app
SUMMARY:Youth Group
DESCRIPTION:
URL:https://pataskalanaz.digitalchurch.app/event/youth-group/2027-01-27/
LOCATION:Pataskala Church of the Nazarene\, 8100 Hazelton Etna Road\, Pataskala\, OH\, 43062\, United States
CATEGORIES:Next Gen
END:VEVENT
END:VCALENDAR