BEGIN:VCALENDAR
VERSION:2.0
PRODID:-//Pataskala Church of the Nazarene - ECPv6.6.4//NONSGML v1.0//EN
CALSCALE:GREGORIAN
METHOD:PUBLISH
X-WR-CALNAME:Pataskala Church of the Nazarene
X-ORIGINAL-URL:https://pataskalanaz.digitalchurch.app
X-WR-CALDESC:Events for Pataskala Church of the Nazarene
REFRESH-INTERVAL;VALUE=DURATION:PT1H
X-Robots-Tag:noindex
X-PUBLISHED-TTL:PT1H
BEGIN:VTIMEZONE
TZID:America/New_York
BEGIN:DAYLIGHT
TZOFFSETFROM:-0500
TZOFFSETTO:-0400
TZNAME:EDT
DTSTART:20260308T070000
END:DAYLIGHT
BEGIN:STANDARD
TZOFFSETFROM:-0400
TZOFFSETTO:-0500
TZNAME:EST
DTSTART:20261101T060000
END:STANDARD
END:VTIMEZONE
BEGIN:VEVENT
DTSTART;TZID=America/New_York:20260809T180000
DTEND;TZID=America/New_York:20260809T180000
DTSTAMP:20260422T200928
CREATED:20240225T181847Z
LAST-MODIFIED:20240225T181847Z
UID:19721-1786298400-1786298400@pataskalanaz.digitalchurch.app
SUMMARY:Amplified: Youth Group
DESCRIPTION:
URL:https://pataskalanaz.digitalchurch.app/event/amplified-youth-group/2026-08-09/
LOCATION:Pataskala Church of the Nazarene\, 8100 Hazelton Etna Road\, Pataskala\, OH\, 43062\, United States
END:VEVENT
BEGIN:VEVENT
DTSTART;TZID=America/New_York:20260812T183000
DTEND;TZID=America/New_York:20260812T183000
DTSTAMP:20260422T200928
CREATED:20221031T224349Z
LAST-MODIFIED:20221031T224349Z
UID:19735-1786559400-1786559400@pataskalanaz.digitalchurch.app
SUMMARY:Youth Group
DESCRIPTION:
URL:https://pataskalanaz.digitalchurch.app/event/youth-group/2026-08-12/
LOCATION:Pataskala Church of the Nazarene\, 8100 Hazelton Etna Road\, Pataskala\, OH\, 43062\, United States
CATEGORIES:Next Gen
END:VEVENT
BEGIN:VEVENT
DTSTART;TZID=America/New_York:20260816T180000
DTEND;TZID=America/New_York:20260816T180000
DTSTAMP:20260422T200928
CREATED:20240225T181847Z
LAST-MODIFIED:20240225T181847Z
UID:19740-1786903200-1786903200@pataskalanaz.digitalchurch.app
SUMMARY:Amplified: Youth Group
DESCRIPTION:
URL:https://pataskalanaz.digitalchurch.app/event/amplified-youth-group/2026-08-16/
LOCATION:Pataskala Church of the Nazarene\, 8100 Hazelton Etna Road\, Pataskala\, OH\, 43062\, United States
END:VEVENT
BEGIN:VEVENT
DTSTART;TZID=America/New_York:20260819T183000
DTEND;TZID=America/New_York:20260819T183000
DTSTAMP:20260422T200928
CREATED:20221031T224349Z
LAST-MODIFIED:20221031T224349Z
UID:19746-1787164200-1787164200@pataskalanaz.digitalchurch.app
SUMMARY:Youth Group
DESCRIPTION:
URL:https://pataskalanaz.digitalchurch.app/event/youth-group/2026-08-19/
LOCATION:Pataskala Church of the Nazarene\, 8100 Hazelton Etna Road\, Pataskala\, OH\, 43062\, United States
CATEGORIES:Next Gen
END:VEVENT
BEGIN:VEVENT
DTSTART;TZID=America/New_York:20260823T180000
DTEND;TZID=America/New_York:20260823T180000
DTSTAMP:20260422T200928
CREATED:20240225T181847Z
LAST-MODIFIED:20240225T181847Z
UID:19754-1787508000-1787508000@pataskalanaz.digitalchurch.app
SUMMARY:Amplified: Youth Group
DESCRIPTION:
URL:https://pataskalanaz.digitalchurch.app/event/amplified-youth-group/2026-08-23/
LOCATION:Pataskala Church of the Nazarene\, 8100 Hazelton Etna Road\, Pataskala\, OH\, 43062\, United States
END:VEVENT
BEGIN:VEVENT
DTSTART;TZID=America/New_York:20260826T183000
DTEND;TZID=America/New_York:20260826T183000
DTSTAMP:20260422T200928
CREATED:20221031T224349Z
LAST-MODIFIED:20221031T224349Z
UID:19762-1787769000-1787769000@pataskalanaz.digitalchurch.app
SUMMARY:Youth Group
DESCRIPTION:
URL:https://pataskalanaz.digitalchurch.app/event/youth-group/2026-08-26/
LOCATION:Pataskala Church of the Nazarene\, 8100 Hazelton Etna Road\, Pataskala\, OH\, 43062\, United States
CATEGORIES:Next Gen
END:VEVENT
BEGIN:VEVENT
DTSTART;TZID=America/New_York:20260830T180000
DTEND;TZID=America/New_York:20260830T180000
DTSTAMP:20260422T200928
CREATED:20240225T181847Z
LAST-MODIFIED:20240225T181847Z
UID:19767-1788112800-1788112800@pataskalanaz.digitalchurch.app
SUMMARY:Amplified: Youth Group
DESCRIPTION:
URL:https://pataskalanaz.digitalchurch.app/event/amplified-youth-group/2026-08-30/
LOCATION:Pataskala Church of the Nazarene\, 8100 Hazelton Etna Road\, Pataskala\, OH\, 43062\, United States
END:VEVENT
BEGIN:VEVENT
DTSTART;TZID=America/New_York:20260902T183000
DTEND;TZID=America/New_York:20260902T183000
DTSTAMP:20260422T200928
CREATED:20221031T224349Z
LAST-MODIFIED:20221031T224349Z
UID:19772-1788373800-1788373800@pataskalanaz.digitalchurch.app
SUMMARY:Youth Group
DESCRIPTION:
URL:https://pataskalanaz.digitalchurch.app/event/youth-group/2026-09-02/
LOCATION:Pataskala Church of the Nazarene\, 8100 Hazelton Etna Road\, Pataskala\, OH\, 43062\, United States
CATEGORIES:Next Gen
END:VEVENT
BEGIN:VEVENT
DTSTART;TZID=America/New_York:20260906T180000
DTEND;TZID=America/New_York:20260906T180000
DTSTAMP:20260422T200928
CREATED:20240225T181847Z
LAST-MODIFIED:20240225T181847Z
UID:19787-1788717600-1788717600@pataskalanaz.digitalchurch.app
SUMMARY:Amplified: Youth Group
DESCRIPTION:
URL:https://pataskalanaz.digitalchurch.app/event/amplified-youth-group/2026-09-06/
LOCATION:Pataskala Church of the Nazarene\, 8100 Hazelton Etna Road\, Pataskala\, OH\, 43062\, United States
END:VEVENT
BEGIN:VEVENT
DTSTART;TZID=America/New_York:20260909T183000
DTEND;TZID=America/New_York:20260909T183000
DTSTAMP:20260422T200928
CREATED:20221031T224349Z
LAST-MODIFIED:20221031T224349Z
UID:19792-1788978600-1788978600@pataskalanaz.digitalchurch.app
SUMMARY:Youth Group
DESCRIPTION:
URL:https://pataskalanaz.digitalchurch.app/event/youth-group/2026-09-09/
LOCATION:Pataskala Church of the Nazarene\, 8100 Hazelton Etna Road\, Pataskala\, OH\, 43062\, United States
CATEGORIES:Next Gen
END:VEVENT
BEGIN:VEVENT
DTSTART;TZID=America/New_York:20260913T180000
DTEND;TZID=America/New_York:20260913T180000
DTSTAMP:20260422T200928
CREATED:20240225T181847Z
LAST-MODIFIED:20240225T181847Z
UID:19797-1789322400-1789322400@pataskalanaz.digitalchurch.app
SUMMARY:Amplified: Youth Group
DESCRIPTION:
URL:https://pataskalanaz.digitalchurch.app/event/amplified-youth-group/2026-09-13/
LOCATION:Pataskala Church of the Nazarene\, 8100 Hazelton Etna Road\, Pataskala\, OH\, 43062\, United States
END:VEVENT
BEGIN:VEVENT
DTSTART;TZID=America/New_York:20260916T183000
DTEND;TZID=America/New_York:20260916T183000
DTSTAMP:20260422T200928
CREATED:20221031T224349Z
LAST-MODIFIED:20221031T224349Z
UID:19803-1789583400-1789583400@pataskalanaz.digitalchurch.app
SUMMARY:Youth Group
DESCRIPTION:
URL:https://pataskalanaz.digitalchurch.app/event/youth-group/2026-09-16/
LOCATION:Pataskala Church of the Nazarene\, 8100 Hazelton Etna Road\, Pataskala\, OH\, 43062\, United States
CATEGORIES:Next Gen
END:VEVENT
BEGIN:VEVENT
DTSTART;TZID=America/New_York:20260920T180000
DTEND;TZID=America/New_York:20260920T180000
DTSTAMP:20260422T200928
CREATED:20240225T181847Z
LAST-MODIFIED:20240225T181847Z
UID:19808-1789927200-1789927200@pataskalanaz.digitalchurch.app
SUMMARY:Amplified: Youth Group
DESCRIPTION:
URL:https://pataskalanaz.digitalchurch.app/event/amplified-youth-group/2026-09-20/
LOCATION:Pataskala Church of the Nazarene\, 8100 Hazelton Etna Road\, Pataskala\, OH\, 43062\, United States
END:VEVENT
BEGIN:VEVENT
DTSTART;TZID=America/New_York:20260923T183000
DTEND;TZID=America/New_York:20260923T183000
DTSTAMP:20260422T200928
CREATED:20221031T224349Z
LAST-MODIFIED:20221031T224349Z
UID:19813-1790188200-1790188200@pataskalanaz.digitalchurch.app
SUMMARY:Youth Group
DESCRIPTION:
URL:https://pataskalanaz.digitalchurch.app/event/youth-group/2026-09-23/
LOCATION:Pataskala Church of the Nazarene\, 8100 Hazelton Etna Road\, Pataskala\, OH\, 43062\, United States
CATEGORIES:Next Gen
END:VEVENT
BEGIN:VEVENT
DTSTART;TZID=America/New_York:20260927T180000
DTEND;TZID=America/New_York:20260927T180000
DTSTAMP:20260422T200928
CREATED:20240225T181847Z
LAST-MODIFIED:20240225T181847Z
UID:19818-1790532000-1790532000@pataskalanaz.digitalchurch.app
SUMMARY:Amplified: Youth Group
DESCRIPTION:
URL:https://pataskalanaz.digitalchurch.app/event/amplified-youth-group/2026-09-27/
LOCATION:Pataskala Church of the Nazarene\, 8100 Hazelton Etna Road\, Pataskala\, OH\, 43062\, United States
END:VEVENT
BEGIN:VEVENT
DTSTART;TZID=America/New_York:20260930T183000
DTEND;TZID=America/New_York:20260930T183000
DTSTAMP:20260422T200928
CREATED:20221031T224349Z
LAST-MODIFIED:20221031T224349Z
UID:19823-1790793000-1790793000@pataskalanaz.digitalchurch.app
SUMMARY:Youth Group
DESCRIPTION:
URL:https://pataskalanaz.digitalchurch.app/event/youth-group/2026-09-30/
LOCATION:Pataskala Church of the Nazarene\, 8100 Hazelton Etna Road\, Pataskala\, OH\, 43062\, United States
CATEGORIES:Next Gen
END:VEVENT
BEGIN:VEVENT
DTSTART;TZID=America/New_York:20261004T180000
DTEND;TZID=America/New_York:20261004T180000
DTSTAMP:20260422T200928
CREATED:20240225T181847Z
LAST-MODIFIED:20240225T181847Z
UID:19828-1791136800-1791136800@pataskalanaz.digitalchurch.app
SUMMARY:Amplified: Youth Group
DESCRIPTION:
URL:https://pataskalanaz.digitalchurch.app/event/amplified-youth-group/2026-10-04/
LOCATION:Pataskala Church of the Nazarene\, 8100 Hazelton Etna Road\, Pataskala\, OH\, 43062\, United States
END:VEVENT
BEGIN:VEVENT
DTSTART;TZID=America/New_York:20261007T183000
DTEND;TZID=America/New_York:20261007T183000
DTSTAMP:20260422T200928
CREATED:20221031T224349Z
LAST-MODIFIED:20221031T224349Z
UID:19833-1791397800-1791397800@pataskalanaz.digitalchurch.app
SUMMARY:Youth Group
DESCRIPTION:
URL:https://pataskalanaz.digitalchurch.app/event/youth-group/2026-10-07/
LOCATION:Pataskala Church of the Nazarene\, 8100 Hazelton Etna Road\, Pataskala\, OH\, 43062\, United States
CATEGORIES:Next Gen
END:VEVENT
BEGIN:VEVENT
DTSTART;TZID=America/New_York:20261011T180000
DTEND;TZID=America/New_York:20261011T180000
DTSTAMP:20260422T200928
CREATED:20240225T181847Z
LAST-MODIFIED:20240225T181847Z
UID:19838-1791741600-1791741600@pataskalanaz.digitalchurch.app
SUMMARY:Amplified: Youth Group
DESCRIPTION:
URL:https://pataskalanaz.digitalchurch.app/event/amplified-youth-group/2026-10-11/
LOCATION:Pataskala Church of the Nazarene\, 8100 Hazelton Etna Road\, Pataskala\, OH\, 43062\, United States
END:VEVENT
BEGIN:VEVENT
DTSTART;TZID=America/New_York:20261014T183000
DTEND;TZID=America/New_York:20261014T183000
DTSTAMP:20260422T200928
CREATED:20221031T224349Z
LAST-MODIFIED:20221031T224349Z
UID:19843-1792002600-1792002600@pataskalanaz.digitalchurch.app
SUMMARY:Youth Group
DESCRIPTION:
URL:https://pataskalanaz.digitalchurch.app/event/youth-group/2026-10-14/
LOCATION:Pataskala Church of the Nazarene\, 8100 Hazelton Etna Road\, Pataskala\, OH\, 43062\, United States
CATEGORIES:Next Gen
END:VEVENT
BEGIN:VEVENT
DTSTART;TZID=America/New_York:20261018T180000
DTEND;TZID=America/New_York:20261018T180000
DTSTAMP:20260422T200928
CREATED:20240225T181847Z
LAST-MODIFIED:20240225T181847Z
UID:19848-1792346400-1792346400@pataskalanaz.digitalchurch.app
SUMMARY:Amplified: Youth Group
DESCRIPTION:
URL:https://pataskalanaz.digitalchurch.app/event/amplified-youth-group/2026-10-18/
LOCATION:Pataskala Church of the Nazarene\, 8100 Hazelton Etna Road\, Pataskala\, OH\, 43062\, United States
END:VEVENT
BEGIN:VEVENT
DTSTART;TZID=America/New_York:20261021T183000
DTEND;TZID=America/New_York:20261021T183000
DTSTAMP:20260422T200928
CREATED:20221031T224349Z
LAST-MODIFIED:20221031T224349Z
UID:19853-1792607400-1792607400@pataskalanaz.digitalchurch.app
SUMMARY:Youth Group
DESCRIPTION:
URL:https://pataskalanaz.digitalchurch.app/event/youth-group/2026-10-21/
LOCATION:Pataskala Church of the Nazarene\, 8100 Hazelton Etna Road\, Pataskala\, OH\, 43062\, United States
CATEGORIES:Next Gen
END:VEVENT
BEGIN:VEVENT
DTSTART;TZID=America/New_York:20261025T180000
DTEND;TZID=America/New_York:20261025T180000
DTSTAMP:20260422T200928
CREATED:20240225T181847Z
LAST-MODIFIED:20240225T181847Z
UID:19858-1792951200-1792951200@pataskalanaz.digitalchurch.app
SUMMARY:Amplified: Youth Group
DESCRIPTION:
URL:https://pataskalanaz.digitalchurch.app/event/amplified-youth-group/2026-10-25/
LOCATION:Pataskala Church of the Nazarene\, 8100 Hazelton Etna Road\, Pataskala\, OH\, 43062\, United States
END:VEVENT
BEGIN:VEVENT
DTSTART;TZID=America/New_York:20261028T183000
DTEND;TZID=America/New_York:20261028T183000
DTSTAMP:20260422T200928
CREATED:20221031T224349Z
LAST-MODIFIED:20221031T224349Z
UID:19863-1793212200-1793212200@pataskalanaz.digitalchurch.app
SUMMARY:Youth Group
DESCRIPTION:
URL:https://pataskalanaz.digitalchurch.app/event/youth-group/2026-10-28/
LOCATION:Pataskala Church of the Nazarene\, 8100 Hazelton Etna Road\, Pataskala\, OH\, 43062\, United States
CATEGORIES:Next Gen
END:VEVENT
BEGIN:VEVENT
DTSTART;TZID=America/New_York:20261101T180000
DTEND;TZID=America/New_York:20261101T180000
DTSTAMP:20260422T200928
CREATED:20240225T181847Z
LAST-MODIFIED:20240225T181847Z
UID:19868-1793556000-1793556000@pataskalanaz.digitalchurch.app
SUMMARY:Amplified: Youth Group
DESCRIPTION:
URL:https://pataskalanaz.digitalchurch.app/event/amplified-youth-group/2026-11-01/
LOCATION:Pataskala Church of the Nazarene\, 8100 Hazelton Etna Road\, Pataskala\, OH\, 43062\, United States
END:VEVENT
BEGIN:VEVENT
DTSTART;TZID=America/New_York:20261104T183000
DTEND;TZID=America/New_York:20261104T183000
DTSTAMP:20260422T200928
CREATED:20221031T224349Z
LAST-MODIFIED:20221031T224349Z
UID:19873-1793817000-1793817000@pataskalanaz.digitalchurch.app
SUMMARY:Youth Group
DESCRIPTION:
URL:https://pataskalanaz.digitalchurch.app/event/youth-group/2026-11-04/
LOCATION:Pataskala Church of the Nazarene\, 8100 Hazelton Etna Road\, Pataskala\, OH\, 43062\, United States
CATEGORIES:Next Gen
END:VEVENT
BEGIN:VEVENT
DTSTART;TZID=America/New_York:20261108T180000
DTEND;TZID=America/New_York:20261108T180000
DTSTAMP:20260422T200928
CREATED:20240225T181847Z
LAST-MODIFIED:20240225T181847Z
UID:19878-1794160800-1794160800@pataskalanaz.digitalchurch.app
SUMMARY:Amplified: Youth Group
DESCRIPTION:
URL:https://pataskalanaz.digitalchurch.app/event/amplified-youth-group/2026-11-08/
LOCATION:Pataskala Church of the Nazarene\, 8100 Hazelton Etna Road\, Pataskala\, OH\, 43062\, United States
END:VEVENT
BEGIN:VEVENT
DTSTART;TZID=America/New_York:20261111T183000
DTEND;TZID=America/New_York:20261111T183000
DTSTAMP:20260422T200928
CREATED:20221031T224349Z
LAST-MODIFIED:20221031T224349Z
UID:19883-1794421800-1794421800@pataskalanaz.digitalchurch.app
SUMMARY:Youth Group
DESCRIPTION:
URL:https://pataskalanaz.digitalchurch.app/event/youth-group/2026-11-11/
LOCATION:Pataskala Church of the Nazarene\, 8100 Hazelton Etna Road\, Pataskala\, OH\, 43062\, United States
CATEGORIES:Next Gen
END:VEVENT
BEGIN:VEVENT
DTSTART;TZID=America/New_York:20261115T180000
DTEND;TZID=America/New_York:20261115T180000
DTSTAMP:20260422T200928
CREATED:20240225T181847Z
LAST-MODIFIED:20240225T181847Z
UID:19888-1794765600-1794765600@pataskalanaz.digitalchurch.app
SUMMARY:Amplified: Youth Group
DESCRIPTION:
URL:https://pataskalanaz.digitalchurch.app/event/amplified-youth-group/2026-11-15/
LOCATION:Pataskala Church of the Nazarene\, 8100 Hazelton Etna Road\, Pataskala\, OH\, 43062\, United States
END:VEVENT
BEGIN:VEVENT
DTSTART;TZID=America/New_York:20261118T183000
DTEND;TZID=America/New_York:20261118T183000
DTSTAMP:20260422T200928
CREATED:20221031T224349Z
LAST-MODIFIED:20221031T224349Z
UID:19893-1795026600-1795026600@pataskalanaz.digitalchurch.app
SUMMARY:Youth Group
DESCRIPTION:
URL:https://pataskalanaz.digitalchurch.app/event/youth-group/2026-11-18/
LOCATION:Pataskala Church of the Nazarene\, 8100 Hazelton Etna Road\, Pataskala\, OH\, 43062\, United States
CATEGORIES:Next Gen
END:VEVENT
END:VCALENDAR