BEGIN:VCALENDAR
VERSION:2.0
PRODID:-//Pataskala Church of the Nazarene - ECPv6.6.4//NONSGML v1.0//EN
CALSCALE:GREGORIAN
METHOD:PUBLISH
X-WR-CALNAME:Pataskala Church of the Nazarene
X-ORIGINAL-URL:https://pataskalanaz.digitalchurch.app
X-WR-CALDESC:Events for Pataskala Church of the Nazarene
REFRESH-INTERVAL;VALUE=DURATION:PT1H
X-Robots-Tag:noindex
X-PUBLISHED-TTL:PT1H
BEGIN:VTIMEZONE
TZID:America/New_York
BEGIN:DAYLIGHT
TZOFFSETFROM:-0500
TZOFFSETTO:-0400
TZNAME:EDT
DTSTART:20270314T070000
END:DAYLIGHT
BEGIN:STANDARD
TZOFFSETFROM:-0400
TZOFFSETTO:-0500
TZNAME:EST
DTSTART:20271107T060000
END:STANDARD
END:VTIMEZONE
BEGIN:VEVENT
DTSTART;TZID=America/New_York:20270516T180000
DTEND;TZID=America/New_York:20270516T180000
DTSTAMP:20260425T084939
CREATED:20240225T181847Z
LAST-MODIFIED:20240225T181847Z
UID:20148-1810490400-1810490400@pataskalanaz.digitalchurch.app
SUMMARY:Amplified: Youth Group
DESCRIPTION:
URL:https://pataskalanaz.digitalchurch.app/event/amplified-youth-group/2027-05-16/
LOCATION:Pataskala Church of the Nazarene\, 8100 Hazelton Etna Road\, Pataskala\, OH\, 43062\, United States
END:VEVENT
BEGIN:VEVENT
DTSTART;TZID=America/New_York:20270519T183000
DTEND;TZID=America/New_York:20270519T183000
DTSTAMP:20260425T084939
CREATED:20221031T224349Z
LAST-MODIFIED:20221031T224349Z
UID:20153-1810751400-1810751400@pataskalanaz.digitalchurch.app
SUMMARY:Youth Group
DESCRIPTION:
URL:https://pataskalanaz.digitalchurch.app/event/youth-group/2027-05-19/
LOCATION:Pataskala Church of the Nazarene\, 8100 Hazelton Etna Road\, Pataskala\, OH\, 43062\, United States
CATEGORIES:Next Gen
END:VEVENT
BEGIN:VEVENT
DTSTART;TZID=America/New_York:20270523T180000
DTEND;TZID=America/New_York:20270523T180000
DTSTAMP:20260425T084939
CREATED:20240225T181847Z
LAST-MODIFIED:20240225T181847Z
UID:20158-1811095200-1811095200@pataskalanaz.digitalchurch.app
SUMMARY:Amplified: Youth Group
DESCRIPTION:
URL:https://pataskalanaz.digitalchurch.app/event/amplified-youth-group/2027-05-23/
LOCATION:Pataskala Church of the Nazarene\, 8100 Hazelton Etna Road\, Pataskala\, OH\, 43062\, United States
END:VEVENT
BEGIN:VEVENT
DTSTART;TZID=America/New_York:20270526T183000
DTEND;TZID=America/New_York:20270526T183000
DTSTAMP:20260425T084939
CREATED:20221031T224349Z
LAST-MODIFIED:20221031T224349Z
UID:20163-1811356200-1811356200@pataskalanaz.digitalchurch.app
SUMMARY:Youth Group
DESCRIPTION:
URL:https://pataskalanaz.digitalchurch.app/event/youth-group/2027-05-26/
LOCATION:Pataskala Church of the Nazarene\, 8100 Hazelton Etna Road\, Pataskala\, OH\, 43062\, United States
CATEGORIES:Next Gen
END:VEVENT
BEGIN:VEVENT
DTSTART;TZID=America/New_York:20270530T180000
DTEND;TZID=America/New_York:20270530T180000
DTSTAMP:20260425T084939
CREATED:20240225T181847Z
LAST-MODIFIED:20240225T181847Z
UID:20168-1811700000-1811700000@pataskalanaz.digitalchurch.app
SUMMARY:Amplified: Youth Group
DESCRIPTION:
URL:https://pataskalanaz.digitalchurch.app/event/amplified-youth-group/2027-05-30/
LOCATION:Pataskala Church of the Nazarene\, 8100 Hazelton Etna Road\, Pataskala\, OH\, 43062\, United States
END:VEVENT
BEGIN:VEVENT
DTSTART;TZID=America/New_York:20270602T183000
DTEND;TZID=America/New_York:20270602T183000
DTSTAMP:20260425T084939
CREATED:20221031T224349Z
LAST-MODIFIED:20221031T224349Z
UID:20173-1811961000-1811961000@pataskalanaz.digitalchurch.app
SUMMARY:Youth Group
DESCRIPTION:
URL:https://pataskalanaz.digitalchurch.app/event/youth-group/2027-06-02/
LOCATION:Pataskala Church of the Nazarene\, 8100 Hazelton Etna Road\, Pataskala\, OH\, 43062\, United States
CATEGORIES:Next Gen
END:VEVENT
BEGIN:VEVENT
DTSTART;TZID=America/New_York:20270606T180000
DTEND;TZID=America/New_York:20270606T180000
DTSTAMP:20260425T084939
CREATED:20240225T181847Z
LAST-MODIFIED:20240225T181847Z
UID:20178-1812304800-1812304800@pataskalanaz.digitalchurch.app
SUMMARY:Amplified: Youth Group
DESCRIPTION:
URL:https://pataskalanaz.digitalchurch.app/event/amplified-youth-group/2027-06-06/
LOCATION:Pataskala Church of the Nazarene\, 8100 Hazelton Etna Road\, Pataskala\, OH\, 43062\, United States
END:VEVENT
BEGIN:VEVENT
DTSTART;TZID=America/New_York:20270609T183000
DTEND;TZID=America/New_York:20270609T183000
DTSTAMP:20260425T084939
CREATED:20221031T224349Z
LAST-MODIFIED:20221031T224349Z
UID:20183-1812565800-1812565800@pataskalanaz.digitalchurch.app
SUMMARY:Youth Group
DESCRIPTION:
URL:https://pataskalanaz.digitalchurch.app/event/youth-group/2027-06-09/
LOCATION:Pataskala Church of the Nazarene\, 8100 Hazelton Etna Road\, Pataskala\, OH\, 43062\, United States
CATEGORIES:Next Gen
END:VEVENT
BEGIN:VEVENT
DTSTART;TZID=America/New_York:20270613T180000
DTEND;TZID=America/New_York:20270613T180000
DTSTAMP:20260425T084939
CREATED:20240225T181847Z
LAST-MODIFIED:20240225T181847Z
UID:20188-1812909600-1812909600@pataskalanaz.digitalchurch.app
SUMMARY:Amplified: Youth Group
DESCRIPTION:
URL:https://pataskalanaz.digitalchurch.app/event/amplified-youth-group/2027-06-13/
LOCATION:Pataskala Church of the Nazarene\, 8100 Hazelton Etna Road\, Pataskala\, OH\, 43062\, United States
END:VEVENT
BEGIN:VEVENT
DTSTART;TZID=America/New_York:20270616T183000
DTEND;TZID=America/New_York:20270616T183000
DTSTAMP:20260425T084939
CREATED:20221031T224349Z
LAST-MODIFIED:20221031T224349Z
UID:20193-1813170600-1813170600@pataskalanaz.digitalchurch.app
SUMMARY:Youth Group
DESCRIPTION:
URL:https://pataskalanaz.digitalchurch.app/event/youth-group/2027-06-16/
LOCATION:Pataskala Church of the Nazarene\, 8100 Hazelton Etna Road\, Pataskala\, OH\, 43062\, United States
CATEGORIES:Next Gen
END:VEVENT
BEGIN:VEVENT
DTSTART;TZID=America/New_York:20270620T180000
DTEND;TZID=America/New_York:20270620T180000
DTSTAMP:20260425T084939
CREATED:20240225T181847Z
LAST-MODIFIED:20240225T181847Z
UID:20198-1813514400-1813514400@pataskalanaz.digitalchurch.app
SUMMARY:Amplified: Youth Group
DESCRIPTION:
URL:https://pataskalanaz.digitalchurch.app/event/amplified-youth-group/2027-06-20/
LOCATION:Pataskala Church of the Nazarene\, 8100 Hazelton Etna Road\, Pataskala\, OH\, 43062\, United States
END:VEVENT
BEGIN:VEVENT
DTSTART;TZID=America/New_York:20270623T183000
DTEND;TZID=America/New_York:20270623T183000
DTSTAMP:20260425T084939
CREATED:20221031T224349Z
LAST-MODIFIED:20221031T224349Z
UID:20203-1813775400-1813775400@pataskalanaz.digitalchurch.app
SUMMARY:Youth Group
DESCRIPTION:
URL:https://pataskalanaz.digitalchurch.app/event/youth-group/2027-06-23/
LOCATION:Pataskala Church of the Nazarene\, 8100 Hazelton Etna Road\, Pataskala\, OH\, 43062\, United States
CATEGORIES:Next Gen
END:VEVENT
BEGIN:VEVENT
DTSTART;TZID=America/New_York:20270627T180000
DTEND;TZID=America/New_York:20270627T180000
DTSTAMP:20260425T084939
CREATED:20240225T181847Z
LAST-MODIFIED:20240225T181847Z
UID:20208-1814119200-1814119200@pataskalanaz.digitalchurch.app
SUMMARY:Amplified: Youth Group
DESCRIPTION:
URL:https://pataskalanaz.digitalchurch.app/event/amplified-youth-group/2027-06-27/
LOCATION:Pataskala Church of the Nazarene\, 8100 Hazelton Etna Road\, Pataskala\, OH\, 43062\, United States
END:VEVENT
BEGIN:VEVENT
DTSTART;TZID=America/New_York:20270630T183000
DTEND;TZID=America/New_York:20270630T183000
DTSTAMP:20260425T084939
CREATED:20221031T224349Z
LAST-MODIFIED:20221031T224349Z
UID:20213-1814380200-1814380200@pataskalanaz.digitalchurch.app
SUMMARY:Youth Group
DESCRIPTION:
URL:https://pataskalanaz.digitalchurch.app/event/youth-group/2027-06-30/
LOCATION:Pataskala Church of the Nazarene\, 8100 Hazelton Etna Road\, Pataskala\, OH\, 43062\, United States
CATEGORIES:Next Gen
END:VEVENT
BEGIN:VEVENT
DTSTART;TZID=America/New_York:20270704T180000
DTEND;TZID=America/New_York:20270704T180000
DTSTAMP:20260425T084939
CREATED:20240225T181847Z
LAST-MODIFIED:20240225T181847Z
UID:20218-1814724000-1814724000@pataskalanaz.digitalchurch.app
SUMMARY:Amplified: Youth Group
DESCRIPTION:
URL:https://pataskalanaz.digitalchurch.app/event/amplified-youth-group/2027-07-04/
LOCATION:Pataskala Church of the Nazarene\, 8100 Hazelton Etna Road\, Pataskala\, OH\, 43062\, United States
END:VEVENT
BEGIN:VEVENT
DTSTART;TZID=America/New_York:20270707T183000
DTEND;TZID=America/New_York:20270707T183000
DTSTAMP:20260425T084939
CREATED:20221031T224349Z
LAST-MODIFIED:20221031T224349Z
UID:20223-1814985000-1814985000@pataskalanaz.digitalchurch.app
SUMMARY:Youth Group
DESCRIPTION:
URL:https://pataskalanaz.digitalchurch.app/event/youth-group/2027-07-07/
LOCATION:Pataskala Church of the Nazarene\, 8100 Hazelton Etna Road\, Pataskala\, OH\, 43062\, United States
CATEGORIES:Next Gen
END:VEVENT
BEGIN:VEVENT
DTSTART;TZID=America/New_York:20270711T180000
DTEND;TZID=America/New_York:20270711T180000
DTSTAMP:20260425T084939
CREATED:20240225T181847Z
LAST-MODIFIED:20240225T181847Z
UID:20228-1815328800-1815328800@pataskalanaz.digitalchurch.app
SUMMARY:Amplified: Youth Group
DESCRIPTION:
URL:https://pataskalanaz.digitalchurch.app/event/amplified-youth-group/2027-07-11/
LOCATION:Pataskala Church of the Nazarene\, 8100 Hazelton Etna Road\, Pataskala\, OH\, 43062\, United States
END:VEVENT
BEGIN:VEVENT
DTSTART;TZID=America/New_York:20270714T183000
DTEND;TZID=America/New_York:20270714T183000
DTSTAMP:20260425T084939
CREATED:20221031T224349Z
LAST-MODIFIED:20221031T224349Z
UID:20233-1815589800-1815589800@pataskalanaz.digitalchurch.app
SUMMARY:Youth Group
DESCRIPTION:
URL:https://pataskalanaz.digitalchurch.app/event/youth-group/2027-07-14/
LOCATION:Pataskala Church of the Nazarene\, 8100 Hazelton Etna Road\, Pataskala\, OH\, 43062\, United States
CATEGORIES:Next Gen
END:VEVENT
BEGIN:VEVENT
DTSTART;TZID=America/New_York:20270718T180000
DTEND;TZID=America/New_York:20270718T180000
DTSTAMP:20260425T084939
CREATED:20240225T181847Z
LAST-MODIFIED:20240225T181847Z
UID:20238-1815933600-1815933600@pataskalanaz.digitalchurch.app
SUMMARY:Amplified: Youth Group
DESCRIPTION:
URL:https://pataskalanaz.digitalchurch.app/event/amplified-youth-group/2027-07-18/
LOCATION:Pataskala Church of the Nazarene\, 8100 Hazelton Etna Road\, Pataskala\, OH\, 43062\, United States
END:VEVENT
BEGIN:VEVENT
DTSTART;TZID=America/New_York:20270721T183000
DTEND;TZID=America/New_York:20270721T183000
DTSTAMP:20260425T084939
CREATED:20221031T224349Z
LAST-MODIFIED:20221031T224349Z
UID:20243-1816194600-1816194600@pataskalanaz.digitalchurch.app
SUMMARY:Youth Group
DESCRIPTION:
URL:https://pataskalanaz.digitalchurch.app/event/youth-group/2027-07-21/
LOCATION:Pataskala Church of the Nazarene\, 8100 Hazelton Etna Road\, Pataskala\, OH\, 43062\, United States
CATEGORIES:Next Gen
END:VEVENT
BEGIN:VEVENT
DTSTART;TZID=America/New_York:20270725T180000
DTEND;TZID=America/New_York:20270725T180000
DTSTAMP:20260425T084939
CREATED:20240225T181847Z
LAST-MODIFIED:20240225T181847Z
UID:20248-1816538400-1816538400@pataskalanaz.digitalchurch.app
SUMMARY:Amplified: Youth Group
DESCRIPTION:
URL:https://pataskalanaz.digitalchurch.app/event/amplified-youth-group/2027-07-25/
LOCATION:Pataskala Church of the Nazarene\, 8100 Hazelton Etna Road\, Pataskala\, OH\, 43062\, United States
END:VEVENT
BEGIN:VEVENT
DTSTART;TZID=America/New_York:20270728T183000
DTEND;TZID=America/New_York:20270728T183000
DTSTAMP:20260425T084939
CREATED:20221031T224349Z
LAST-MODIFIED:20221031T224349Z
UID:20253-1816799400-1816799400@pataskalanaz.digitalchurch.app
SUMMARY:Youth Group
DESCRIPTION:
URL:https://pataskalanaz.digitalchurch.app/event/youth-group/2027-07-28/
LOCATION:Pataskala Church of the Nazarene\, 8100 Hazelton Etna Road\, Pataskala\, OH\, 43062\, United States
CATEGORIES:Next Gen
END:VEVENT
BEGIN:VEVENT
DTSTART;TZID=America/New_York:20270801T180000
DTEND;TZID=America/New_York:20270801T180000
DTSTAMP:20260425T084939
CREATED:20240225T181847Z
LAST-MODIFIED:20240225T181847Z
UID:20258-1817143200-1817143200@pataskalanaz.digitalchurch.app
SUMMARY:Amplified: Youth Group
DESCRIPTION:
URL:https://pataskalanaz.digitalchurch.app/event/amplified-youth-group/2027-08-01/
LOCATION:Pataskala Church of the Nazarene\, 8100 Hazelton Etna Road\, Pataskala\, OH\, 43062\, United States
END:VEVENT
BEGIN:VEVENT
DTSTART;TZID=America/New_York:20270804T183000
DTEND;TZID=America/New_York:20270804T183000
DTSTAMP:20260425T084939
CREATED:20221031T224349Z
LAST-MODIFIED:20221031T224349Z
UID:20263-1817404200-1817404200@pataskalanaz.digitalchurch.app
SUMMARY:Youth Group
DESCRIPTION:
URL:https://pataskalanaz.digitalchurch.app/event/youth-group/2027-08-04/
LOCATION:Pataskala Church of the Nazarene\, 8100 Hazelton Etna Road\, Pataskala\, OH\, 43062\, United States
CATEGORIES:Next Gen
END:VEVENT
BEGIN:VEVENT
DTSTART;TZID=America/New_York:20270808T180000
DTEND;TZID=America/New_York:20270808T180000
DTSTAMP:20260425T084939
CREATED:20240225T181847Z
LAST-MODIFIED:20240225T181847Z
UID:20268-1817748000-1817748000@pataskalanaz.digitalchurch.app
SUMMARY:Amplified: Youth Group
DESCRIPTION:
URL:https://pataskalanaz.digitalchurch.app/event/amplified-youth-group/2027-08-08/
LOCATION:Pataskala Church of the Nazarene\, 8100 Hazelton Etna Road\, Pataskala\, OH\, 43062\, United States
END:VEVENT
BEGIN:VEVENT
DTSTART;TZID=America/New_York:20270811T183000
DTEND;TZID=America/New_York:20270811T183000
DTSTAMP:20260425T084939
CREATED:20221031T224349Z
LAST-MODIFIED:20221031T224349Z
UID:20273-1818009000-1818009000@pataskalanaz.digitalchurch.app
SUMMARY:Youth Group
DESCRIPTION:
URL:https://pataskalanaz.digitalchurch.app/event/youth-group/2027-08-11/
LOCATION:Pataskala Church of the Nazarene\, 8100 Hazelton Etna Road\, Pataskala\, OH\, 43062\, United States
CATEGORIES:Next Gen
END:VEVENT
BEGIN:VEVENT
DTSTART;TZID=America/New_York:20270815T180000
DTEND;TZID=America/New_York:20270815T180000
DTSTAMP:20260425T084939
CREATED:20240225T181847Z
LAST-MODIFIED:20240225T181847Z
UID:20278-1818352800-1818352800@pataskalanaz.digitalchurch.app
SUMMARY:Amplified: Youth Group
DESCRIPTION:
URL:https://pataskalanaz.digitalchurch.app/event/amplified-youth-group/2027-08-15/
LOCATION:Pataskala Church of the Nazarene\, 8100 Hazelton Etna Road\, Pataskala\, OH\, 43062\, United States
END:VEVENT
BEGIN:VEVENT
DTSTART;TZID=America/New_York:20270818T183000
DTEND;TZID=America/New_York:20270818T183000
DTSTAMP:20260425T084939
CREATED:20221031T224349Z
LAST-MODIFIED:20221031T224349Z
UID:20283-1818613800-1818613800@pataskalanaz.digitalchurch.app
SUMMARY:Youth Group
DESCRIPTION:
URL:https://pataskalanaz.digitalchurch.app/event/youth-group/2027-08-18/
LOCATION:Pataskala Church of the Nazarene\, 8100 Hazelton Etna Road\, Pataskala\, OH\, 43062\, United States
CATEGORIES:Next Gen
END:VEVENT
BEGIN:VEVENT
DTSTART;TZID=America/New_York:20270822T180000
DTEND;TZID=America/New_York:20270822T180000
DTSTAMP:20260425T084939
CREATED:20240225T181847Z
LAST-MODIFIED:20240225T181847Z
UID:20288-1818957600-1818957600@pataskalanaz.digitalchurch.app
SUMMARY:Amplified: Youth Group
DESCRIPTION:
URL:https://pataskalanaz.digitalchurch.app/event/amplified-youth-group/2027-08-22/
LOCATION:Pataskala Church of the Nazarene\, 8100 Hazelton Etna Road\, Pataskala\, OH\, 43062\, United States
END:VEVENT
BEGIN:VEVENT
DTSTART;TZID=America/New_York:20270825T183000
DTEND;TZID=America/New_York:20270825T183000
DTSTAMP:20260425T084939
CREATED:20221031T224349Z
LAST-MODIFIED:20221031T224349Z
UID:20293-1819218600-1819218600@pataskalanaz.digitalchurch.app
SUMMARY:Youth Group
DESCRIPTION:
URL:https://pataskalanaz.digitalchurch.app/event/youth-group/2027-08-25/
LOCATION:Pataskala Church of the Nazarene\, 8100 Hazelton Etna Road\, Pataskala\, OH\, 43062\, United States
CATEGORIES:Next Gen
END:VEVENT
END:VCALENDAR