BEGIN:VCALENDAR
VERSION:2.0
PRODID:-//Pataskala Church of the Nazarene - ECPv6.6.4//NONSGML v1.0//EN
CALSCALE:GREGORIAN
METHOD:PUBLISH
X-WR-CALNAME:Pataskala Church of the Nazarene
X-ORIGINAL-URL:https://pataskalanaz.digitalchurch.app
X-WR-CALDESC:Events for Pataskala Church of the Nazarene
REFRESH-INTERVAL;VALUE=DURATION:PT1H
X-Robots-Tag:noindex
X-PUBLISHED-TTL:PT1H
BEGIN:VTIMEZONE
TZID:America/New_York
BEGIN:DAYLIGHT
TZOFFSETFROM:-0500
TZOFFSETTO:-0400
TZNAME:EDT
DTSTART:20260308T070000
END:DAYLIGHT
BEGIN:STANDARD
TZOFFSETFROM:-0400
TZOFFSETTO:-0500
TZNAME:EST
DTSTART:20261101T060000
END:STANDARD
END:VTIMEZONE
BEGIN:VEVENT
DTSTART;TZID=America/New_York:20260910T190000
DTEND;TZID=America/New_York:20260910T190000
DTSTAMP:20260422T200936
CREATED:20240219T194957Z
LAST-MODIFIED:20240219T194957Z
UID:19793-1789066800-1789066800@pataskalanaz.digitalchurch.app
SUMMARY:Zoom Bible Study
DESCRIPTION:Topics varies \nJoin: Zoom Link
URL:https://pataskalanaz.digitalchurch.app/event/zoom-bible-study/2026-09-10/
LOCATION:Pataskala Church of the Nazarene\, 8100 Hazelton Etna Road\, Pataskala\, OH\, 43062\, United States
CATEGORIES:Small Groups
ORGANIZER;CN="Church office":MAILTO:heislord@pataskalanaz.org
END:VEVENT
BEGIN:VEVENT
DTSTART;TZID=America/New_York:20260913T100000
DTEND;TZID=America/New_York:20260913T100000
DTSTAMP:20260422T200936
CREATED:20220410T233239Z
LAST-MODIFIED:20220410T233239Z
UID:19796-1789293600-1789293600@pataskalanaz.digitalchurch.app
SUMMARY:Morning Worship
DESCRIPTION:
URL:https://pataskalanaz.digitalchurch.app/event/morning-worship/2026-09-13/
LOCATION:Pataskala Church of the Nazarene\, 8100 Hazelton Etna Road\, Pataskala\, OH\, 43062\, United States
ORGANIZER;CN="Church office":MAILTO:heislord@pataskalanaz.org
END:VEVENT
BEGIN:VEVENT
DTSTART;TZID=America/New_York:20260913T103000
DTEND;TZID=America/New_York:20260913T103000
DTSTAMP:20260422T200936
CREATED:20221031T224244Z
LAST-MODIFIED:20221031T224244Z
UID:19795-1789295400-1789295400@pataskalanaz.digitalchurch.app
SUMMARY:Greenhouse: Children’s Church
DESCRIPTION:
URL:https://pataskalanaz.digitalchurch.app/event/greenhouse/2026-09-13/
LOCATION:Pataskala Church of the Nazarene\, 8100 Hazelton Etna Road\, Pataskala\, OH\, 43062\, United States
CATEGORIES:Children's Ministry
ORGANIZER;CN="Church office":MAILTO:heislord@pataskalanaz.org
END:VEVENT
BEGIN:VEVENT
DTSTART;TZID=America/New_York:20260917T190000
DTEND;TZID=America/New_York:20260917T190000
DTSTAMP:20260422T200936
CREATED:20240219T194957Z
LAST-MODIFIED:20240219T194957Z
UID:19804-1789671600-1789671600@pataskalanaz.digitalchurch.app
SUMMARY:Zoom Bible Study
DESCRIPTION:Topics varies \nJoin: Zoom Link
URL:https://pataskalanaz.digitalchurch.app/event/zoom-bible-study/2026-09-17/
LOCATION:Pataskala Church of the Nazarene\, 8100 Hazelton Etna Road\, Pataskala\, OH\, 43062\, United States
CATEGORIES:Small Groups
ORGANIZER;CN="Church office":MAILTO:heislord@pataskalanaz.org
END:VEVENT
BEGIN:VEVENT
DTSTART;TZID=America/New_York:20260920T100000
DTEND;TZID=America/New_York:20260920T100000
DTSTAMP:20260422T200936
CREATED:20220410T233239Z
LAST-MODIFIED:20220410T233239Z
UID:19807-1789898400-1789898400@pataskalanaz.digitalchurch.app
SUMMARY:Morning Worship
DESCRIPTION:
URL:https://pataskalanaz.digitalchurch.app/event/morning-worship/2026-09-20/
LOCATION:Pataskala Church of the Nazarene\, 8100 Hazelton Etna Road\, Pataskala\, OH\, 43062\, United States
ORGANIZER;CN="Church office":MAILTO:heislord@pataskalanaz.org
END:VEVENT
BEGIN:VEVENT
DTSTART;TZID=America/New_York:20260920T103000
DTEND;TZID=America/New_York:20260920T103000
DTSTAMP:20260422T200936
CREATED:20221031T224244Z
LAST-MODIFIED:20221031T224244Z
UID:19806-1789900200-1789900200@pataskalanaz.digitalchurch.app
SUMMARY:Greenhouse: Children’s Church
DESCRIPTION:
URL:https://pataskalanaz.digitalchurch.app/event/greenhouse/2026-09-20/
LOCATION:Pataskala Church of the Nazarene\, 8100 Hazelton Etna Road\, Pataskala\, OH\, 43062\, United States
CATEGORIES:Children's Ministry
ORGANIZER;CN="Church office":MAILTO:heislord@pataskalanaz.org
END:VEVENT
BEGIN:VEVENT
DTSTART;TZID=America/New_York:20260924T190000
DTEND;TZID=America/New_York:20260924T190000
DTSTAMP:20260422T200936
CREATED:20240219T194957Z
LAST-MODIFIED:20240219T194957Z
UID:19814-1790276400-1790276400@pataskalanaz.digitalchurch.app
SUMMARY:Zoom Bible Study
DESCRIPTION:Topics varies \nJoin: Zoom Link
URL:https://pataskalanaz.digitalchurch.app/event/zoom-bible-study/2026-09-24/
LOCATION:Pataskala Church of the Nazarene\, 8100 Hazelton Etna Road\, Pataskala\, OH\, 43062\, United States
CATEGORIES:Small Groups
ORGANIZER;CN="Church office":MAILTO:heislord@pataskalanaz.org
END:VEVENT
BEGIN:VEVENT
DTSTART;TZID=America/New_York:20260927T100000
DTEND;TZID=America/New_York:20260927T100000
DTSTAMP:20260422T200936
CREATED:20220410T233239Z
LAST-MODIFIED:20220410T233239Z
UID:19817-1790503200-1790503200@pataskalanaz.digitalchurch.app
SUMMARY:Morning Worship
DESCRIPTION:
URL:https://pataskalanaz.digitalchurch.app/event/morning-worship/2026-09-27/
LOCATION:Pataskala Church of the Nazarene\, 8100 Hazelton Etna Road\, Pataskala\, OH\, 43062\, United States
ORGANIZER;CN="Church office":MAILTO:heislord@pataskalanaz.org
END:VEVENT
BEGIN:VEVENT
DTSTART;TZID=America/New_York:20260927T103000
DTEND;TZID=America/New_York:20260927T103000
DTSTAMP:20260422T200936
CREATED:20221031T224244Z
LAST-MODIFIED:20221031T224244Z
UID:19816-1790505000-1790505000@pataskalanaz.digitalchurch.app
SUMMARY:Greenhouse: Children’s Church
DESCRIPTION:
URL:https://pataskalanaz.digitalchurch.app/event/greenhouse/2026-09-27/
LOCATION:Pataskala Church of the Nazarene\, 8100 Hazelton Etna Road\, Pataskala\, OH\, 43062\, United States
CATEGORIES:Children's Ministry
ORGANIZER;CN="Church office":MAILTO:heislord@pataskalanaz.org
END:VEVENT
BEGIN:VEVENT
DTSTART;TZID=America/New_York:20261001T190000
DTEND;TZID=America/New_York:20261001T190000
DTSTAMP:20260422T200936
CREATED:20240219T194957Z
LAST-MODIFIED:20240219T194957Z
UID:19824-1790881200-1790881200@pataskalanaz.digitalchurch.app
SUMMARY:Zoom Bible Study
DESCRIPTION:Topics varies \nJoin: Zoom Link
URL:https://pataskalanaz.digitalchurch.app/event/zoom-bible-study/2026-10-01/
LOCATION:Pataskala Church of the Nazarene\, 8100 Hazelton Etna Road\, Pataskala\, OH\, 43062\, United States
CATEGORIES:Small Groups
ORGANIZER;CN="Church office":MAILTO:heislord@pataskalanaz.org
END:VEVENT
BEGIN:VEVENT
DTSTART;TZID=America/New_York:20261004T100000
DTEND;TZID=America/New_York:20261004T100000
DTSTAMP:20260422T200936
CREATED:20220410T233239Z
LAST-MODIFIED:20220410T233239Z
UID:19827-1791108000-1791108000@pataskalanaz.digitalchurch.app
SUMMARY:Morning Worship
DESCRIPTION:
URL:https://pataskalanaz.digitalchurch.app/event/morning-worship/2026-10-04/
LOCATION:Pataskala Church of the Nazarene\, 8100 Hazelton Etna Road\, Pataskala\, OH\, 43062\, United States
ORGANIZER;CN="Church office":MAILTO:heislord@pataskalanaz.org
END:VEVENT
BEGIN:VEVENT
DTSTART;TZID=America/New_York:20261004T103000
DTEND;TZID=America/New_York:20261004T103000
DTSTAMP:20260422T200936
CREATED:20221031T224244Z
LAST-MODIFIED:20221031T224244Z
UID:19826-1791109800-1791109800@pataskalanaz.digitalchurch.app
SUMMARY:Greenhouse: Children’s Church
DESCRIPTION:
URL:https://pataskalanaz.digitalchurch.app/event/greenhouse/2026-10-04/
LOCATION:Pataskala Church of the Nazarene\, 8100 Hazelton Etna Road\, Pataskala\, OH\, 43062\, United States
CATEGORIES:Children's Ministry
ORGANIZER;CN="Church office":MAILTO:heislord@pataskalanaz.org
END:VEVENT
BEGIN:VEVENT
DTSTART;TZID=America/New_York:20261008T190000
DTEND;TZID=America/New_York:20261008T190000
DTSTAMP:20260422T200936
CREATED:20240219T194957Z
LAST-MODIFIED:20240219T194957Z
UID:19834-1791486000-1791486000@pataskalanaz.digitalchurch.app
SUMMARY:Zoom Bible Study
DESCRIPTION:Topics varies \nJoin: Zoom Link
URL:https://pataskalanaz.digitalchurch.app/event/zoom-bible-study/2026-10-08/
LOCATION:Pataskala Church of the Nazarene\, 8100 Hazelton Etna Road\, Pataskala\, OH\, 43062\, United States
CATEGORIES:Small Groups
ORGANIZER;CN="Church office":MAILTO:heislord@pataskalanaz.org
END:VEVENT
BEGIN:VEVENT
DTSTART;TZID=America/New_York:20261011T100000
DTEND;TZID=America/New_York:20261011T100000
DTSTAMP:20260422T200936
CREATED:20220410T233239Z
LAST-MODIFIED:20220410T233239Z
UID:19837-1791712800-1791712800@pataskalanaz.digitalchurch.app
SUMMARY:Morning Worship
DESCRIPTION:
URL:https://pataskalanaz.digitalchurch.app/event/morning-worship/2026-10-11/
LOCATION:Pataskala Church of the Nazarene\, 8100 Hazelton Etna Road\, Pataskala\, OH\, 43062\, United States
ORGANIZER;CN="Church office":MAILTO:heislord@pataskalanaz.org
END:VEVENT
BEGIN:VEVENT
DTSTART;TZID=America/New_York:20261011T103000
DTEND;TZID=America/New_York:20261011T103000
DTSTAMP:20260422T200936
CREATED:20221031T224244Z
LAST-MODIFIED:20221031T224244Z
UID:19836-1791714600-1791714600@pataskalanaz.digitalchurch.app
SUMMARY:Greenhouse: Children’s Church
DESCRIPTION:
URL:https://pataskalanaz.digitalchurch.app/event/greenhouse/2026-10-11/
LOCATION:Pataskala Church of the Nazarene\, 8100 Hazelton Etna Road\, Pataskala\, OH\, 43062\, United States
CATEGORIES:Children's Ministry
ORGANIZER;CN="Church office":MAILTO:heislord@pataskalanaz.org
END:VEVENT
BEGIN:VEVENT
DTSTART;TZID=America/New_York:20261015T190000
DTEND;TZID=America/New_York:20261015T190000
DTSTAMP:20260422T200936
CREATED:20240219T194957Z
LAST-MODIFIED:20240219T194957Z
UID:19844-1792090800-1792090800@pataskalanaz.digitalchurch.app
SUMMARY:Zoom Bible Study
DESCRIPTION:Topics varies \nJoin: Zoom Link
URL:https://pataskalanaz.digitalchurch.app/event/zoom-bible-study/2026-10-15/
LOCATION:Pataskala Church of the Nazarene\, 8100 Hazelton Etna Road\, Pataskala\, OH\, 43062\, United States
CATEGORIES:Small Groups
ORGANIZER;CN="Church office":MAILTO:heislord@pataskalanaz.org
END:VEVENT
BEGIN:VEVENT
DTSTART;TZID=America/New_York:20261018T100000
DTEND;TZID=America/New_York:20261018T100000
DTSTAMP:20260422T200936
CREATED:20220410T233239Z
LAST-MODIFIED:20220410T233239Z
UID:19847-1792317600-1792317600@pataskalanaz.digitalchurch.app
SUMMARY:Morning Worship
DESCRIPTION:
URL:https://pataskalanaz.digitalchurch.app/event/morning-worship/2026-10-18/
LOCATION:Pataskala Church of the Nazarene\, 8100 Hazelton Etna Road\, Pataskala\, OH\, 43062\, United States
ORGANIZER;CN="Church office":MAILTO:heislord@pataskalanaz.org
END:VEVENT
BEGIN:VEVENT
DTSTART;TZID=America/New_York:20261018T103000
DTEND;TZID=America/New_York:20261018T103000
DTSTAMP:20260422T200936
CREATED:20221031T224244Z
LAST-MODIFIED:20221031T224244Z
UID:19846-1792319400-1792319400@pataskalanaz.digitalchurch.app
SUMMARY:Greenhouse: Children’s Church
DESCRIPTION:
URL:https://pataskalanaz.digitalchurch.app/event/greenhouse/2026-10-18/
LOCATION:Pataskala Church of the Nazarene\, 8100 Hazelton Etna Road\, Pataskala\, OH\, 43062\, United States
CATEGORIES:Children's Ministry
ORGANIZER;CN="Church office":MAILTO:heislord@pataskalanaz.org
END:VEVENT
BEGIN:VEVENT
DTSTART;TZID=America/New_York:20261022T190000
DTEND;TZID=America/New_York:20261022T190000
DTSTAMP:20260422T200936
CREATED:20240219T194957Z
LAST-MODIFIED:20240219T194957Z
UID:19854-1792695600-1792695600@pataskalanaz.digitalchurch.app
SUMMARY:Zoom Bible Study
DESCRIPTION:Topics varies \nJoin: Zoom Link
URL:https://pataskalanaz.digitalchurch.app/event/zoom-bible-study/2026-10-22/
LOCATION:Pataskala Church of the Nazarene\, 8100 Hazelton Etna Road\, Pataskala\, OH\, 43062\, United States
CATEGORIES:Small Groups
ORGANIZER;CN="Church office":MAILTO:heislord@pataskalanaz.org
END:VEVENT
BEGIN:VEVENT
DTSTART;TZID=America/New_York:20261025T100000
DTEND;TZID=America/New_York:20261025T100000
DTSTAMP:20260422T200936
CREATED:20220410T233239Z
LAST-MODIFIED:20220410T233239Z
UID:19857-1792922400-1792922400@pataskalanaz.digitalchurch.app
SUMMARY:Morning Worship
DESCRIPTION:
URL:https://pataskalanaz.digitalchurch.app/event/morning-worship/2026-10-25/
LOCATION:Pataskala Church of the Nazarene\, 8100 Hazelton Etna Road\, Pataskala\, OH\, 43062\, United States
ORGANIZER;CN="Church office":MAILTO:heislord@pataskalanaz.org
END:VEVENT
BEGIN:VEVENT
DTSTART;TZID=America/New_York:20261025T103000
DTEND;TZID=America/New_York:20261025T103000
DTSTAMP:20260422T200936
CREATED:20221031T224244Z
LAST-MODIFIED:20221031T224244Z
UID:19856-1792924200-1792924200@pataskalanaz.digitalchurch.app
SUMMARY:Greenhouse: Children’s Church
DESCRIPTION:
URL:https://pataskalanaz.digitalchurch.app/event/greenhouse/2026-10-25/
LOCATION:Pataskala Church of the Nazarene\, 8100 Hazelton Etna Road\, Pataskala\, OH\, 43062\, United States
CATEGORIES:Children's Ministry
ORGANIZER;CN="Church office":MAILTO:heislord@pataskalanaz.org
END:VEVENT
BEGIN:VEVENT
DTSTART;TZID=America/New_York:20261029T190000
DTEND;TZID=America/New_York:20261029T190000
DTSTAMP:20260422T200936
CREATED:20240219T194957Z
LAST-MODIFIED:20240219T194957Z
UID:19864-1793300400-1793300400@pataskalanaz.digitalchurch.app
SUMMARY:Zoom Bible Study
DESCRIPTION:Topics varies \nJoin: Zoom Link
URL:https://pataskalanaz.digitalchurch.app/event/zoom-bible-study/2026-10-29/
LOCATION:Pataskala Church of the Nazarene\, 8100 Hazelton Etna Road\, Pataskala\, OH\, 43062\, United States
CATEGORIES:Small Groups
ORGANIZER;CN="Church office":MAILTO:heislord@pataskalanaz.org
END:VEVENT
BEGIN:VEVENT
DTSTART;TZID=America/New_York:20261101T100000
DTEND;TZID=America/New_York:20261101T100000
DTSTAMP:20260422T200936
CREATED:20220410T233239Z
LAST-MODIFIED:20220410T233239Z
UID:19867-1793527200-1793527200@pataskalanaz.digitalchurch.app
SUMMARY:Morning Worship
DESCRIPTION:
URL:https://pataskalanaz.digitalchurch.app/event/morning-worship/2026-11-01/
LOCATION:Pataskala Church of the Nazarene\, 8100 Hazelton Etna Road\, Pataskala\, OH\, 43062\, United States
ORGANIZER;CN="Church office":MAILTO:heislord@pataskalanaz.org
END:VEVENT
BEGIN:VEVENT
DTSTART;TZID=America/New_York:20261101T103000
DTEND;TZID=America/New_York:20261101T103000
DTSTAMP:20260422T200936
CREATED:20221031T224244Z
LAST-MODIFIED:20221031T224244Z
UID:19866-1793529000-1793529000@pataskalanaz.digitalchurch.app
SUMMARY:Greenhouse: Children’s Church
DESCRIPTION:
URL:https://pataskalanaz.digitalchurch.app/event/greenhouse/2026-11-01/
LOCATION:Pataskala Church of the Nazarene\, 8100 Hazelton Etna Road\, Pataskala\, OH\, 43062\, United States
CATEGORIES:Children's Ministry
ORGANIZER;CN="Church office":MAILTO:heislord@pataskalanaz.org
END:VEVENT
BEGIN:VEVENT
DTSTART;TZID=America/New_York:20261105T190000
DTEND;TZID=America/New_York:20261105T190000
DTSTAMP:20260422T200936
CREATED:20240219T194957Z
LAST-MODIFIED:20240219T194957Z
UID:19874-1793905200-1793905200@pataskalanaz.digitalchurch.app
SUMMARY:Zoom Bible Study
DESCRIPTION:Topics varies \nJoin: Zoom Link
URL:https://pataskalanaz.digitalchurch.app/event/zoom-bible-study/2026-11-05/
LOCATION:Pataskala Church of the Nazarene\, 8100 Hazelton Etna Road\, Pataskala\, OH\, 43062\, United States
CATEGORIES:Small Groups
ORGANIZER;CN="Church office":MAILTO:heislord@pataskalanaz.org
END:VEVENT
BEGIN:VEVENT
DTSTART;TZID=America/New_York:20261108T100000
DTEND;TZID=America/New_York:20261108T100000
DTSTAMP:20260422T200936
CREATED:20220410T233239Z
LAST-MODIFIED:20220410T233239Z
UID:19877-1794132000-1794132000@pataskalanaz.digitalchurch.app
SUMMARY:Morning Worship
DESCRIPTION:
URL:https://pataskalanaz.digitalchurch.app/event/morning-worship/2026-11-08/
LOCATION:Pataskala Church of the Nazarene\, 8100 Hazelton Etna Road\, Pataskala\, OH\, 43062\, United States
ORGANIZER;CN="Church office":MAILTO:heislord@pataskalanaz.org
END:VEVENT
BEGIN:VEVENT
DTSTART;TZID=America/New_York:20261108T103000
DTEND;TZID=America/New_York:20261108T103000
DTSTAMP:20260422T200936
CREATED:20221031T224244Z
LAST-MODIFIED:20221031T224244Z
UID:19876-1794133800-1794133800@pataskalanaz.digitalchurch.app
SUMMARY:Greenhouse: Children’s Church
DESCRIPTION:
URL:https://pataskalanaz.digitalchurch.app/event/greenhouse/2026-11-08/
LOCATION:Pataskala Church of the Nazarene\, 8100 Hazelton Etna Road\, Pataskala\, OH\, 43062\, United States
CATEGORIES:Children's Ministry
ORGANIZER;CN="Church office":MAILTO:heislord@pataskalanaz.org
END:VEVENT
BEGIN:VEVENT
DTSTART;TZID=America/New_York:20261112T190000
DTEND;TZID=America/New_York:20261112T190000
DTSTAMP:20260422T200936
CREATED:20240219T194957Z
LAST-MODIFIED:20240219T194957Z
UID:19884-1794510000-1794510000@pataskalanaz.digitalchurch.app
SUMMARY:Zoom Bible Study
DESCRIPTION:Topics varies \nJoin: Zoom Link
URL:https://pataskalanaz.digitalchurch.app/event/zoom-bible-study/2026-11-12/
LOCATION:Pataskala Church of the Nazarene\, 8100 Hazelton Etna Road\, Pataskala\, OH\, 43062\, United States
CATEGORIES:Small Groups
ORGANIZER;CN="Church office":MAILTO:heislord@pataskalanaz.org
END:VEVENT
BEGIN:VEVENT
DTSTART;TZID=America/New_York:20261115T100000
DTEND;TZID=America/New_York:20261115T100000
DTSTAMP:20260422T200936
CREATED:20220410T233239Z
LAST-MODIFIED:20220410T233239Z
UID:19887-1794736800-1794736800@pataskalanaz.digitalchurch.app
SUMMARY:Morning Worship
DESCRIPTION:
URL:https://pataskalanaz.digitalchurch.app/event/morning-worship/2026-11-15/
LOCATION:Pataskala Church of the Nazarene\, 8100 Hazelton Etna Road\, Pataskala\, OH\, 43062\, United States
ORGANIZER;CN="Church office":MAILTO:heislord@pataskalanaz.org
END:VEVENT
BEGIN:VEVENT
DTSTART;TZID=America/New_York:20261115T103000
DTEND;TZID=America/New_York:20261115T103000
DTSTAMP:20260422T200936
CREATED:20221031T224244Z
LAST-MODIFIED:20221031T224244Z
UID:19886-1794738600-1794738600@pataskalanaz.digitalchurch.app
SUMMARY:Greenhouse: Children’s Church
DESCRIPTION:
URL:https://pataskalanaz.digitalchurch.app/event/greenhouse/2026-11-15/
LOCATION:Pataskala Church of the Nazarene\, 8100 Hazelton Etna Road\, Pataskala\, OH\, 43062\, United States
CATEGORIES:Children's Ministry
ORGANIZER;CN="Church office":MAILTO:heislord@pataskalanaz.org
END:VEVENT
END:VCALENDAR