BEGIN:VCALENDAR
VERSION:2.0
PRODID:-//Pataskala Church of the Nazarene - ECPv6.6.4//NONSGML v1.0//EN
CALSCALE:GREGORIAN
METHOD:PUBLISH
X-ORIGINAL-URL:https://pataskalanaz.digitalchurch.app
X-WR-CALDESC:Events for Pataskala Church of the Nazarene
REFRESH-INTERVAL;VALUE=DURATION:PT1H
X-Robots-Tag:noindex
X-PUBLISHED-TTL:PT1H
BEGIN:VTIMEZONE
TZID:America/New_York
BEGIN:DAYLIGHT
TZOFFSETFROM:-0500
TZOFFSETTO:-0400
TZNAME:EDT
DTSTART:20270314T070000
END:DAYLIGHT
BEGIN:STANDARD
TZOFFSETFROM:-0400
TZOFFSETTO:-0500
TZNAME:EST
DTSTART:20271107T060000
END:STANDARD
END:VTIMEZONE
BEGIN:VEVENT
DTSTART;TZID=America/New_York:20270318T190000
DTEND;TZID=America/New_York:20270318T190000
DTSTAMP:20260425T123719
CREATED:20240219T194957Z
LAST-MODIFIED:20240219T194957Z
UID:20064-1805396400-1805396400@pataskalanaz.digitalchurch.app
SUMMARY:Zoom Bible Study
DESCRIPTION:Topics varies \nJoin: Zoom Link
URL:https://pataskalanaz.digitalchurch.app/event/zoom-bible-study/2027-03-18/
LOCATION:Pataskala Church of the Nazarene\, 8100 Hazelton Etna Road\, Pataskala\, OH\, 43062\, United States
CATEGORIES:Small Groups
ORGANIZER;CN="Church office":MAILTO:heislord@pataskalanaz.org
END:VEVENT
BEGIN:VEVENT
DTSTART;TZID=America/New_York:20270321T100000
DTEND;TZID=America/New_York:20270321T100000
DTSTAMP:20260425T123719
CREATED:20220410T233239Z
LAST-MODIFIED:20220410T233239Z
UID:20067-1805623200-1805623200@pataskalanaz.digitalchurch.app
SUMMARY:Morning Worship
DESCRIPTION:
URL:https://pataskalanaz.digitalchurch.app/event/morning-worship/2027-03-21/
LOCATION:Pataskala Church of the Nazarene\, 8100 Hazelton Etna Road\, Pataskala\, OH\, 43062\, United States
ORGANIZER;CN="Church office":MAILTO:heislord@pataskalanaz.org
END:VEVENT
BEGIN:VEVENT
DTSTART;TZID=America/New_York:20270321T103000
DTEND;TZID=America/New_York:20270321T103000
DTSTAMP:20260425T123719
CREATED:20221031T224244Z
LAST-MODIFIED:20221031T224244Z
UID:20066-1805625000-1805625000@pataskalanaz.digitalchurch.app
SUMMARY:Greenhouse: Children’s Church
DESCRIPTION:
URL:https://pataskalanaz.digitalchurch.app/event/greenhouse/2027-03-21/
LOCATION:Pataskala Church of the Nazarene\, 8100 Hazelton Etna Road\, Pataskala\, OH\, 43062\, United States
CATEGORIES:Children's Ministry
ORGANIZER;CN="Church office":MAILTO:heislord@pataskalanaz.org
END:VEVENT
BEGIN:VEVENT
DTSTART;TZID=America/New_York:20270325T190000
DTEND;TZID=America/New_York:20270325T190000
DTSTAMP:20260425T123719
CREATED:20240219T194957Z
LAST-MODIFIED:20240219T194957Z
UID:20074-1806001200-1806001200@pataskalanaz.digitalchurch.app
SUMMARY:Zoom Bible Study
DESCRIPTION:Topics varies \nJoin: Zoom Link
URL:https://pataskalanaz.digitalchurch.app/event/zoom-bible-study/2027-03-25/
LOCATION:Pataskala Church of the Nazarene\, 8100 Hazelton Etna Road\, Pataskala\, OH\, 43062\, United States
CATEGORIES:Small Groups
ORGANIZER;CN="Church office":MAILTO:heislord@pataskalanaz.org
END:VEVENT
BEGIN:VEVENT
DTSTART;TZID=America/New_York:20270328T100000
DTEND;TZID=America/New_York:20270328T100000
DTSTAMP:20260425T123719
CREATED:20220410T233239Z
LAST-MODIFIED:20220410T233239Z
UID:20077-1806228000-1806228000@pataskalanaz.digitalchurch.app
SUMMARY:Morning Worship
DESCRIPTION:
URL:https://pataskalanaz.digitalchurch.app/event/morning-worship/2027-03-28/
LOCATION:Pataskala Church of the Nazarene\, 8100 Hazelton Etna Road\, Pataskala\, OH\, 43062\, United States
ORGANIZER;CN="Church office":MAILTO:heislord@pataskalanaz.org
END:VEVENT
BEGIN:VEVENT
DTSTART;TZID=America/New_York:20270328T103000
DTEND;TZID=America/New_York:20270328T103000
DTSTAMP:20260425T123719
CREATED:20221031T224244Z
LAST-MODIFIED:20221031T224244Z
UID:20076-1806229800-1806229800@pataskalanaz.digitalchurch.app
SUMMARY:Greenhouse: Children’s Church
DESCRIPTION:
URL:https://pataskalanaz.digitalchurch.app/event/greenhouse/2027-03-28/
LOCATION:Pataskala Church of the Nazarene\, 8100 Hazelton Etna Road\, Pataskala\, OH\, 43062\, United States
CATEGORIES:Children's Ministry
ORGANIZER;CN="Church office":MAILTO:heislord@pataskalanaz.org
END:VEVENT
BEGIN:VEVENT
DTSTART;TZID=America/New_York:20270401T190000
DTEND;TZID=America/New_York:20270401T190000
DTSTAMP:20260425T123719
CREATED:20240219T194957Z
LAST-MODIFIED:20240219T194957Z
UID:20084-1806606000-1806606000@pataskalanaz.digitalchurch.app
SUMMARY:Zoom Bible Study
DESCRIPTION:Topics varies \nJoin: Zoom Link
URL:https://pataskalanaz.digitalchurch.app/event/zoom-bible-study/2027-04-01/
LOCATION:Pataskala Church of the Nazarene\, 8100 Hazelton Etna Road\, Pataskala\, OH\, 43062\, United States
CATEGORIES:Small Groups
ORGANIZER;CN="Church office":MAILTO:heislord@pataskalanaz.org
END:VEVENT
BEGIN:VEVENT
DTSTART;TZID=America/New_York:20270404T100000
DTEND;TZID=America/New_York:20270404T100000
DTSTAMP:20260425T123719
CREATED:20220410T233239Z
LAST-MODIFIED:20220410T233239Z
UID:20087-1806832800-1806832800@pataskalanaz.digitalchurch.app
SUMMARY:Morning Worship
DESCRIPTION:
URL:https://pataskalanaz.digitalchurch.app/event/morning-worship/2027-04-04/
LOCATION:Pataskala Church of the Nazarene\, 8100 Hazelton Etna Road\, Pataskala\, OH\, 43062\, United States
ORGANIZER;CN="Church office":MAILTO:heislord@pataskalanaz.org
END:VEVENT
BEGIN:VEVENT
DTSTART;TZID=America/New_York:20270404T103000
DTEND;TZID=America/New_York:20270404T103000
DTSTAMP:20260425T123719
CREATED:20221031T224244Z
LAST-MODIFIED:20221031T224244Z
UID:20086-1806834600-1806834600@pataskalanaz.digitalchurch.app
SUMMARY:Greenhouse: Children’s Church
DESCRIPTION:
URL:https://pataskalanaz.digitalchurch.app/event/greenhouse/2027-04-04/
LOCATION:Pataskala Church of the Nazarene\, 8100 Hazelton Etna Road\, Pataskala\, OH\, 43062\, United States
CATEGORIES:Children's Ministry
ORGANIZER;CN="Church office":MAILTO:heislord@pataskalanaz.org
END:VEVENT
BEGIN:VEVENT
DTSTART;TZID=America/New_York:20270408T190000
DTEND;TZID=America/New_York:20270408T190000
DTSTAMP:20260425T123719
CREATED:20240219T194957Z
LAST-MODIFIED:20240219T194957Z
UID:20094-1807210800-1807210800@pataskalanaz.digitalchurch.app
SUMMARY:Zoom Bible Study
DESCRIPTION:Topics varies \nJoin: Zoom Link
URL:https://pataskalanaz.digitalchurch.app/event/zoom-bible-study/2027-04-08/
LOCATION:Pataskala Church of the Nazarene\, 8100 Hazelton Etna Road\, Pataskala\, OH\, 43062\, United States
CATEGORIES:Small Groups
ORGANIZER;CN="Church office":MAILTO:heislord@pataskalanaz.org
END:VEVENT
BEGIN:VEVENT
DTSTART;TZID=America/New_York:20270411T100000
DTEND;TZID=America/New_York:20270411T100000
DTSTAMP:20260425T123719
CREATED:20220410T233239Z
LAST-MODIFIED:20220410T233239Z
UID:20097-1807437600-1807437600@pataskalanaz.digitalchurch.app
SUMMARY:Morning Worship
DESCRIPTION:
URL:https://pataskalanaz.digitalchurch.app/event/morning-worship/2027-04-11/
LOCATION:Pataskala Church of the Nazarene\, 8100 Hazelton Etna Road\, Pataskala\, OH\, 43062\, United States
ORGANIZER;CN="Church office":MAILTO:heislord@pataskalanaz.org
END:VEVENT
BEGIN:VEVENT
DTSTART;TZID=America/New_York:20270411T103000
DTEND;TZID=America/New_York:20270411T103000
DTSTAMP:20260425T123719
CREATED:20221031T224244Z
LAST-MODIFIED:20221031T224244Z
UID:20096-1807439400-1807439400@pataskalanaz.digitalchurch.app
SUMMARY:Greenhouse: Children’s Church
DESCRIPTION:
URL:https://pataskalanaz.digitalchurch.app/event/greenhouse/2027-04-11/
LOCATION:Pataskala Church of the Nazarene\, 8100 Hazelton Etna Road\, Pataskala\, OH\, 43062\, United States
CATEGORIES:Children's Ministry
ORGANIZER;CN="Church office":MAILTO:heislord@pataskalanaz.org
END:VEVENT
BEGIN:VEVENT
DTSTART;TZID=America/New_York:20270415T190000
DTEND;TZID=America/New_York:20270415T190000
DTSTAMP:20260425T123719
CREATED:20240219T194957Z
LAST-MODIFIED:20240219T194957Z
UID:20104-1807815600-1807815600@pataskalanaz.digitalchurch.app
SUMMARY:Zoom Bible Study
DESCRIPTION:Topics varies \nJoin: Zoom Link
URL:https://pataskalanaz.digitalchurch.app/event/zoom-bible-study/2027-04-15/
LOCATION:Pataskala Church of the Nazarene\, 8100 Hazelton Etna Road\, Pataskala\, OH\, 43062\, United States
CATEGORIES:Small Groups
ORGANIZER;CN="Church office":MAILTO:heislord@pataskalanaz.org
END:VEVENT
BEGIN:VEVENT
DTSTART;TZID=America/New_York:20270418T100000
DTEND;TZID=America/New_York:20270418T100000
DTSTAMP:20260425T123719
CREATED:20220410T233239Z
LAST-MODIFIED:20220410T233239Z
UID:20107-1808042400-1808042400@pataskalanaz.digitalchurch.app
SUMMARY:Morning Worship
DESCRIPTION:
URL:https://pataskalanaz.digitalchurch.app/event/morning-worship/2027-04-18/
LOCATION:Pataskala Church of the Nazarene\, 8100 Hazelton Etna Road\, Pataskala\, OH\, 43062\, United States
ORGANIZER;CN="Church office":MAILTO:heislord@pataskalanaz.org
END:VEVENT
BEGIN:VEVENT
DTSTART;TZID=America/New_York:20270418T103000
DTEND;TZID=America/New_York:20270418T103000
DTSTAMP:20260425T123719
CREATED:20221031T224244Z
LAST-MODIFIED:20221031T224244Z
UID:20106-1808044200-1808044200@pataskalanaz.digitalchurch.app
SUMMARY:Greenhouse: Children’s Church
DESCRIPTION:
URL:https://pataskalanaz.digitalchurch.app/event/greenhouse/2027-04-18/
LOCATION:Pataskala Church of the Nazarene\, 8100 Hazelton Etna Road\, Pataskala\, OH\, 43062\, United States
CATEGORIES:Children's Ministry
ORGANIZER;CN="Church office":MAILTO:heislord@pataskalanaz.org
END:VEVENT
BEGIN:VEVENT
DTSTART;TZID=America/New_York:20270422T190000
DTEND;TZID=America/New_York:20270422T190000
DTSTAMP:20260425T123719
CREATED:20240219T194957Z
LAST-MODIFIED:20240219T194957Z
UID:20114-1808420400-1808420400@pataskalanaz.digitalchurch.app
SUMMARY:Zoom Bible Study
DESCRIPTION:Topics varies \nJoin: Zoom Link
URL:https://pataskalanaz.digitalchurch.app/event/zoom-bible-study/2027-04-22/
LOCATION:Pataskala Church of the Nazarene\, 8100 Hazelton Etna Road\, Pataskala\, OH\, 43062\, United States
CATEGORIES:Small Groups
ORGANIZER;CN="Church office":MAILTO:heislord@pataskalanaz.org
END:VEVENT
BEGIN:VEVENT
DTSTART;TZID=America/New_York:20270425T100000
DTEND;TZID=America/New_York:20270425T100000
DTSTAMP:20260425T123719
CREATED:20220410T233239Z
LAST-MODIFIED:20220410T233239Z
UID:20117-1808647200-1808647200@pataskalanaz.digitalchurch.app
SUMMARY:Morning Worship
DESCRIPTION:
URL:https://pataskalanaz.digitalchurch.app/event/morning-worship/2027-04-25/
LOCATION:Pataskala Church of the Nazarene\, 8100 Hazelton Etna Road\, Pataskala\, OH\, 43062\, United States
ORGANIZER;CN="Church office":MAILTO:heislord@pataskalanaz.org
END:VEVENT
BEGIN:VEVENT
DTSTART;TZID=America/New_York:20270425T103000
DTEND;TZID=America/New_York:20270425T103000
DTSTAMP:20260425T123719
CREATED:20221031T224244Z
LAST-MODIFIED:20221031T224244Z
UID:20116-1808649000-1808649000@pataskalanaz.digitalchurch.app
SUMMARY:Greenhouse: Children’s Church
DESCRIPTION:
URL:https://pataskalanaz.digitalchurch.app/event/greenhouse/2027-04-25/
LOCATION:Pataskala Church of the Nazarene\, 8100 Hazelton Etna Road\, Pataskala\, OH\, 43062\, United States
CATEGORIES:Children's Ministry
ORGANIZER;CN="Church office":MAILTO:heislord@pataskalanaz.org
END:VEVENT
BEGIN:VEVENT
DTSTART;TZID=America/New_York:20270429T190000
DTEND;TZID=America/New_York:20270429T190000
DTSTAMP:20260425T123719
CREATED:20240219T194957Z
LAST-MODIFIED:20240219T194957Z
UID:20124-1809025200-1809025200@pataskalanaz.digitalchurch.app
SUMMARY:Zoom Bible Study
DESCRIPTION:Topics varies \nJoin: Zoom Link
URL:https://pataskalanaz.digitalchurch.app/event/zoom-bible-study/2027-04-29/
LOCATION:Pataskala Church of the Nazarene\, 8100 Hazelton Etna Road\, Pataskala\, OH\, 43062\, United States
CATEGORIES:Small Groups
ORGANIZER;CN="Church office":MAILTO:heislord@pataskalanaz.org
END:VEVENT
BEGIN:VEVENT
DTSTART;TZID=America/New_York:20270502T100000
DTEND;TZID=America/New_York:20270502T100000
DTSTAMP:20260425T123719
CREATED:20220410T233239Z
LAST-MODIFIED:20220410T233239Z
UID:20127-1809252000-1809252000@pataskalanaz.digitalchurch.app
SUMMARY:Morning Worship
DESCRIPTION:
URL:https://pataskalanaz.digitalchurch.app/event/morning-worship/2027-05-02/
LOCATION:Pataskala Church of the Nazarene\, 8100 Hazelton Etna Road\, Pataskala\, OH\, 43062\, United States
ORGANIZER;CN="Church office":MAILTO:heislord@pataskalanaz.org
END:VEVENT
BEGIN:VEVENT
DTSTART;TZID=America/New_York:20270502T103000
DTEND;TZID=America/New_York:20270502T103000
DTSTAMP:20260425T123719
CREATED:20221031T224244Z
LAST-MODIFIED:20221031T224244Z
UID:20126-1809253800-1809253800@pataskalanaz.digitalchurch.app
SUMMARY:Greenhouse: Children’s Church
DESCRIPTION:
URL:https://pataskalanaz.digitalchurch.app/event/greenhouse/2027-05-02/
LOCATION:Pataskala Church of the Nazarene\, 8100 Hazelton Etna Road\, Pataskala\, OH\, 43062\, United States
CATEGORIES:Children's Ministry
ORGANIZER;CN="Church office":MAILTO:heislord@pataskalanaz.org
END:VEVENT
BEGIN:VEVENT
DTSTART;TZID=America/New_York:20270506T190000
DTEND;TZID=America/New_York:20270506T190000
DTSTAMP:20260425T123719
CREATED:20240219T194957Z
LAST-MODIFIED:20240219T194957Z
UID:20134-1809630000-1809630000@pataskalanaz.digitalchurch.app
SUMMARY:Zoom Bible Study
DESCRIPTION:Topics varies \nJoin: Zoom Link
URL:https://pataskalanaz.digitalchurch.app/event/zoom-bible-study/2027-05-06/
LOCATION:Pataskala Church of the Nazarene\, 8100 Hazelton Etna Road\, Pataskala\, OH\, 43062\, United States
CATEGORIES:Small Groups
ORGANIZER;CN="Church office":MAILTO:heislord@pataskalanaz.org
END:VEVENT
BEGIN:VEVENT
DTSTART;TZID=America/New_York:20270509T100000
DTEND;TZID=America/New_York:20270509T100000
DTSTAMP:20260425T123719
CREATED:20220410T233239Z
LAST-MODIFIED:20220410T233239Z
UID:20137-1809856800-1809856800@pataskalanaz.digitalchurch.app
SUMMARY:Morning Worship
DESCRIPTION:
URL:https://pataskalanaz.digitalchurch.app/event/morning-worship/2027-05-09/
LOCATION:Pataskala Church of the Nazarene\, 8100 Hazelton Etna Road\, Pataskala\, OH\, 43062\, United States
ORGANIZER;CN="Church office":MAILTO:heislord@pataskalanaz.org
END:VEVENT
BEGIN:VEVENT
DTSTART;TZID=America/New_York:20270509T103000
DTEND;TZID=America/New_York:20270509T103000
DTSTAMP:20260425T123719
CREATED:20221031T224244Z
LAST-MODIFIED:20221031T224244Z
UID:20136-1809858600-1809858600@pataskalanaz.digitalchurch.app
SUMMARY:Greenhouse: Children’s Church
DESCRIPTION:
URL:https://pataskalanaz.digitalchurch.app/event/greenhouse/2027-05-09/
LOCATION:Pataskala Church of the Nazarene\, 8100 Hazelton Etna Road\, Pataskala\, OH\, 43062\, United States
CATEGORIES:Children's Ministry
ORGANIZER;CN="Church office":MAILTO:heislord@pataskalanaz.org
END:VEVENT
BEGIN:VEVENT
DTSTART;TZID=America/New_York:20270513T190000
DTEND;TZID=America/New_York:20270513T190000
DTSTAMP:20260425T123719
CREATED:20240219T194957Z
LAST-MODIFIED:20240219T194957Z
UID:20144-1810234800-1810234800@pataskalanaz.digitalchurch.app
SUMMARY:Zoom Bible Study
DESCRIPTION:Topics varies \nJoin: Zoom Link
URL:https://pataskalanaz.digitalchurch.app/event/zoom-bible-study/2027-05-13/
LOCATION:Pataskala Church of the Nazarene\, 8100 Hazelton Etna Road\, Pataskala\, OH\, 43062\, United States
CATEGORIES:Small Groups
ORGANIZER;CN="Church office":MAILTO:heislord@pataskalanaz.org
END:VEVENT
BEGIN:VEVENT
DTSTART;TZID=America/New_York:20270516T100000
DTEND;TZID=America/New_York:20270516T100000
DTSTAMP:20260425T123719
CREATED:20220410T233239Z
LAST-MODIFIED:20220410T233239Z
UID:20147-1810461600-1810461600@pataskalanaz.digitalchurch.app
SUMMARY:Morning Worship
DESCRIPTION:
URL:https://pataskalanaz.digitalchurch.app/event/morning-worship/2027-05-16/
LOCATION:Pataskala Church of the Nazarene\, 8100 Hazelton Etna Road\, Pataskala\, OH\, 43062\, United States
ORGANIZER;CN="Church office":MAILTO:heislord@pataskalanaz.org
END:VEVENT
BEGIN:VEVENT
DTSTART;TZID=America/New_York:20270516T103000
DTEND;TZID=America/New_York:20270516T103000
DTSTAMP:20260425T123719
CREATED:20221031T224244Z
LAST-MODIFIED:20221031T224244Z
UID:20146-1810463400-1810463400@pataskalanaz.digitalchurch.app
SUMMARY:Greenhouse: Children’s Church
DESCRIPTION:
URL:https://pataskalanaz.digitalchurch.app/event/greenhouse/2027-05-16/
LOCATION:Pataskala Church of the Nazarene\, 8100 Hazelton Etna Road\, Pataskala\, OH\, 43062\, United States
CATEGORIES:Children's Ministry
ORGANIZER;CN="Church office":MAILTO:heislord@pataskalanaz.org
END:VEVENT
BEGIN:VEVENT
DTSTART;TZID=America/New_York:20270520T190000
DTEND;TZID=America/New_York:20270520T190000
DTSTAMP:20260425T123719
CREATED:20240219T194957Z
LAST-MODIFIED:20240219T194957Z
UID:20154-1810839600-1810839600@pataskalanaz.digitalchurch.app
SUMMARY:Zoom Bible Study
DESCRIPTION:Topics varies \nJoin: Zoom Link
URL:https://pataskalanaz.digitalchurch.app/event/zoom-bible-study/2027-05-20/
LOCATION:Pataskala Church of the Nazarene\, 8100 Hazelton Etna Road\, Pataskala\, OH\, 43062\, United States
CATEGORIES:Small Groups
ORGANIZER;CN="Church office":MAILTO:heislord@pataskalanaz.org
END:VEVENT
BEGIN:VEVENT
DTSTART;TZID=America/New_York:20270523T100000
DTEND;TZID=America/New_York:20270523T100000
DTSTAMP:20260425T123719
CREATED:20220410T233239Z
LAST-MODIFIED:20220410T233239Z
UID:20157-1811066400-1811066400@pataskalanaz.digitalchurch.app
SUMMARY:Morning Worship
DESCRIPTION:
URL:https://pataskalanaz.digitalchurch.app/event/morning-worship/2027-05-23/
LOCATION:Pataskala Church of the Nazarene\, 8100 Hazelton Etna Road\, Pataskala\, OH\, 43062\, United States
ORGANIZER;CN="Church office":MAILTO:heislord@pataskalanaz.org
END:VEVENT
BEGIN:VEVENT
DTSTART;TZID=America/New_York:20270523T103000
DTEND;TZID=America/New_York:20270523T103000
DTSTAMP:20260425T123719
CREATED:20221031T224244Z
LAST-MODIFIED:20221031T224244Z
UID:20156-1811068200-1811068200@pataskalanaz.digitalchurch.app
SUMMARY:Greenhouse: Children’s Church
DESCRIPTION:
URL:https://pataskalanaz.digitalchurch.app/event/greenhouse/2027-05-23/
LOCATION:Pataskala Church of the Nazarene\, 8100 Hazelton Etna Road\, Pataskala\, OH\, 43062\, United States
CATEGORIES:Children's Ministry
ORGANIZER;CN="Church office":MAILTO:heislord@pataskalanaz.org
END:VEVENT
END:VCALENDAR