BEGIN:VCALENDAR
VERSION:2.0
PRODID:-//Pataskala Church of the Nazarene - ECPv6.6.4//NONSGML v1.0//EN
CALSCALE:GREGORIAN
METHOD:PUBLISH
X-WR-CALNAME:Pataskala Church of the Nazarene
X-ORIGINAL-URL:https://pataskalanaz.digitalchurch.app
X-WR-CALDESC:Events for Pataskala Church of the Nazarene
REFRESH-INTERVAL;VALUE=DURATION:PT1H
X-Robots-Tag:noindex
X-PUBLISHED-TTL:PT1H
BEGIN:VTIMEZONE
TZID:America/New_York
BEGIN:DAYLIGHT
TZOFFSETFROM:-0500
TZOFFSETTO:-0400
TZNAME:EDT
DTSTART:20220313T070000
END:DAYLIGHT
BEGIN:STANDARD
TZOFFSETFROM:-0400
TZOFFSETTO:-0500
TZNAME:EST
DTSTART:20221106T060000
END:STANDARD
END:VTIMEZONE
BEGIN:VEVENT
DTSTART;TZID=America/New_York:20220206T170000
DTEND;TZID=America/New_York:20220206T170000
DTSTAMP:20260420T013316
CREATED:20220131T190409Z
LAST-MODIFIED:20220314T143302Z
UID:13096-1644166800-1644166800@pataskalanaz.digitalchurch.app
SUMMARY:Rook Tournament
DESCRIPTION:
URL:https://pataskalanaz.digitalchurch.app/event/rook-tournament/2022-02-06/
LOCATION:Pataskala Church of the Nazarene\, 8100 Hazelton Etna Road\, Pataskala\, OH\, 43062\, United States
END:VEVENT
BEGIN:VEVENT
DTSTART;TZID=America/New_York:20220213T113000
DTEND;TZID=America/New_York:20220213T113000
DTSTAMP:20260420T013316
CREATED:20220126T145653Z
LAST-MODIFIED:20220126T145750Z
UID:13088-1644751800-1644751800@pataskalanaz.digitalchurch.app
SUMMARY:10 Year Celebration of Pastor Gary and Tammy’s Ministry at PatNaz
DESCRIPTION:
URL:https://pataskalanaz.digitalchurch.app/event/10-year-celebration-of-pastor-gary-and-tammys-ministry-at-patnaz/
LOCATION:OH
END:VEVENT
END:VCALENDAR