BEGIN:VCALENDAR
VERSION:2.0
PRODID:-//Pataskala Church of the Nazarene - ECPv6.6.4//NONSGML v1.0//EN
CALSCALE:GREGORIAN
METHOD:PUBLISH
X-ORIGINAL-URL:https://pataskalanaz.digitalchurch.app
X-WR-CALDESC:Events for Pataskala Church of the Nazarene
REFRESH-INTERVAL;VALUE=DURATION:PT1H
X-Robots-Tag:noindex
X-PUBLISHED-TTL:PT1H
BEGIN:VTIMEZONE
TZID:America/New_York
BEGIN:DAYLIGHT
TZOFFSETFROM:-0500
TZOFFSETTO:-0400
TZNAME:EDT
DTSTART:20210314T070000
END:DAYLIGHT
BEGIN:STANDARD
TZOFFSETFROM:-0400
TZOFFSETTO:-0500
TZNAME:EST
DTSTART:20211107T060000
END:STANDARD
END:VTIMEZONE
BEGIN:VEVENT
DTSTART;TZID=America/New_York:20210403T093000
DTEND;TZID=America/New_York:20210403T093000
DTSTAMP:20260425T081253
CREATED:20210314T165824Z
LAST-MODIFIED:20210314T165824Z
UID:10486-1617442200-1617442200@pataskalanaz.digitalchurch.app
SUMMARY:Easter Egg Hunt
DESCRIPTION:
URL:https://pataskalanaz.digitalchurch.app/event/easter-egg-hunt/
LOCATION:Pataskala Church of the Nazarene\, 8100 Hazelton Etna Road\, Pataskala\, OH\, 43062\, United States
CATEGORIES:Children's Ministry
ORGANIZER;CN="Church office":MAILTO:heislord@pataskalanaz.org
END:VEVENT
BEGIN:VEVENT
DTSTART;TZID=America/New_York:20210403T110000
DTEND;TZID=America/New_York:20210403T110000
DTSTAMP:20260425T081253
CREATED:20210314T165936Z
LAST-MODIFIED:20210314T165936Z
UID:10490-1617447600-1617447600@pataskalanaz.digitalchurch.app
SUMMARY:Easter Egg Hunt
DESCRIPTION:
URL:https://pataskalanaz.digitalchurch.app/event/easter-egg-hunt-2/
LOCATION:Pataskala Church of the Nazarene\, 8100 Hazelton Etna Road\, Pataskala\, OH\, 43062\, United States
CATEGORIES:Children's Ministry
ORGANIZER;CN="Church office":MAILTO:heislord@pataskalanaz.org
END:VEVENT
BEGIN:VEVENT
DTSTART;TZID=America/New_York:20210410T093000
DTEND;TZID=America/New_York:20210410T093000
DTSTAMP:20260425T081253
CREATED:20210314T175852Z
LAST-MODIFIED:20210314T175852Z
UID:10493-1618047000-1618047000@pataskalanaz.digitalchurch.app
SUMMARY:Pat Naz Men’s Golf Outing
DESCRIPTION:
URL:https://pataskalanaz.digitalchurch.app/event/pat-naz-mens-golf-outing/
LOCATION:Kyber Run Golf Course\, 5261 County Road 41\, Johnstown\, OH\, 43031\, United States
ORGANIZER;CN="Church office":MAILTO:heislord@pataskalanaz.org
END:VEVENT
BEGIN:VEVENT
DTSTART;TZID=America/New_York:20210418T180000
DTEND;TZID=America/New_York:20210418T180000
DTSTAMP:20260425T081253
CREATED:20210328T225645Z
LAST-MODIFIED:20210328T225804Z
UID:10521-1618768800-1618768800@pataskalanaz.digitalchurch.app
SUMMARY:“Revelation: Extravagant Hope”
DESCRIPTION:6 week study on the book of Revelation\nCost: $15 for study guide\nFacilitator: Pastor Gary
URL:https://pataskalanaz.digitalchurch.app/event/revelation-extravagant-hope/2021-04-18/
LOCATION:Pataskala Church of the Nazarene\, 8100 Hazelton Etna Road\, Pataskala\, OH\, 43062\, United States
CATEGORIES:Small Groups
ATTACH;FMTTYPE=image/jpeg:https://pataskalanaz.digitalchurch.app/wp-content/uploads/sites/92/2021/03/02D1068E-6A37-4BFC-99A1-65CA2E24B965.jpeg
ORGANIZER;CN="Church office":MAILTO:heislord@pataskalanaz.org
END:VEVENT
END:VCALENDAR