BEGIN:VCALENDAR
VERSION:2.0
PRODID:-//Pataskala Church of the Nazarene - ECPv6.6.4//NONSGML v1.0//EN
CALSCALE:GREGORIAN
METHOD:PUBLISH
X-ORIGINAL-URL:https://pataskalanaz.digitalchurch.app
X-WR-CALDESC:Events for Pataskala Church of the Nazarene
REFRESH-INTERVAL;VALUE=DURATION:PT1H
X-Robots-Tag:noindex
X-PUBLISHED-TTL:PT1H
BEGIN:VTIMEZONE
TZID:America/New_York
BEGIN:DAYLIGHT
TZOFFSETFROM:-0500
TZOFFSETTO:-0400
TZNAME:EDT
DTSTART:20270314T070000
END:DAYLIGHT
BEGIN:STANDARD
TZOFFSETFROM:-0400
TZOFFSETTO:-0500
TZNAME:EST
DTSTART:20271107T060000
END:STANDARD
BEGIN:DAYLIGHT
TZOFFSETFROM:-0500
TZOFFSETTO:-0400
TZNAME:EDT
DTSTART:20280312T070000
END:DAYLIGHT
BEGIN:STANDARD
TZOFFSETFROM:-0400
TZOFFSETTO:-0500
TZNAME:EST
DTSTART:20281105T060000
END:STANDARD
END:VTIMEZONE
BEGIN:VEVENT
DTSTART;TZID=America/New_York:20270729T190000
DTEND;TZID=America/New_York:20270729T190000
DTSTAMP:20260425T083935
CREATED:20240219T194957Z
LAST-MODIFIED:20240219T194957Z
UID:20254-1816887600-1816887600@pataskalanaz.digitalchurch.app
SUMMARY:Zoom Bible Study
DESCRIPTION:Topics varies \nJoin: Zoom Link
URL:https://pataskalanaz.digitalchurch.app/event/zoom-bible-study/2027-07-29/
LOCATION:Pataskala Church of the Nazarene\, 8100 Hazelton Etna Road\, Pataskala\, OH\, 43062\, United States
CATEGORIES:Small Groups
ORGANIZER;CN="Church office":MAILTO:heislord@pataskalanaz.org
END:VEVENT
BEGIN:VEVENT
DTSTART;TZID=America/New_York:20270805T190000
DTEND;TZID=America/New_York:20270805T190000
DTSTAMP:20260425T083935
CREATED:20240219T194957Z
LAST-MODIFIED:20240219T194957Z
UID:20264-1817492400-1817492400@pataskalanaz.digitalchurch.app
SUMMARY:Zoom Bible Study
DESCRIPTION:Topics varies \nJoin: Zoom Link
URL:https://pataskalanaz.digitalchurch.app/event/zoom-bible-study/2027-08-05/
LOCATION:Pataskala Church of the Nazarene\, 8100 Hazelton Etna Road\, Pataskala\, OH\, 43062\, United States
CATEGORIES:Small Groups
ORGANIZER;CN="Church office":MAILTO:heislord@pataskalanaz.org
END:VEVENT
BEGIN:VEVENT
DTSTART;TZID=America/New_York:20270812T190000
DTEND;TZID=America/New_York:20270812T190000
DTSTAMP:20260425T083935
CREATED:20240219T194957Z
LAST-MODIFIED:20240219T194957Z
UID:20274-1818097200-1818097200@pataskalanaz.digitalchurch.app
SUMMARY:Zoom Bible Study
DESCRIPTION:Topics varies \nJoin: Zoom Link
URL:https://pataskalanaz.digitalchurch.app/event/zoom-bible-study/2027-08-12/
LOCATION:Pataskala Church of the Nazarene\, 8100 Hazelton Etna Road\, Pataskala\, OH\, 43062\, United States
CATEGORIES:Small Groups
ORGANIZER;CN="Church office":MAILTO:heislord@pataskalanaz.org
END:VEVENT
BEGIN:VEVENT
DTSTART;TZID=America/New_York:20270819T190000
DTEND;TZID=America/New_York:20270819T190000
DTSTAMP:20260425T083936
CREATED:20240219T194957Z
LAST-MODIFIED:20240219T194957Z
UID:20284-1818702000-1818702000@pataskalanaz.digitalchurch.app
SUMMARY:Zoom Bible Study
DESCRIPTION:Topics varies \nJoin: Zoom Link
URL:https://pataskalanaz.digitalchurch.app/event/zoom-bible-study/2027-08-19/
LOCATION:Pataskala Church of the Nazarene\, 8100 Hazelton Etna Road\, Pataskala\, OH\, 43062\, United States
CATEGORIES:Small Groups
ORGANIZER;CN="Church office":MAILTO:heislord@pataskalanaz.org
END:VEVENT
BEGIN:VEVENT
DTSTART;TZID=America/New_York:20270826T190000
DTEND;TZID=America/New_York:20270826T190000
DTSTAMP:20260425T083936
CREATED:20240219T194957Z
LAST-MODIFIED:20240219T194957Z
UID:20294-1819306800-1819306800@pataskalanaz.digitalchurch.app
SUMMARY:Zoom Bible Study
DESCRIPTION:Topics varies \nJoin: Zoom Link
URL:https://pataskalanaz.digitalchurch.app/event/zoom-bible-study/2027-08-26/
LOCATION:Pataskala Church of the Nazarene\, 8100 Hazelton Etna Road\, Pataskala\, OH\, 43062\, United States
CATEGORIES:Small Groups
ORGANIZER;CN="Church office":MAILTO:heislord@pataskalanaz.org
END:VEVENT
BEGIN:VEVENT
DTSTART;TZID=America/New_York:20270902T190000
DTEND;TZID=America/New_York:20270902T190000
DTSTAMP:20260425T083936
CREATED:20240219T194957Z
LAST-MODIFIED:20240219T194957Z
UID:20304-1819911600-1819911600@pataskalanaz.digitalchurch.app
SUMMARY:Zoom Bible Study
DESCRIPTION:Topics varies \nJoin: Zoom Link
URL:https://pataskalanaz.digitalchurch.app/event/zoom-bible-study/2027-09-02/
LOCATION:Pataskala Church of the Nazarene\, 8100 Hazelton Etna Road\, Pataskala\, OH\, 43062\, United States
CATEGORIES:Small Groups
ORGANIZER;CN="Church office":MAILTO:heislord@pataskalanaz.org
END:VEVENT
BEGIN:VEVENT
DTSTART;TZID=America/New_York:20270909T190000
DTEND;TZID=America/New_York:20270909T190000
DTSTAMP:20260425T083936
CREATED:20240219T194957Z
LAST-MODIFIED:20240219T194957Z
UID:20314-1820516400-1820516400@pataskalanaz.digitalchurch.app
SUMMARY:Zoom Bible Study
DESCRIPTION:Topics varies \nJoin: Zoom Link
URL:https://pataskalanaz.digitalchurch.app/event/zoom-bible-study/2027-09-09/
LOCATION:Pataskala Church of the Nazarene\, 8100 Hazelton Etna Road\, Pataskala\, OH\, 43062\, United States
CATEGORIES:Small Groups
ORGANIZER;CN="Church office":MAILTO:heislord@pataskalanaz.org
END:VEVENT
BEGIN:VEVENT
DTSTART;TZID=America/New_York:20270916T190000
DTEND;TZID=America/New_York:20270916T190000
DTSTAMP:20260425T083936
CREATED:20240219T194957Z
LAST-MODIFIED:20240219T194957Z
UID:20324-1821121200-1821121200@pataskalanaz.digitalchurch.app
SUMMARY:Zoom Bible Study
DESCRIPTION:Topics varies \nJoin: Zoom Link
URL:https://pataskalanaz.digitalchurch.app/event/zoom-bible-study/2027-09-16/
LOCATION:Pataskala Church of the Nazarene\, 8100 Hazelton Etna Road\, Pataskala\, OH\, 43062\, United States
CATEGORIES:Small Groups
ORGANIZER;CN="Church office":MAILTO:heislord@pataskalanaz.org
END:VEVENT
BEGIN:VEVENT
DTSTART;TZID=America/New_York:20270923T190000
DTEND;TZID=America/New_York:20270923T190000
DTSTAMP:20260425T083936
CREATED:20240219T194957Z
LAST-MODIFIED:20240219T194957Z
UID:20334-1821726000-1821726000@pataskalanaz.digitalchurch.app
SUMMARY:Zoom Bible Study
DESCRIPTION:Topics varies \nJoin: Zoom Link
URL:https://pataskalanaz.digitalchurch.app/event/zoom-bible-study/2027-09-23/
LOCATION:Pataskala Church of the Nazarene\, 8100 Hazelton Etna Road\, Pataskala\, OH\, 43062\, United States
CATEGORIES:Small Groups
ORGANIZER;CN="Church office":MAILTO:heislord@pataskalanaz.org
END:VEVENT
BEGIN:VEVENT
DTSTART;TZID=America/New_York:20270930T190000
DTEND;TZID=America/New_York:20270930T190000
DTSTAMP:20260425T083936
CREATED:20240219T194957Z
LAST-MODIFIED:20240219T194957Z
UID:20344-1822330800-1822330800@pataskalanaz.digitalchurch.app
SUMMARY:Zoom Bible Study
DESCRIPTION:Topics varies \nJoin: Zoom Link
URL:https://pataskalanaz.digitalchurch.app/event/zoom-bible-study/2027-09-30/
LOCATION:Pataskala Church of the Nazarene\, 8100 Hazelton Etna Road\, Pataskala\, OH\, 43062\, United States
CATEGORIES:Small Groups
ORGANIZER;CN="Church office":MAILTO:heislord@pataskalanaz.org
END:VEVENT
BEGIN:VEVENT
DTSTART;TZID=America/New_York:20271007T190000
DTEND;TZID=America/New_York:20271007T190000
DTSTAMP:20260425T083936
CREATED:20240219T194957Z
LAST-MODIFIED:20240219T194957Z
UID:20354-1822935600-1822935600@pataskalanaz.digitalchurch.app
SUMMARY:Zoom Bible Study
DESCRIPTION:Topics varies \nJoin: Zoom Link
URL:https://pataskalanaz.digitalchurch.app/event/zoom-bible-study/2027-10-07/
LOCATION:Pataskala Church of the Nazarene\, 8100 Hazelton Etna Road\, Pataskala\, OH\, 43062\, United States
CATEGORIES:Small Groups
ORGANIZER;CN="Church office":MAILTO:heislord@pataskalanaz.org
END:VEVENT
BEGIN:VEVENT
DTSTART;TZID=America/New_York:20271014T190000
DTEND;TZID=America/New_York:20271014T190000
DTSTAMP:20260425T083936
CREATED:20240219T194957Z
LAST-MODIFIED:20240219T194957Z
UID:20364-1823540400-1823540400@pataskalanaz.digitalchurch.app
SUMMARY:Zoom Bible Study
DESCRIPTION:Topics varies \nJoin: Zoom Link
URL:https://pataskalanaz.digitalchurch.app/event/zoom-bible-study/2027-10-14/
LOCATION:Pataskala Church of the Nazarene\, 8100 Hazelton Etna Road\, Pataskala\, OH\, 43062\, United States
CATEGORIES:Small Groups
ORGANIZER;CN="Church office":MAILTO:heislord@pataskalanaz.org
END:VEVENT
BEGIN:VEVENT
DTSTART;TZID=America/New_York:20271021T190000
DTEND;TZID=America/New_York:20271021T190000
DTSTAMP:20260425T083936
CREATED:20240219T194957Z
LAST-MODIFIED:20240219T194957Z
UID:20374-1824145200-1824145200@pataskalanaz.digitalchurch.app
SUMMARY:Zoom Bible Study
DESCRIPTION:Topics varies \nJoin: Zoom Link
URL:https://pataskalanaz.digitalchurch.app/event/zoom-bible-study/2027-10-21/
LOCATION:Pataskala Church of the Nazarene\, 8100 Hazelton Etna Road\, Pataskala\, OH\, 43062\, United States
CATEGORIES:Small Groups
ORGANIZER;CN="Church office":MAILTO:heislord@pataskalanaz.org
END:VEVENT
BEGIN:VEVENT
DTSTART;TZID=America/New_York:20271028T190000
DTEND;TZID=America/New_York:20271028T190000
DTSTAMP:20260425T083936
CREATED:20240219T194957Z
LAST-MODIFIED:20240219T194957Z
UID:20384-1824750000-1824750000@pataskalanaz.digitalchurch.app
SUMMARY:Zoom Bible Study
DESCRIPTION:Topics varies \nJoin: Zoom Link
URL:https://pataskalanaz.digitalchurch.app/event/zoom-bible-study/2027-10-28/
LOCATION:Pataskala Church of the Nazarene\, 8100 Hazelton Etna Road\, Pataskala\, OH\, 43062\, United States
CATEGORIES:Small Groups
ORGANIZER;CN="Church office":MAILTO:heislord@pataskalanaz.org
END:VEVENT
BEGIN:VEVENT
DTSTART;TZID=America/New_York:20271104T190000
DTEND;TZID=America/New_York:20271104T190000
DTSTAMP:20260425T083936
CREATED:20240219T194957Z
LAST-MODIFIED:20240219T194957Z
UID:20394-1825354800-1825354800@pataskalanaz.digitalchurch.app
SUMMARY:Zoom Bible Study
DESCRIPTION:Topics varies \nJoin: Zoom Link
URL:https://pataskalanaz.digitalchurch.app/event/zoom-bible-study/2027-11-04/
LOCATION:Pataskala Church of the Nazarene\, 8100 Hazelton Etna Road\, Pataskala\, OH\, 43062\, United States
CATEGORIES:Small Groups
ORGANIZER;CN="Church office":MAILTO:heislord@pataskalanaz.org
END:VEVENT
BEGIN:VEVENT
DTSTART;TZID=America/New_York:20271111T190000
DTEND;TZID=America/New_York:20271111T190000
DTSTAMP:20260425T083936
CREATED:20240219T194957Z
LAST-MODIFIED:20240219T194957Z
UID:20404-1825959600-1825959600@pataskalanaz.digitalchurch.app
SUMMARY:Zoom Bible Study
DESCRIPTION:Topics varies \nJoin: Zoom Link
URL:https://pataskalanaz.digitalchurch.app/event/zoom-bible-study/2027-11-11/
LOCATION:Pataskala Church of the Nazarene\, 8100 Hazelton Etna Road\, Pataskala\, OH\, 43062\, United States
CATEGORIES:Small Groups
ORGANIZER;CN="Church office":MAILTO:heislord@pataskalanaz.org
END:VEVENT
BEGIN:VEVENT
DTSTART;TZID=America/New_York:20271118T190000
DTEND;TZID=America/New_York:20271118T190000
DTSTAMP:20260425T083936
CREATED:20240219T194957Z
LAST-MODIFIED:20240219T194957Z
UID:20414-1826564400-1826564400@pataskalanaz.digitalchurch.app
SUMMARY:Zoom Bible Study
DESCRIPTION:Topics varies \nJoin: Zoom Link
URL:https://pataskalanaz.digitalchurch.app/event/zoom-bible-study/2027-11-18/
LOCATION:Pataskala Church of the Nazarene\, 8100 Hazelton Etna Road\, Pataskala\, OH\, 43062\, United States
CATEGORIES:Small Groups
ORGANIZER;CN="Church office":MAILTO:heislord@pataskalanaz.org
END:VEVENT
BEGIN:VEVENT
DTSTART;TZID=America/New_York:20271125T190000
DTEND;TZID=America/New_York:20271125T190000
DTSTAMP:20260425T083936
CREATED:20240219T194957Z
LAST-MODIFIED:20240219T194957Z
UID:20424-1827169200-1827169200@pataskalanaz.digitalchurch.app
SUMMARY:Zoom Bible Study
DESCRIPTION:Topics varies \nJoin: Zoom Link
URL:https://pataskalanaz.digitalchurch.app/event/zoom-bible-study/2027-11-25/
LOCATION:Pataskala Church of the Nazarene\, 8100 Hazelton Etna Road\, Pataskala\, OH\, 43062\, United States
CATEGORIES:Small Groups
ORGANIZER;CN="Church office":MAILTO:heislord@pataskalanaz.org
END:VEVENT
BEGIN:VEVENT
DTSTART;TZID=America/New_York:20271202T190000
DTEND;TZID=America/New_York:20271202T190000
DTSTAMP:20260425T083936
CREATED:20240219T194957Z
LAST-MODIFIED:20240219T194957Z
UID:20434-1827774000-1827774000@pataskalanaz.digitalchurch.app
SUMMARY:Zoom Bible Study
DESCRIPTION:Topics varies \nJoin: Zoom Link
URL:https://pataskalanaz.digitalchurch.app/event/zoom-bible-study/2027-12-02/
LOCATION:Pataskala Church of the Nazarene\, 8100 Hazelton Etna Road\, Pataskala\, OH\, 43062\, United States
CATEGORIES:Small Groups
ORGANIZER;CN="Church office":MAILTO:heislord@pataskalanaz.org
END:VEVENT
BEGIN:VEVENT
DTSTART;TZID=America/New_York:20271209T190000
DTEND;TZID=America/New_York:20271209T190000
DTSTAMP:20260425T083936
CREATED:20240219T194957Z
LAST-MODIFIED:20240219T194957Z
UID:20444-1828378800-1828378800@pataskalanaz.digitalchurch.app
SUMMARY:Zoom Bible Study
DESCRIPTION:Topics varies \nJoin: Zoom Link
URL:https://pataskalanaz.digitalchurch.app/event/zoom-bible-study/2027-12-09/
LOCATION:Pataskala Church of the Nazarene\, 8100 Hazelton Etna Road\, Pataskala\, OH\, 43062\, United States
CATEGORIES:Small Groups
ORGANIZER;CN="Church office":MAILTO:heislord@pataskalanaz.org
END:VEVENT
BEGIN:VEVENT
DTSTART;TZID=America/New_York:20271216T190000
DTEND;TZID=America/New_York:20271216T190000
DTSTAMP:20260425T083936
CREATED:20240219T194957Z
LAST-MODIFIED:20240219T194957Z
UID:20454-1828983600-1828983600@pataskalanaz.digitalchurch.app
SUMMARY:Zoom Bible Study
DESCRIPTION:Topics varies \nJoin: Zoom Link
URL:https://pataskalanaz.digitalchurch.app/event/zoom-bible-study/2027-12-16/
LOCATION:Pataskala Church of the Nazarene\, 8100 Hazelton Etna Road\, Pataskala\, OH\, 43062\, United States
CATEGORIES:Small Groups
ORGANIZER;CN="Church office":MAILTO:heislord@pataskalanaz.org
END:VEVENT
BEGIN:VEVENT
DTSTART;TZID=America/New_York:20271223T190000
DTEND;TZID=America/New_York:20271223T190000
DTSTAMP:20260425T083936
CREATED:20240219T194957Z
LAST-MODIFIED:20240219T194957Z
UID:20464-1829588400-1829588400@pataskalanaz.digitalchurch.app
SUMMARY:Zoom Bible Study
DESCRIPTION:Topics varies \nJoin: Zoom Link
URL:https://pataskalanaz.digitalchurch.app/event/zoom-bible-study/2027-12-23/
LOCATION:Pataskala Church of the Nazarene\, 8100 Hazelton Etna Road\, Pataskala\, OH\, 43062\, United States
CATEGORIES:Small Groups
ORGANIZER;CN="Church office":MAILTO:heislord@pataskalanaz.org
END:VEVENT
BEGIN:VEVENT
DTSTART;TZID=America/New_York:20271230T190000
DTEND;TZID=America/New_York:20271230T190000
DTSTAMP:20260425T083936
CREATED:20240219T194957Z
LAST-MODIFIED:20240219T194957Z
UID:20474-1830193200-1830193200@pataskalanaz.digitalchurch.app
SUMMARY:Zoom Bible Study
DESCRIPTION:Topics varies \nJoin: Zoom Link
URL:https://pataskalanaz.digitalchurch.app/event/zoom-bible-study/2027-12-30/
LOCATION:Pataskala Church of the Nazarene\, 8100 Hazelton Etna Road\, Pataskala\, OH\, 43062\, United States
CATEGORIES:Small Groups
ORGANIZER;CN="Church office":MAILTO:heislord@pataskalanaz.org
END:VEVENT
BEGIN:VEVENT
DTSTART;TZID=America/New_York:20280106T190000
DTEND;TZID=America/New_York:20280106T190000
DTSTAMP:20260425T083936
CREATED:20240219T194957Z
LAST-MODIFIED:20240219T194957Z
UID:20484-1830798000-1830798000@pataskalanaz.digitalchurch.app
SUMMARY:Zoom Bible Study
DESCRIPTION:Topics varies \nJoin: Zoom Link
URL:https://pataskalanaz.digitalchurch.app/event/zoom-bible-study/2028-01-06/
LOCATION:Pataskala Church of the Nazarene\, 8100 Hazelton Etna Road\, Pataskala\, OH\, 43062\, United States
CATEGORIES:Small Groups
ORGANIZER;CN="Church office":MAILTO:heislord@pataskalanaz.org
END:VEVENT
BEGIN:VEVENT
DTSTART;TZID=America/New_York:20280113T190000
DTEND;TZID=America/New_York:20280113T190000
DTSTAMP:20260425T083936
CREATED:20240219T194957Z
LAST-MODIFIED:20240219T194957Z
UID:20494-1831402800-1831402800@pataskalanaz.digitalchurch.app
SUMMARY:Zoom Bible Study
DESCRIPTION:Topics varies \nJoin: Zoom Link
URL:https://pataskalanaz.digitalchurch.app/event/zoom-bible-study/2028-01-13/
LOCATION:Pataskala Church of the Nazarene\, 8100 Hazelton Etna Road\, Pataskala\, OH\, 43062\, United States
CATEGORIES:Small Groups
ORGANIZER;CN="Church office":MAILTO:heislord@pataskalanaz.org
END:VEVENT
BEGIN:VEVENT
DTSTART;TZID=America/New_York:20280120T190000
DTEND;TZID=America/New_York:20280120T190000
DTSTAMP:20260425T083936
CREATED:20240219T194957Z
LAST-MODIFIED:20240219T194957Z
UID:20504-1832007600-1832007600@pataskalanaz.digitalchurch.app
SUMMARY:Zoom Bible Study
DESCRIPTION:Topics varies \nJoin: Zoom Link
URL:https://pataskalanaz.digitalchurch.app/event/zoom-bible-study/2028-01-20/
LOCATION:Pataskala Church of the Nazarene\, 8100 Hazelton Etna Road\, Pataskala\, OH\, 43062\, United States
CATEGORIES:Small Groups
ORGANIZER;CN="Church office":MAILTO:heislord@pataskalanaz.org
END:VEVENT
BEGIN:VEVENT
DTSTART;TZID=America/New_York:20280127T190000
DTEND;TZID=America/New_York:20280127T190000
DTSTAMP:20260425T083936
CREATED:20240219T194957Z
LAST-MODIFIED:20240219T194957Z
UID:20514-1832612400-1832612400@pataskalanaz.digitalchurch.app
SUMMARY:Zoom Bible Study
DESCRIPTION:Topics varies \nJoin: Zoom Link
URL:https://pataskalanaz.digitalchurch.app/event/zoom-bible-study/2028-01-27/
LOCATION:Pataskala Church of the Nazarene\, 8100 Hazelton Etna Road\, Pataskala\, OH\, 43062\, United States
CATEGORIES:Small Groups
ORGANIZER;CN="Church office":MAILTO:heislord@pataskalanaz.org
END:VEVENT
BEGIN:VEVENT
DTSTART;TZID=America/New_York:20280203T190000
DTEND;TZID=America/New_York:20280203T190000
DTSTAMP:20260425T083936
CREATED:20240219T194957Z
LAST-MODIFIED:20240219T194957Z
UID:20524-1833217200-1833217200@pataskalanaz.digitalchurch.app
SUMMARY:Zoom Bible Study
DESCRIPTION:Topics varies \nJoin: Zoom Link
URL:https://pataskalanaz.digitalchurch.app/event/zoom-bible-study/2028-02-03/
LOCATION:Pataskala Church of the Nazarene\, 8100 Hazelton Etna Road\, Pataskala\, OH\, 43062\, United States
CATEGORIES:Small Groups
ORGANIZER;CN="Church office":MAILTO:heislord@pataskalanaz.org
END:VEVENT
BEGIN:VEVENT
DTSTART;TZID=America/New_York:20280210T190000
DTEND;TZID=America/New_York:20280210T190000
DTSTAMP:20260425T083936
CREATED:20240219T194957Z
LAST-MODIFIED:20240219T194957Z
UID:20534-1833822000-1833822000@pataskalanaz.digitalchurch.app
SUMMARY:Zoom Bible Study
DESCRIPTION:Topics varies \nJoin: Zoom Link
URL:https://pataskalanaz.digitalchurch.app/event/zoom-bible-study/2028-02-10/
LOCATION:Pataskala Church of the Nazarene\, 8100 Hazelton Etna Road\, Pataskala\, OH\, 43062\, United States
CATEGORIES:Small Groups
ORGANIZER;CN="Church office":MAILTO:heislord@pataskalanaz.org
END:VEVENT
BEGIN:VEVENT
DTSTART;TZID=America/New_York:20280217T190000
DTEND;TZID=America/New_York:20280217T190000
DTSTAMP:20260425T083936
CREATED:20240219T194957Z
LAST-MODIFIED:20240219T194957Z
UID:20544-1834426800-1834426800@pataskalanaz.digitalchurch.app
SUMMARY:Zoom Bible Study
DESCRIPTION:Topics varies \nJoin: Zoom Link
URL:https://pataskalanaz.digitalchurch.app/event/zoom-bible-study/2028-02-17/
LOCATION:Pataskala Church of the Nazarene\, 8100 Hazelton Etna Road\, Pataskala\, OH\, 43062\, United States
CATEGORIES:Small Groups
ORGANIZER;CN="Church office":MAILTO:heislord@pataskalanaz.org
END:VEVENT
END:VCALENDAR