BEGIN:VCALENDAR
VERSION:2.0
PRODID:-//Pataskala Church of the Nazarene - ECPv6.6.4//NONSGML v1.0//EN
CALSCALE:GREGORIAN
METHOD:PUBLISH
X-ORIGINAL-URL:https://pataskalanaz.digitalchurch.app
X-WR-CALDESC:Events for Pataskala Church of the Nazarene
REFRESH-INTERVAL;VALUE=DURATION:PT1H
X-Robots-Tag:noindex
X-PUBLISHED-TTL:PT1H
BEGIN:VTIMEZONE
TZID:America/New_York
BEGIN:DAYLIGHT
TZOFFSETFROM:-0500
TZOFFSETTO:-0400
TZNAME:EDT
DTSTART:20260308T070000
END:DAYLIGHT
BEGIN:STANDARD
TZOFFSETFROM:-0400
TZOFFSETTO:-0500
TZNAME:EST
DTSTART:20261101T060000
END:STANDARD
BEGIN:DAYLIGHT
TZOFFSETFROM:-0500
TZOFFSETTO:-0400
TZNAME:EDT
DTSTART:20270314T070000
END:DAYLIGHT
BEGIN:STANDARD
TZOFFSETFROM:-0400
TZOFFSETTO:-0500
TZNAME:EST
DTSTART:20271107T060000
END:STANDARD
END:VTIMEZONE
BEGIN:VEVENT
DTSTART;TZID=America/New_York:20260702T190000
DTEND;TZID=America/New_York:20260702T190000
DTSTAMP:20260421T205615
CREATED:20240219T194957Z
LAST-MODIFIED:20240219T194957Z
UID:19639-1783018800-1783018800@pataskalanaz.digitalchurch.app
SUMMARY:Zoom Bible Study
DESCRIPTION:Topics varies \nJoin: Zoom Link
URL:https://pataskalanaz.digitalchurch.app/event/zoom-bible-study/2026-07-02/
LOCATION:Pataskala Church of the Nazarene\, 8100 Hazelton Etna Road\, Pataskala\, OH\, 43062\, United States
CATEGORIES:Small Groups
ORGANIZER;CN="Church office":MAILTO:heislord@pataskalanaz.org
END:VEVENT
BEGIN:VEVENT
DTSTART;TZID=America/New_York:20260709T190000
DTEND;TZID=America/New_York:20260709T190000
DTSTAMP:20260421T205615
CREATED:20240219T194957Z
LAST-MODIFIED:20240219T194957Z
UID:19650-1783623600-1783623600@pataskalanaz.digitalchurch.app
SUMMARY:Zoom Bible Study
DESCRIPTION:Topics varies \nJoin: Zoom Link
URL:https://pataskalanaz.digitalchurch.app/event/zoom-bible-study/2026-07-09/
LOCATION:Pataskala Church of the Nazarene\, 8100 Hazelton Etna Road\, Pataskala\, OH\, 43062\, United States
CATEGORIES:Small Groups
ORGANIZER;CN="Church office":MAILTO:heislord@pataskalanaz.org
END:VEVENT
BEGIN:VEVENT
DTSTART;TZID=America/New_York:20260716T190000
DTEND;TZID=America/New_York:20260716T190000
DTSTAMP:20260421T205615
CREATED:20240219T194957Z
LAST-MODIFIED:20240219T194957Z
UID:19669-1784228400-1784228400@pataskalanaz.digitalchurch.app
SUMMARY:Zoom Bible Study
DESCRIPTION:Topics varies \nJoin: Zoom Link
URL:https://pataskalanaz.digitalchurch.app/event/zoom-bible-study/2026-07-16/
LOCATION:Pataskala Church of the Nazarene\, 8100 Hazelton Etna Road\, Pataskala\, OH\, 43062\, United States
CATEGORIES:Small Groups
ORGANIZER;CN="Church office":MAILTO:heislord@pataskalanaz.org
END:VEVENT
BEGIN:VEVENT
DTSTART;TZID=America/New_York:20260723T190000
DTEND;TZID=America/New_York:20260723T190000
DTSTAMP:20260421T205615
CREATED:20240219T194957Z
LAST-MODIFIED:20240219T194957Z
UID:19695-1784833200-1784833200@pataskalanaz.digitalchurch.app
SUMMARY:Zoom Bible Study
DESCRIPTION:Topics varies \nJoin: Zoom Link
URL:https://pataskalanaz.digitalchurch.app/event/zoom-bible-study/2026-07-23/
LOCATION:Pataskala Church of the Nazarene\, 8100 Hazelton Etna Road\, Pataskala\, OH\, 43062\, United States
CATEGORIES:Small Groups
ORGANIZER;CN="Church office":MAILTO:heislord@pataskalanaz.org
END:VEVENT
BEGIN:VEVENT
DTSTART;TZID=America/New_York:20260730T190000
DTEND;TZID=America/New_York:20260730T190000
DTSTAMP:20260421T205615
CREATED:20240219T194957Z
LAST-MODIFIED:20240219T194957Z
UID:19706-1785438000-1785438000@pataskalanaz.digitalchurch.app
SUMMARY:Zoom Bible Study
DESCRIPTION:Topics varies \nJoin: Zoom Link
URL:https://pataskalanaz.digitalchurch.app/event/zoom-bible-study/2026-07-30/
LOCATION:Pataskala Church of the Nazarene\, 8100 Hazelton Etna Road\, Pataskala\, OH\, 43062\, United States
CATEGORIES:Small Groups
ORGANIZER;CN="Church office":MAILTO:heislord@pataskalanaz.org
END:VEVENT
BEGIN:VEVENT
DTSTART;TZID=America/New_York:20260806T190000
DTEND;TZID=America/New_York:20260806T190000
DTSTAMP:20260421T205615
CREATED:20240219T194957Z
LAST-MODIFIED:20240219T194957Z
UID:19717-1786042800-1786042800@pataskalanaz.digitalchurch.app
SUMMARY:Zoom Bible Study
DESCRIPTION:Topics varies \nJoin: Zoom Link
URL:https://pataskalanaz.digitalchurch.app/event/zoom-bible-study/2026-08-06/
LOCATION:Pataskala Church of the Nazarene\, 8100 Hazelton Etna Road\, Pataskala\, OH\, 43062\, United States
CATEGORIES:Small Groups
ORGANIZER;CN="Church office":MAILTO:heislord@pataskalanaz.org
END:VEVENT
BEGIN:VEVENT
DTSTART;TZID=America/New_York:20260813T190000
DTEND;TZID=America/New_York:20260813T190000
DTSTAMP:20260421T205615
CREATED:20240219T194957Z
LAST-MODIFIED:20240219T194957Z
UID:19736-1786647600-1786647600@pataskalanaz.digitalchurch.app
SUMMARY:Zoom Bible Study
DESCRIPTION:Topics varies \nJoin: Zoom Link
URL:https://pataskalanaz.digitalchurch.app/event/zoom-bible-study/2026-08-13/
LOCATION:Pataskala Church of the Nazarene\, 8100 Hazelton Etna Road\, Pataskala\, OH\, 43062\, United States
CATEGORIES:Small Groups
ORGANIZER;CN="Church office":MAILTO:heislord@pataskalanaz.org
END:VEVENT
BEGIN:VEVENT
DTSTART;TZID=America/New_York:20260820T190000
DTEND;TZID=America/New_York:20260820T190000
DTSTAMP:20260421T205615
CREATED:20240219T194957Z
LAST-MODIFIED:20240219T194957Z
UID:19747-1787252400-1787252400@pataskalanaz.digitalchurch.app
SUMMARY:Zoom Bible Study
DESCRIPTION:Topics varies \nJoin: Zoom Link
URL:https://pataskalanaz.digitalchurch.app/event/zoom-bible-study/2026-08-20/
LOCATION:Pataskala Church of the Nazarene\, 8100 Hazelton Etna Road\, Pataskala\, OH\, 43062\, United States
CATEGORIES:Small Groups
ORGANIZER;CN="Church office":MAILTO:heislord@pataskalanaz.org
END:VEVENT
BEGIN:VEVENT
DTSTART;TZID=America/New_York:20260827T190000
DTEND;TZID=America/New_York:20260827T190000
DTSTAMP:20260421T205615
CREATED:20240219T194957Z
LAST-MODIFIED:20240219T194957Z
UID:19763-1787857200-1787857200@pataskalanaz.digitalchurch.app
SUMMARY:Zoom Bible Study
DESCRIPTION:Topics varies \nJoin: Zoom Link
URL:https://pataskalanaz.digitalchurch.app/event/zoom-bible-study/2026-08-27/
LOCATION:Pataskala Church of the Nazarene\, 8100 Hazelton Etna Road\, Pataskala\, OH\, 43062\, United States
CATEGORIES:Small Groups
ORGANIZER;CN="Church office":MAILTO:heislord@pataskalanaz.org
END:VEVENT
BEGIN:VEVENT
DTSTART;TZID=America/New_York:20260903T190000
DTEND;TZID=America/New_York:20260903T190000
DTSTAMP:20260421T205615
CREATED:20240219T194957Z
LAST-MODIFIED:20240219T194957Z
UID:19773-1788462000-1788462000@pataskalanaz.digitalchurch.app
SUMMARY:Zoom Bible Study
DESCRIPTION:Topics varies \nJoin: Zoom Link
URL:https://pataskalanaz.digitalchurch.app/event/zoom-bible-study/2026-09-03/
LOCATION:Pataskala Church of the Nazarene\, 8100 Hazelton Etna Road\, Pataskala\, OH\, 43062\, United States
CATEGORIES:Small Groups
ORGANIZER;CN="Church office":MAILTO:heislord@pataskalanaz.org
END:VEVENT
BEGIN:VEVENT
DTSTART;TZID=America/New_York:20260910T190000
DTEND;TZID=America/New_York:20260910T190000
DTSTAMP:20260421T205615
CREATED:20240219T194957Z
LAST-MODIFIED:20240219T194957Z
UID:19793-1789066800-1789066800@pataskalanaz.digitalchurch.app
SUMMARY:Zoom Bible Study
DESCRIPTION:Topics varies \nJoin: Zoom Link
URL:https://pataskalanaz.digitalchurch.app/event/zoom-bible-study/2026-09-10/
LOCATION:Pataskala Church of the Nazarene\, 8100 Hazelton Etna Road\, Pataskala\, OH\, 43062\, United States
CATEGORIES:Small Groups
ORGANIZER;CN="Church office":MAILTO:heislord@pataskalanaz.org
END:VEVENT
BEGIN:VEVENT
DTSTART;TZID=America/New_York:20260917T190000
DTEND;TZID=America/New_York:20260917T190000
DTSTAMP:20260421T205615
CREATED:20240219T194957Z
LAST-MODIFIED:20240219T194957Z
UID:19804-1789671600-1789671600@pataskalanaz.digitalchurch.app
SUMMARY:Zoom Bible Study
DESCRIPTION:Topics varies \nJoin: Zoom Link
URL:https://pataskalanaz.digitalchurch.app/event/zoom-bible-study/2026-09-17/
LOCATION:Pataskala Church of the Nazarene\, 8100 Hazelton Etna Road\, Pataskala\, OH\, 43062\, United States
CATEGORIES:Small Groups
ORGANIZER;CN="Church office":MAILTO:heislord@pataskalanaz.org
END:VEVENT
BEGIN:VEVENT
DTSTART;TZID=America/New_York:20260924T190000
DTEND;TZID=America/New_York:20260924T190000
DTSTAMP:20260421T205615
CREATED:20240219T194957Z
LAST-MODIFIED:20240219T194957Z
UID:19814-1790276400-1790276400@pataskalanaz.digitalchurch.app
SUMMARY:Zoom Bible Study
DESCRIPTION:Topics varies \nJoin: Zoom Link
URL:https://pataskalanaz.digitalchurch.app/event/zoom-bible-study/2026-09-24/
LOCATION:Pataskala Church of the Nazarene\, 8100 Hazelton Etna Road\, Pataskala\, OH\, 43062\, United States
CATEGORIES:Small Groups
ORGANIZER;CN="Church office":MAILTO:heislord@pataskalanaz.org
END:VEVENT
BEGIN:VEVENT
DTSTART;TZID=America/New_York:20261001T190000
DTEND;TZID=America/New_York:20261001T190000
DTSTAMP:20260421T205615
CREATED:20240219T194957Z
LAST-MODIFIED:20240219T194957Z
UID:19824-1790881200-1790881200@pataskalanaz.digitalchurch.app
SUMMARY:Zoom Bible Study
DESCRIPTION:Topics varies \nJoin: Zoom Link
URL:https://pataskalanaz.digitalchurch.app/event/zoom-bible-study/2026-10-01/
LOCATION:Pataskala Church of the Nazarene\, 8100 Hazelton Etna Road\, Pataskala\, OH\, 43062\, United States
CATEGORIES:Small Groups
ORGANIZER;CN="Church office":MAILTO:heislord@pataskalanaz.org
END:VEVENT
BEGIN:VEVENT
DTSTART;TZID=America/New_York:20261008T190000
DTEND;TZID=America/New_York:20261008T190000
DTSTAMP:20260421T205615
CREATED:20240219T194957Z
LAST-MODIFIED:20240219T194957Z
UID:19834-1791486000-1791486000@pataskalanaz.digitalchurch.app
SUMMARY:Zoom Bible Study
DESCRIPTION:Topics varies \nJoin: Zoom Link
URL:https://pataskalanaz.digitalchurch.app/event/zoom-bible-study/2026-10-08/
LOCATION:Pataskala Church of the Nazarene\, 8100 Hazelton Etna Road\, Pataskala\, OH\, 43062\, United States
CATEGORIES:Small Groups
ORGANIZER;CN="Church office":MAILTO:heislord@pataskalanaz.org
END:VEVENT
BEGIN:VEVENT
DTSTART;TZID=America/New_York:20261015T190000
DTEND;TZID=America/New_York:20261015T190000
DTSTAMP:20260421T205615
CREATED:20240219T194957Z
LAST-MODIFIED:20240219T194957Z
UID:19844-1792090800-1792090800@pataskalanaz.digitalchurch.app
SUMMARY:Zoom Bible Study
DESCRIPTION:Topics varies \nJoin: Zoom Link
URL:https://pataskalanaz.digitalchurch.app/event/zoom-bible-study/2026-10-15/
LOCATION:Pataskala Church of the Nazarene\, 8100 Hazelton Etna Road\, Pataskala\, OH\, 43062\, United States
CATEGORIES:Small Groups
ORGANIZER;CN="Church office":MAILTO:heislord@pataskalanaz.org
END:VEVENT
BEGIN:VEVENT
DTSTART;TZID=America/New_York:20261022T190000
DTEND;TZID=America/New_York:20261022T190000
DTSTAMP:20260421T205615
CREATED:20240219T194957Z
LAST-MODIFIED:20240219T194957Z
UID:19854-1792695600-1792695600@pataskalanaz.digitalchurch.app
SUMMARY:Zoom Bible Study
DESCRIPTION:Topics varies \nJoin: Zoom Link
URL:https://pataskalanaz.digitalchurch.app/event/zoom-bible-study/2026-10-22/
LOCATION:Pataskala Church of the Nazarene\, 8100 Hazelton Etna Road\, Pataskala\, OH\, 43062\, United States
CATEGORIES:Small Groups
ORGANIZER;CN="Church office":MAILTO:heislord@pataskalanaz.org
END:VEVENT
BEGIN:VEVENT
DTSTART;TZID=America/New_York:20261029T190000
DTEND;TZID=America/New_York:20261029T190000
DTSTAMP:20260421T205615
CREATED:20240219T194957Z
LAST-MODIFIED:20240219T194957Z
UID:19864-1793300400-1793300400@pataskalanaz.digitalchurch.app
SUMMARY:Zoom Bible Study
DESCRIPTION:Topics varies \nJoin: Zoom Link
URL:https://pataskalanaz.digitalchurch.app/event/zoom-bible-study/2026-10-29/
LOCATION:Pataskala Church of the Nazarene\, 8100 Hazelton Etna Road\, Pataskala\, OH\, 43062\, United States
CATEGORIES:Small Groups
ORGANIZER;CN="Church office":MAILTO:heislord@pataskalanaz.org
END:VEVENT
BEGIN:VEVENT
DTSTART;TZID=America/New_York:20261105T190000
DTEND;TZID=America/New_York:20261105T190000
DTSTAMP:20260421T205615
CREATED:20240219T194957Z
LAST-MODIFIED:20240219T194957Z
UID:19874-1793905200-1793905200@pataskalanaz.digitalchurch.app
SUMMARY:Zoom Bible Study
DESCRIPTION:Topics varies \nJoin: Zoom Link
URL:https://pataskalanaz.digitalchurch.app/event/zoom-bible-study/2026-11-05/
LOCATION:Pataskala Church of the Nazarene\, 8100 Hazelton Etna Road\, Pataskala\, OH\, 43062\, United States
CATEGORIES:Small Groups
ORGANIZER;CN="Church office":MAILTO:heislord@pataskalanaz.org
END:VEVENT
BEGIN:VEVENT
DTSTART;TZID=America/New_York:20261112T190000
DTEND;TZID=America/New_York:20261112T190000
DTSTAMP:20260421T205615
CREATED:20240219T194957Z
LAST-MODIFIED:20240219T194957Z
UID:19884-1794510000-1794510000@pataskalanaz.digitalchurch.app
SUMMARY:Zoom Bible Study
DESCRIPTION:Topics varies \nJoin: Zoom Link
URL:https://pataskalanaz.digitalchurch.app/event/zoom-bible-study/2026-11-12/
LOCATION:Pataskala Church of the Nazarene\, 8100 Hazelton Etna Road\, Pataskala\, OH\, 43062\, United States
CATEGORIES:Small Groups
ORGANIZER;CN="Church office":MAILTO:heislord@pataskalanaz.org
END:VEVENT
BEGIN:VEVENT
DTSTART;TZID=America/New_York:20261119T190000
DTEND;TZID=America/New_York:20261119T190000
DTSTAMP:20260421T205615
CREATED:20240219T194957Z
LAST-MODIFIED:20240219T194957Z
UID:19894-1795114800-1795114800@pataskalanaz.digitalchurch.app
SUMMARY:Zoom Bible Study
DESCRIPTION:Topics varies \nJoin: Zoom Link
URL:https://pataskalanaz.digitalchurch.app/event/zoom-bible-study/2026-11-19/
LOCATION:Pataskala Church of the Nazarene\, 8100 Hazelton Etna Road\, Pataskala\, OH\, 43062\, United States
CATEGORIES:Small Groups
ORGANIZER;CN="Church office":MAILTO:heislord@pataskalanaz.org
END:VEVENT
BEGIN:VEVENT
DTSTART;TZID=America/New_York:20261126T190000
DTEND;TZID=America/New_York:20261126T190000
DTSTAMP:20260421T205615
CREATED:20240219T194957Z
LAST-MODIFIED:20240219T194957Z
UID:19904-1795719600-1795719600@pataskalanaz.digitalchurch.app
SUMMARY:Zoom Bible Study
DESCRIPTION:Topics varies \nJoin: Zoom Link
URL:https://pataskalanaz.digitalchurch.app/event/zoom-bible-study/2026-11-26/
LOCATION:Pataskala Church of the Nazarene\, 8100 Hazelton Etna Road\, Pataskala\, OH\, 43062\, United States
CATEGORIES:Small Groups
ORGANIZER;CN="Church office":MAILTO:heislord@pataskalanaz.org
END:VEVENT
BEGIN:VEVENT
DTSTART;TZID=America/New_York:20261203T190000
DTEND;TZID=America/New_York:20261203T190000
DTSTAMP:20260421T205615
CREATED:20240219T194957Z
LAST-MODIFIED:20240219T194957Z
UID:19914-1796324400-1796324400@pataskalanaz.digitalchurch.app
SUMMARY:Zoom Bible Study
DESCRIPTION:Topics varies \nJoin: Zoom Link
URL:https://pataskalanaz.digitalchurch.app/event/zoom-bible-study/2026-12-03/
LOCATION:Pataskala Church of the Nazarene\, 8100 Hazelton Etna Road\, Pataskala\, OH\, 43062\, United States
CATEGORIES:Small Groups
ORGANIZER;CN="Church office":MAILTO:heislord@pataskalanaz.org
END:VEVENT
BEGIN:VEVENT
DTSTART;TZID=America/New_York:20261210T190000
DTEND;TZID=America/New_York:20261210T190000
DTSTAMP:20260421T205615
CREATED:20240219T194957Z
LAST-MODIFIED:20240219T194957Z
UID:19924-1796929200-1796929200@pataskalanaz.digitalchurch.app
SUMMARY:Zoom Bible Study
DESCRIPTION:Topics varies \nJoin: Zoom Link
URL:https://pataskalanaz.digitalchurch.app/event/zoom-bible-study/2026-12-10/
LOCATION:Pataskala Church of the Nazarene\, 8100 Hazelton Etna Road\, Pataskala\, OH\, 43062\, United States
CATEGORIES:Small Groups
ORGANIZER;CN="Church office":MAILTO:heislord@pataskalanaz.org
END:VEVENT
BEGIN:VEVENT
DTSTART;TZID=America/New_York:20261217T190000
DTEND;TZID=America/New_York:20261217T190000
DTSTAMP:20260421T205615
CREATED:20240219T194957Z
LAST-MODIFIED:20240219T194957Z
UID:19934-1797534000-1797534000@pataskalanaz.digitalchurch.app
SUMMARY:Zoom Bible Study
DESCRIPTION:Topics varies \nJoin: Zoom Link
URL:https://pataskalanaz.digitalchurch.app/event/zoom-bible-study/2026-12-17/
LOCATION:Pataskala Church of the Nazarene\, 8100 Hazelton Etna Road\, Pataskala\, OH\, 43062\, United States
CATEGORIES:Small Groups
ORGANIZER;CN="Church office":MAILTO:heislord@pataskalanaz.org
END:VEVENT
BEGIN:VEVENT
DTSTART;TZID=America/New_York:20261224T190000
DTEND;TZID=America/New_York:20261224T190000
DTSTAMP:20260421T205615
CREATED:20240219T194957Z
LAST-MODIFIED:20240219T194957Z
UID:19944-1798138800-1798138800@pataskalanaz.digitalchurch.app
SUMMARY:Zoom Bible Study
DESCRIPTION:Topics varies \nJoin: Zoom Link
URL:https://pataskalanaz.digitalchurch.app/event/zoom-bible-study/2026-12-24/
LOCATION:Pataskala Church of the Nazarene\, 8100 Hazelton Etna Road\, Pataskala\, OH\, 43062\, United States
CATEGORIES:Small Groups
ORGANIZER;CN="Church office":MAILTO:heislord@pataskalanaz.org
END:VEVENT
BEGIN:VEVENT
DTSTART;TZID=America/New_York:20261231T190000
DTEND;TZID=America/New_York:20261231T190000
DTSTAMP:20260421T205615
CREATED:20240219T194957Z
LAST-MODIFIED:20240219T194957Z
UID:19954-1798743600-1798743600@pataskalanaz.digitalchurch.app
SUMMARY:Zoom Bible Study
DESCRIPTION:Topics varies \nJoin: Zoom Link
URL:https://pataskalanaz.digitalchurch.app/event/zoom-bible-study/2026-12-31/
LOCATION:Pataskala Church of the Nazarene\, 8100 Hazelton Etna Road\, Pataskala\, OH\, 43062\, United States
CATEGORIES:Small Groups
ORGANIZER;CN="Church office":MAILTO:heislord@pataskalanaz.org
END:VEVENT
BEGIN:VEVENT
DTSTART;TZID=America/New_York:20270107T190000
DTEND;TZID=America/New_York:20270107T190000
DTSTAMP:20260421T205615
CREATED:20240219T194957Z
LAST-MODIFIED:20240219T194957Z
UID:19964-1799348400-1799348400@pataskalanaz.digitalchurch.app
SUMMARY:Zoom Bible Study
DESCRIPTION:Topics varies \nJoin: Zoom Link
URL:https://pataskalanaz.digitalchurch.app/event/zoom-bible-study/2027-01-07/
LOCATION:Pataskala Church of the Nazarene\, 8100 Hazelton Etna Road\, Pataskala\, OH\, 43062\, United States
CATEGORIES:Small Groups
ORGANIZER;CN="Church office":MAILTO:heislord@pataskalanaz.org
END:VEVENT
BEGIN:VEVENT
DTSTART;TZID=America/New_York:20270114T190000
DTEND;TZID=America/New_York:20270114T190000
DTSTAMP:20260421T205615
CREATED:20240219T194957Z
LAST-MODIFIED:20240219T194957Z
UID:19974-1799953200-1799953200@pataskalanaz.digitalchurch.app
SUMMARY:Zoom Bible Study
DESCRIPTION:Topics varies \nJoin: Zoom Link
URL:https://pataskalanaz.digitalchurch.app/event/zoom-bible-study/2027-01-14/
LOCATION:Pataskala Church of the Nazarene\, 8100 Hazelton Etna Road\, Pataskala\, OH\, 43062\, United States
CATEGORIES:Small Groups
ORGANIZER;CN="Church office":MAILTO:heislord@pataskalanaz.org
END:VEVENT
BEGIN:VEVENT
DTSTART;TZID=America/New_York:20270121T190000
DTEND;TZID=America/New_York:20270121T190000
DTSTAMP:20260421T205615
CREATED:20240219T194957Z
LAST-MODIFIED:20240219T194957Z
UID:19984-1800558000-1800558000@pataskalanaz.digitalchurch.app
SUMMARY:Zoom Bible Study
DESCRIPTION:Topics varies \nJoin: Zoom Link
URL:https://pataskalanaz.digitalchurch.app/event/zoom-bible-study/2027-01-21/
LOCATION:Pataskala Church of the Nazarene\, 8100 Hazelton Etna Road\, Pataskala\, OH\, 43062\, United States
CATEGORIES:Small Groups
ORGANIZER;CN="Church office":MAILTO:heislord@pataskalanaz.org
END:VEVENT
END:VCALENDAR