BEGIN:VCALENDAR
VERSION:2.0
PRODID:-//Pataskala Church of the Nazarene - ECPv6.6.4//NONSGML v1.0//EN
CALSCALE:GREGORIAN
METHOD:PUBLISH
X-ORIGINAL-URL:https://pataskalanaz.digitalchurch.app
X-WR-CALDESC:Events for Pataskala Church of the Nazarene
REFRESH-INTERVAL;VALUE=DURATION:PT1H
X-Robots-Tag:noindex
X-PUBLISHED-TTL:PT1H
BEGIN:VTIMEZONE
TZID:America/New_York
BEGIN:DAYLIGHT
TZOFFSETFROM:-0500
TZOFFSETTO:-0400
TZNAME:EDT
DTSTART:20190310T070000
END:DAYLIGHT
BEGIN:STANDARD
TZOFFSETFROM:-0400
TZOFFSETTO:-0500
TZNAME:EST
DTSTART:20191103T060000
END:STANDARD
END:VTIMEZONE
BEGIN:VEVENT
DTSTART;TZID=America/New_York:20191017T183000
DTEND;TZID=America/New_York:20191017T183000
DTSTAMP:20260420T013417
CREATED:20190909T013246Z
LAST-MODIFIED:20191017T173257Z
UID:6714-1571337000-1571337000@pataskalanaz.digitalchurch.app
SUMMARY:Faith & Family
DESCRIPTION:Talking Faith and Family with Pastor Gary and Tammy\nFacilitator: Pastor Gary\nTime: Thursdays @ 6:30pm\nDates: Oct. 17 – Dec. 12\nLocation: The Reiss Home – 128 Ellington Blvd. Granville \nPulling from a variety or resources\, we’ll discuss how our faith informs our marriage and our parenting.
URL:https://pataskalanaz.digitalchurch.app/event/faith-family/2019-10-17/
LOCATION:Pataskala Church of the Nazarene\, 8100 Hazelton Etna Road\, Pataskala\, OH\, 43062\, United States
CATEGORIES:Small Groups
ORGANIZER;CN="Church office":MAILTO:heislord@pataskalanaz.org
END:VEVENT
END:VCALENDAR