BEGIN:VCALENDAR
VERSION:2.0
PRODID:-//Pataskala Church of the Nazarene - ECPv6.6.4//NONSGML v1.0//EN
CALSCALE:GREGORIAN
METHOD:PUBLISH
X-WR-CALNAME:Pataskala Church of the Nazarene
X-ORIGINAL-URL:https://pataskalanaz.digitalchurch.app
X-WR-CALDESC:Events for Pataskala Church of the Nazarene
REFRESH-INTERVAL;VALUE=DURATION:PT1H
X-Robots-Tag:noindex
X-PUBLISHED-TTL:PT1H
BEGIN:VTIMEZONE
TZID:America/New_York
BEGIN:DAYLIGHT
TZOFFSETFROM:-0500
TZOFFSETTO:-0400
TZNAME:EDT
DTSTART:20190310T070000
END:DAYLIGHT
BEGIN:STANDARD
TZOFFSETFROM:-0400
TZOFFSETTO:-0500
TZNAME:EST
DTSTART:20191103T060000
END:STANDARD
END:VTIMEZONE
BEGIN:VEVENT
DTSTART;TZID=America/New_York:20190910T183000
DTEND;TZID=America/New_York:20190910T183000
DTSTAMP:20260420T013317
CREATED:20190907T225505Z
LAST-MODIFIED:20191017T173541Z
UID:6654-1568140200-1568140200@pataskalanaz.digitalchurch.app
SUMMARY:GriefShare
DESCRIPTION:It hurts to lose someone.\nFind help at GriefShare.\nGriefShare is a friendly\, caring group of people who will walk alongside you through one of life’s most difficult experiences. You don’t have to go through the grieving process alone. \nhttps://www.griefshare.org/groups/112402
URL:https://pataskalanaz.digitalchurch.app/event/griefshare-2/2019-09-10/
LOCATION:Pataskala Church of the Nazarene\, 8100 Hazelton Etna Road\, Pataskala\, OH\, 43062\, United States
CATEGORIES:Small Groups
ORGANIZER;CN="Church office":MAILTO:heislord@pataskalanaz.org
END:VEVENT
BEGIN:VEVENT
DTSTART;TZID=America/New_York:20190910T183000
DTEND;TZID=America/New_York:20190910T200000
DTSTAMP:20260420T013317
CREATED:20190817T013029Z
LAST-MODIFIED:20191017T173634Z
UID:6579-1568140200-1568145600@pataskalanaz.digitalchurch.app
SUMMARY:Financial Peace University
DESCRIPTION:Planning for the future is hard when you’re still paying for the past! Listen—there’s a better way! Financial Peace University is coming to Pat Naz! We will learn how to beat debt and make a plan for the future . . . together! Interested? Join us at Pataskala Nazarene Church on September 10th at 6:30pm.\nFor more information contact the church office at 740-927-8614. To sign up for the course visit: www.fpu.com/1096007.
URL:https://pataskalanaz.digitalchurch.app/event/financial-peace-university/2019-09-10/
LOCATION:Pataskala Church of the Nazarene\, 8100 Hazelton Etna Road\, Pataskala\, OH\, 43062\, United States
CATEGORIES:Small Groups
ORGANIZER;CN="Church office":MAILTO:heislord@pataskalanaz.org
END:VEVENT
END:VCALENDAR