BEGIN:VCALENDAR
VERSION:2.0
PRODID:-//Pataskala Church of the Nazarene - ECPv6.6.4//NONSGML v1.0//EN
CALSCALE:GREGORIAN
METHOD:PUBLISH
X-ORIGINAL-URL:https://pataskalanaz.digitalchurch.app
X-WR-CALDESC:Events for Pataskala Church of the Nazarene
REFRESH-INTERVAL;VALUE=DURATION:PT1H
X-Robots-Tag:noindex
X-PUBLISHED-TTL:PT1H
BEGIN:VTIMEZONE
TZID:America/New_York
BEGIN:DAYLIGHT
TZOFFSETFROM:-0500
TZOFFSETTO:-0400
TZNAME:EDT
DTSTART:20250309T070000
END:DAYLIGHT
BEGIN:STANDARD
TZOFFSETFROM:-0400
TZOFFSETTO:-0500
TZNAME:EST
DTSTART:20251102T060000
END:STANDARD
END:VTIMEZONE
BEGIN:VEVENT
DTSTART;TZID=America/New_York:20250903T183000
DTEND;TZID=America/New_York:20250903T183000
DTSTAMP:20260424T062220
CREATED:20221031T224349Z
LAST-MODIFIED:20221031T224349Z
UID:16916-1756924200-1756924200@pataskalanaz.digitalchurch.app
SUMMARY:Youth Group
DESCRIPTION:
URL:https://pataskalanaz.digitalchurch.app/event/youth-group/2025-09-03/
LOCATION:Pataskala Church of the Nazarene\, 8100 Hazelton Etna Road\, Pataskala\, OH\, 43062\, United States
CATEGORIES:Next Gen
ATTACH;FMTTYPE=:
END:VEVENT
BEGIN:VEVENT
DTSTART;TZID=America/New_York:20250910T183000
DTEND;TZID=America/New_York:20250910T183000
DTSTAMP:20260424T062220
CREATED:20221031T224349Z
LAST-MODIFIED:20221031T224349Z
UID:16931-1757529000-1757529000@pataskalanaz.digitalchurch.app
SUMMARY:Youth Group
DESCRIPTION:
URL:https://pataskalanaz.digitalchurch.app/event/youth-group/2025-09-10/
LOCATION:Pataskala Church of the Nazarene\, 8100 Hazelton Etna Road\, Pataskala\, OH\, 43062\, United States
CATEGORIES:Next Gen
ATTACH;FMTTYPE=:
END:VEVENT
BEGIN:VEVENT
DTSTART;TZID=America/New_York:20250917T183000
DTEND;TZID=America/New_York:20250917T183000
DTSTAMP:20260424T062220
CREATED:20221031T224349Z
LAST-MODIFIED:20221031T224349Z
UID:16940-1758133800-1758133800@pataskalanaz.digitalchurch.app
SUMMARY:Youth Group
DESCRIPTION:
URL:https://pataskalanaz.digitalchurch.app/event/youth-group/2025-09-17/
LOCATION:Pataskala Church of the Nazarene\, 8100 Hazelton Etna Road\, Pataskala\, OH\, 43062\, United States
CATEGORIES:Next Gen
ATTACH;FMTTYPE=:
END:VEVENT
BEGIN:VEVENT
DTSTART;TZID=America/New_York:20250924T183000
DTEND;TZID=America/New_York:20250924T183000
DTSTAMP:20260424T062220
CREATED:20221031T224349Z
LAST-MODIFIED:20221031T224349Z
UID:16949-1758738600-1758738600@pataskalanaz.digitalchurch.app
SUMMARY:Youth Group
DESCRIPTION:
URL:https://pataskalanaz.digitalchurch.app/event/youth-group/2025-09-24/
LOCATION:Pataskala Church of the Nazarene\, 8100 Hazelton Etna Road\, Pataskala\, OH\, 43062\, United States
CATEGORIES:Next Gen
ATTACH;FMTTYPE=:
END:VEVENT
END:VCALENDAR