BEGIN:VCALENDAR
VERSION:2.0
PRODID:-//Pataskala Church of the Nazarene - ECPv6.6.4//NONSGML v1.0//EN
CALSCALE:GREGORIAN
METHOD:PUBLISH
X-WR-CALNAME:Pataskala Church of the Nazarene
X-ORIGINAL-URL:https://pataskalanaz.digitalchurch.app
X-WR-CALDESC:Events for Pataskala Church of the Nazarene
REFRESH-INTERVAL;VALUE=DURATION:PT1H
X-Robots-Tag:noindex
X-PUBLISHED-TTL:PT1H
BEGIN:VTIMEZONE
TZID:America/New_York
BEGIN:DAYLIGHT
TZOFFSETFROM:-0500
TZOFFSETTO:-0400
TZNAME:EDT
DTSTART:20260308T070000
END:DAYLIGHT
BEGIN:STANDARD
TZOFFSETFROM:-0400
TZOFFSETTO:-0500
TZNAME:EST
DTSTART:20261101T060000
END:STANDARD
END:VTIMEZONE
BEGIN:VEVENT
DTSTART;TZID=America/New_York:20260517T103000
DTEND;TZID=America/New_York:20260517T103000
DTSTAMP:20260420T204042
CREATED:20221031T224244Z
LAST-MODIFIED:20221031T224244Z
UID:19519-1779013800-1779013800@pataskalanaz.digitalchurch.app
SUMMARY:Greenhouse: Children’s Church
DESCRIPTION:
URL:https://pataskalanaz.digitalchurch.app/event/greenhouse/2026-05-17/
LOCATION:Pataskala Church of the Nazarene\, 8100 Hazelton Etna Road\, Pataskala\, OH\, 43062\, United States
CATEGORIES:Children's Ministry
ORGANIZER;CN="Church office":MAILTO:heislord@pataskalanaz.org
END:VEVENT
BEGIN:VEVENT
DTSTART;TZID=America/New_York:20260524T103000
DTEND;TZID=America/New_York:20260524T103000
DTSTAMP:20260420T204042
CREATED:20221031T224244Z
LAST-MODIFIED:20221031T224244Z
UID:19534-1779618600-1779618600@pataskalanaz.digitalchurch.app
SUMMARY:Greenhouse: Children’s Church
DESCRIPTION:
URL:https://pataskalanaz.digitalchurch.app/event/greenhouse/2026-05-24/
LOCATION:Pataskala Church of the Nazarene\, 8100 Hazelton Etna Road\, Pataskala\, OH\, 43062\, United States
CATEGORIES:Children's Ministry
ORGANIZER;CN="Church office":MAILTO:heislord@pataskalanaz.org
END:VEVENT
BEGIN:VEVENT
DTSTART;TZID=America/New_York:20260531T103000
DTEND;TZID=America/New_York:20260531T103000
DTSTAMP:20260420T204042
CREATED:20221031T224244Z
LAST-MODIFIED:20221031T224244Z
UID:19552-1780223400-1780223400@pataskalanaz.digitalchurch.app
SUMMARY:Greenhouse: Children’s Church
DESCRIPTION:
URL:https://pataskalanaz.digitalchurch.app/event/greenhouse/2026-05-31/
LOCATION:Pataskala Church of the Nazarene\, 8100 Hazelton Etna Road\, Pataskala\, OH\, 43062\, United States
CATEGORIES:Children's Ministry
ORGANIZER;CN="Church office":MAILTO:heislord@pataskalanaz.org
END:VEVENT
BEGIN:VEVENT
DTSTART;TZID=America/New_York:20260607T103000
DTEND;TZID=America/New_York:20260607T103000
DTSTAMP:20260420T204042
CREATED:20221031T224244Z
LAST-MODIFIED:20221031T224244Z
UID:19569-1780828200-1780828200@pataskalanaz.digitalchurch.app
SUMMARY:Greenhouse: Children’s Church
DESCRIPTION:
URL:https://pataskalanaz.digitalchurch.app/event/greenhouse/2026-06-07/
LOCATION:Pataskala Church of the Nazarene\, 8100 Hazelton Etna Road\, Pataskala\, OH\, 43062\, United States
CATEGORIES:Children's Ministry
ORGANIZER;CN="Church office":MAILTO:heislord@pataskalanaz.org
END:VEVENT
BEGIN:VEVENT
DTSTART;TZID=America/New_York:20260614T103000
DTEND;TZID=America/New_York:20260614T103000
DTSTAMP:20260420T204042
CREATED:20221031T224244Z
LAST-MODIFIED:20221031T224244Z
UID:19580-1781433000-1781433000@pataskalanaz.digitalchurch.app
SUMMARY:Greenhouse: Children’s Church
DESCRIPTION:
URL:https://pataskalanaz.digitalchurch.app/event/greenhouse/2026-06-14/
LOCATION:Pataskala Church of the Nazarene\, 8100 Hazelton Etna Road\, Pataskala\, OH\, 43062\, United States
CATEGORIES:Children's Ministry
ORGANIZER;CN="Church office":MAILTO:heislord@pataskalanaz.org
END:VEVENT
BEGIN:VEVENT
DTSTART;TZID=America/New_York:20260621T103000
DTEND;TZID=America/New_York:20260621T103000
DTSTAMP:20260420T204042
CREATED:20221031T224244Z
LAST-MODIFIED:20221031T224244Z
UID:19597-1782037800-1782037800@pataskalanaz.digitalchurch.app
SUMMARY:Greenhouse: Children’s Church
DESCRIPTION:
URL:https://pataskalanaz.digitalchurch.app/event/greenhouse/2026-06-21/
LOCATION:Pataskala Church of the Nazarene\, 8100 Hazelton Etna Road\, Pataskala\, OH\, 43062\, United States
CATEGORIES:Children's Ministry
ORGANIZER;CN="Church office":MAILTO:heislord@pataskalanaz.org
END:VEVENT
BEGIN:VEVENT
DTSTART;TZID=America/New_York:20260628T103000
DTEND;TZID=America/New_York:20260628T103000
DTSTAMP:20260420T204042
CREATED:20221031T224244Z
LAST-MODIFIED:20221031T224244Z
UID:19608-1782642600-1782642600@pataskalanaz.digitalchurch.app
SUMMARY:Greenhouse: Children’s Church
DESCRIPTION:
URL:https://pataskalanaz.digitalchurch.app/event/greenhouse/2026-06-28/
LOCATION:Pataskala Church of the Nazarene\, 8100 Hazelton Etna Road\, Pataskala\, OH\, 43062\, United States
CATEGORIES:Children's Ministry
ORGANIZER;CN="Church office":MAILTO:heislord@pataskalanaz.org
END:VEVENT
BEGIN:VEVENT
DTSTART;TZID=America/New_York:20260705T103000
DTEND;TZID=America/New_York:20260705T103000
DTSTAMP:20260420T204042
CREATED:20221031T224244Z
LAST-MODIFIED:20221031T224244Z
UID:19641-1783247400-1783247400@pataskalanaz.digitalchurch.app
SUMMARY:Greenhouse: Children’s Church
DESCRIPTION:
URL:https://pataskalanaz.digitalchurch.app/event/greenhouse/2026-07-05/
LOCATION:Pataskala Church of the Nazarene\, 8100 Hazelton Etna Road\, Pataskala\, OH\, 43062\, United States
CATEGORIES:Children's Ministry
ORGANIZER;CN="Church office":MAILTO:heislord@pataskalanaz.org
END:VEVENT
BEGIN:VEVENT
DTSTART;TZID=America/New_York:20260712T103000
DTEND;TZID=America/New_York:20260712T103000
DTSTAMP:20260420T204042
CREATED:20221031T224244Z
LAST-MODIFIED:20221031T224244Z
UID:19652-1783852200-1783852200@pataskalanaz.digitalchurch.app
SUMMARY:Greenhouse: Children’s Church
DESCRIPTION:
URL:https://pataskalanaz.digitalchurch.app/event/greenhouse/2026-07-12/
LOCATION:Pataskala Church of the Nazarene\, 8100 Hazelton Etna Road\, Pataskala\, OH\, 43062\, United States
CATEGORIES:Children's Ministry
ORGANIZER;CN="Church office":MAILTO:heislord@pataskalanaz.org
END:VEVENT
BEGIN:VEVENT
DTSTART;TZID=America/New_York:20260719T103000
DTEND;TZID=America/New_York:20260719T103000
DTSTAMP:20260420T204042
CREATED:20221031T224244Z
LAST-MODIFIED:20221031T224244Z
UID:19671-1784457000-1784457000@pataskalanaz.digitalchurch.app
SUMMARY:Greenhouse: Children’s Church
DESCRIPTION:
URL:https://pataskalanaz.digitalchurch.app/event/greenhouse/2026-07-19/
LOCATION:Pataskala Church of the Nazarene\, 8100 Hazelton Etna Road\, Pataskala\, OH\, 43062\, United States
CATEGORIES:Children's Ministry
ORGANIZER;CN="Church office":MAILTO:heislord@pataskalanaz.org
END:VEVENT
BEGIN:VEVENT
DTSTART;TZID=America/New_York:20260726T103000
DTEND;TZID=America/New_York:20260726T103000
DTSTAMP:20260420T204042
CREATED:20221031T224244Z
LAST-MODIFIED:20221031T224244Z
UID:19697-1785061800-1785061800@pataskalanaz.digitalchurch.app
SUMMARY:Greenhouse: Children’s Church
DESCRIPTION:
URL:https://pataskalanaz.digitalchurch.app/event/greenhouse/2026-07-26/
LOCATION:Pataskala Church of the Nazarene\, 8100 Hazelton Etna Road\, Pataskala\, OH\, 43062\, United States
CATEGORIES:Children's Ministry
ORGANIZER;CN="Church office":MAILTO:heislord@pataskalanaz.org
END:VEVENT
BEGIN:VEVENT
DTSTART;TZID=America/New_York:20260802T103000
DTEND;TZID=America/New_York:20260802T103000
DTSTAMP:20260420T204042
CREATED:20221031T224244Z
LAST-MODIFIED:20221031T224244Z
UID:19708-1785666600-1785666600@pataskalanaz.digitalchurch.app
SUMMARY:Greenhouse: Children’s Church
DESCRIPTION:
URL:https://pataskalanaz.digitalchurch.app/event/greenhouse/2026-08-02/
LOCATION:Pataskala Church of the Nazarene\, 8100 Hazelton Etna Road\, Pataskala\, OH\, 43062\, United States
CATEGORIES:Children's Ministry
ORGANIZER;CN="Church office":MAILTO:heislord@pataskalanaz.org
END:VEVENT
BEGIN:VEVENT
DTSTART;TZID=America/New_York:20260809T103000
DTEND;TZID=America/New_York:20260809T103000
DTSTAMP:20260420T204042
CREATED:20221031T224244Z
LAST-MODIFIED:20221031T224244Z
UID:19719-1786271400-1786271400@pataskalanaz.digitalchurch.app
SUMMARY:Greenhouse: Children’s Church
DESCRIPTION:
URL:https://pataskalanaz.digitalchurch.app/event/greenhouse/2026-08-09/
LOCATION:Pataskala Church of the Nazarene\, 8100 Hazelton Etna Road\, Pataskala\, OH\, 43062\, United States
CATEGORIES:Children's Ministry
ORGANIZER;CN="Church office":MAILTO:heislord@pataskalanaz.org
END:VEVENT
BEGIN:VEVENT
DTSTART;TZID=America/New_York:20260816T103000
DTEND;TZID=America/New_York:20260816T103000
DTSTAMP:20260420T204042
CREATED:20221031T224244Z
LAST-MODIFIED:20221031T224244Z
UID:19738-1786876200-1786876200@pataskalanaz.digitalchurch.app
SUMMARY:Greenhouse: Children’s Church
DESCRIPTION:
URL:https://pataskalanaz.digitalchurch.app/event/greenhouse/2026-08-16/
LOCATION:Pataskala Church of the Nazarene\, 8100 Hazelton Etna Road\, Pataskala\, OH\, 43062\, United States
CATEGORIES:Children's Ministry
ORGANIZER;CN="Church office":MAILTO:heislord@pataskalanaz.org
END:VEVENT
BEGIN:VEVENT
DTSTART;TZID=America/New_York:20260823T103000
DTEND;TZID=America/New_York:20260823T103000
DTSTAMP:20260420T204043
CREATED:20221031T224244Z
LAST-MODIFIED:20221031T224244Z
UID:19752-1787481000-1787481000@pataskalanaz.digitalchurch.app
SUMMARY:Greenhouse: Children’s Church
DESCRIPTION:
URL:https://pataskalanaz.digitalchurch.app/event/greenhouse/2026-08-23/
LOCATION:Pataskala Church of the Nazarene\, 8100 Hazelton Etna Road\, Pataskala\, OH\, 43062\, United States
CATEGORIES:Children's Ministry
ORGANIZER;CN="Church office":MAILTO:heislord@pataskalanaz.org
END:VEVENT
BEGIN:VEVENT
DTSTART;TZID=America/New_York:20260830T103000
DTEND;TZID=America/New_York:20260830T103000
DTSTAMP:20260420T204043
CREATED:20221031T224244Z
LAST-MODIFIED:20221031T224244Z
UID:19765-1788085800-1788085800@pataskalanaz.digitalchurch.app
SUMMARY:Greenhouse: Children’s Church
DESCRIPTION:
URL:https://pataskalanaz.digitalchurch.app/event/greenhouse/2026-08-30/
LOCATION:Pataskala Church of the Nazarene\, 8100 Hazelton Etna Road\, Pataskala\, OH\, 43062\, United States
CATEGORIES:Children's Ministry
ORGANIZER;CN="Church office":MAILTO:heislord@pataskalanaz.org
END:VEVENT
BEGIN:VEVENT
DTSTART;TZID=America/New_York:20260906T103000
DTEND;TZID=America/New_York:20260906T103000
DTSTAMP:20260420T204043
CREATED:20221031T224244Z
LAST-MODIFIED:20221031T224244Z
UID:19785-1788690600-1788690600@pataskalanaz.digitalchurch.app
SUMMARY:Greenhouse: Children’s Church
DESCRIPTION:
URL:https://pataskalanaz.digitalchurch.app/event/greenhouse/2026-09-06/
LOCATION:Pataskala Church of the Nazarene\, 8100 Hazelton Etna Road\, Pataskala\, OH\, 43062\, United States
CATEGORIES:Children's Ministry
ORGANIZER;CN="Church office":MAILTO:heislord@pataskalanaz.org
END:VEVENT
BEGIN:VEVENT
DTSTART;TZID=America/New_York:20260913T103000
DTEND;TZID=America/New_York:20260913T103000
DTSTAMP:20260420T204043
CREATED:20221031T224244Z
LAST-MODIFIED:20221031T224244Z
UID:19795-1789295400-1789295400@pataskalanaz.digitalchurch.app
SUMMARY:Greenhouse: Children’s Church
DESCRIPTION:
URL:https://pataskalanaz.digitalchurch.app/event/greenhouse/2026-09-13/
LOCATION:Pataskala Church of the Nazarene\, 8100 Hazelton Etna Road\, Pataskala\, OH\, 43062\, United States
CATEGORIES:Children's Ministry
ORGANIZER;CN="Church office":MAILTO:heislord@pataskalanaz.org
END:VEVENT
BEGIN:VEVENT
DTSTART;TZID=America/New_York:20260920T103000
DTEND;TZID=America/New_York:20260920T103000
DTSTAMP:20260420T204043
CREATED:20221031T224244Z
LAST-MODIFIED:20221031T224244Z
UID:19806-1789900200-1789900200@pataskalanaz.digitalchurch.app
SUMMARY:Greenhouse: Children’s Church
DESCRIPTION:
URL:https://pataskalanaz.digitalchurch.app/event/greenhouse/2026-09-20/
LOCATION:Pataskala Church of the Nazarene\, 8100 Hazelton Etna Road\, Pataskala\, OH\, 43062\, United States
CATEGORIES:Children's Ministry
ORGANIZER;CN="Church office":MAILTO:heislord@pataskalanaz.org
END:VEVENT
BEGIN:VEVENT
DTSTART;TZID=America/New_York:20260927T103000
DTEND;TZID=America/New_York:20260927T103000
DTSTAMP:20260420T204043
CREATED:20221031T224244Z
LAST-MODIFIED:20221031T224244Z
UID:19816-1790505000-1790505000@pataskalanaz.digitalchurch.app
SUMMARY:Greenhouse: Children’s Church
DESCRIPTION:
URL:https://pataskalanaz.digitalchurch.app/event/greenhouse/2026-09-27/
LOCATION:Pataskala Church of the Nazarene\, 8100 Hazelton Etna Road\, Pataskala\, OH\, 43062\, United States
CATEGORIES:Children's Ministry
ORGANIZER;CN="Church office":MAILTO:heislord@pataskalanaz.org
END:VEVENT
BEGIN:VEVENT
DTSTART;TZID=America/New_York:20261004T103000
DTEND;TZID=America/New_York:20261004T103000
DTSTAMP:20260420T204043
CREATED:20221031T224244Z
LAST-MODIFIED:20221031T224244Z
UID:19826-1791109800-1791109800@pataskalanaz.digitalchurch.app
SUMMARY:Greenhouse: Children’s Church
DESCRIPTION:
URL:https://pataskalanaz.digitalchurch.app/event/greenhouse/2026-10-04/
LOCATION:Pataskala Church of the Nazarene\, 8100 Hazelton Etna Road\, Pataskala\, OH\, 43062\, United States
CATEGORIES:Children's Ministry
ORGANIZER;CN="Church office":MAILTO:heislord@pataskalanaz.org
END:VEVENT
BEGIN:VEVENT
DTSTART;TZID=America/New_York:20261011T103000
DTEND;TZID=America/New_York:20261011T103000
DTSTAMP:20260420T204043
CREATED:20221031T224244Z
LAST-MODIFIED:20221031T224244Z
UID:19836-1791714600-1791714600@pataskalanaz.digitalchurch.app
SUMMARY:Greenhouse: Children’s Church
DESCRIPTION:
URL:https://pataskalanaz.digitalchurch.app/event/greenhouse/2026-10-11/
LOCATION:Pataskala Church of the Nazarene\, 8100 Hazelton Etna Road\, Pataskala\, OH\, 43062\, United States
CATEGORIES:Children's Ministry
ORGANIZER;CN="Church office":MAILTO:heislord@pataskalanaz.org
END:VEVENT
BEGIN:VEVENT
DTSTART;TZID=America/New_York:20261018T103000
DTEND;TZID=America/New_York:20261018T103000
DTSTAMP:20260420T204043
CREATED:20221031T224244Z
LAST-MODIFIED:20221031T224244Z
UID:19846-1792319400-1792319400@pataskalanaz.digitalchurch.app
SUMMARY:Greenhouse: Children’s Church
DESCRIPTION:
URL:https://pataskalanaz.digitalchurch.app/event/greenhouse/2026-10-18/
LOCATION:Pataskala Church of the Nazarene\, 8100 Hazelton Etna Road\, Pataskala\, OH\, 43062\, United States
CATEGORIES:Children's Ministry
ORGANIZER;CN="Church office":MAILTO:heislord@pataskalanaz.org
END:VEVENT
BEGIN:VEVENT
DTSTART;TZID=America/New_York:20261025T103000
DTEND;TZID=America/New_York:20261025T103000
DTSTAMP:20260420T204043
CREATED:20221031T224244Z
LAST-MODIFIED:20221031T224244Z
UID:19856-1792924200-1792924200@pataskalanaz.digitalchurch.app
SUMMARY:Greenhouse: Children’s Church
DESCRIPTION:
URL:https://pataskalanaz.digitalchurch.app/event/greenhouse/2026-10-25/
LOCATION:Pataskala Church of the Nazarene\, 8100 Hazelton Etna Road\, Pataskala\, OH\, 43062\, United States
CATEGORIES:Children's Ministry
ORGANIZER;CN="Church office":MAILTO:heislord@pataskalanaz.org
END:VEVENT
BEGIN:VEVENT
DTSTART;TZID=America/New_York:20261101T103000
DTEND;TZID=America/New_York:20261101T103000
DTSTAMP:20260420T204043
CREATED:20221031T224244Z
LAST-MODIFIED:20221031T224244Z
UID:19866-1793529000-1793529000@pataskalanaz.digitalchurch.app
SUMMARY:Greenhouse: Children’s Church
DESCRIPTION:
URL:https://pataskalanaz.digitalchurch.app/event/greenhouse/2026-11-01/
LOCATION:Pataskala Church of the Nazarene\, 8100 Hazelton Etna Road\, Pataskala\, OH\, 43062\, United States
CATEGORIES:Children's Ministry
ORGANIZER;CN="Church office":MAILTO:heislord@pataskalanaz.org
END:VEVENT
BEGIN:VEVENT
DTSTART;TZID=America/New_York:20261108T103000
DTEND;TZID=America/New_York:20261108T103000
DTSTAMP:20260420T204043
CREATED:20221031T224244Z
LAST-MODIFIED:20221031T224244Z
UID:19876-1794133800-1794133800@pataskalanaz.digitalchurch.app
SUMMARY:Greenhouse: Children’s Church
DESCRIPTION:
URL:https://pataskalanaz.digitalchurch.app/event/greenhouse/2026-11-08/
LOCATION:Pataskala Church of the Nazarene\, 8100 Hazelton Etna Road\, Pataskala\, OH\, 43062\, United States
CATEGORIES:Children's Ministry
ORGANIZER;CN="Church office":MAILTO:heislord@pataskalanaz.org
END:VEVENT
BEGIN:VEVENT
DTSTART;TZID=America/New_York:20261115T103000
DTEND;TZID=America/New_York:20261115T103000
DTSTAMP:20260420T204043
CREATED:20221031T224244Z
LAST-MODIFIED:20221031T224244Z
UID:19886-1794738600-1794738600@pataskalanaz.digitalchurch.app
SUMMARY:Greenhouse: Children’s Church
DESCRIPTION:
URL:https://pataskalanaz.digitalchurch.app/event/greenhouse/2026-11-15/
LOCATION:Pataskala Church of the Nazarene\, 8100 Hazelton Etna Road\, Pataskala\, OH\, 43062\, United States
CATEGORIES:Children's Ministry
ORGANIZER;CN="Church office":MAILTO:heislord@pataskalanaz.org
END:VEVENT
BEGIN:VEVENT
DTSTART;TZID=America/New_York:20261122T103000
DTEND;TZID=America/New_York:20261122T103000
DTSTAMP:20260420T204043
CREATED:20221031T224244Z
LAST-MODIFIED:20221031T224244Z
UID:19896-1795343400-1795343400@pataskalanaz.digitalchurch.app
SUMMARY:Greenhouse: Children’s Church
DESCRIPTION:
URL:https://pataskalanaz.digitalchurch.app/event/greenhouse/2026-11-22/
LOCATION:Pataskala Church of the Nazarene\, 8100 Hazelton Etna Road\, Pataskala\, OH\, 43062\, United States
CATEGORIES:Children's Ministry
ORGANIZER;CN="Church office":MAILTO:heislord@pataskalanaz.org
END:VEVENT
BEGIN:VEVENT
DTSTART;TZID=America/New_York:20261129T103000
DTEND;TZID=America/New_York:20261129T103000
DTSTAMP:20260420T204043
CREATED:20221031T224244Z
LAST-MODIFIED:20221031T224244Z
UID:19906-1795948200-1795948200@pataskalanaz.digitalchurch.app
SUMMARY:Greenhouse: Children’s Church
DESCRIPTION:
URL:https://pataskalanaz.digitalchurch.app/event/greenhouse/2026-11-29/
LOCATION:Pataskala Church of the Nazarene\, 8100 Hazelton Etna Road\, Pataskala\, OH\, 43062\, United States
CATEGORIES:Children's Ministry
ORGANIZER;CN="Church office":MAILTO:heislord@pataskalanaz.org
END:VEVENT
BEGIN:VEVENT
DTSTART;TZID=America/New_York:20261206T103000
DTEND;TZID=America/New_York:20261206T103000
DTSTAMP:20260420T204043
CREATED:20221031T224244Z
LAST-MODIFIED:20221031T224244Z
UID:19916-1796553000-1796553000@pataskalanaz.digitalchurch.app
SUMMARY:Greenhouse: Children’s Church
DESCRIPTION:
URL:https://pataskalanaz.digitalchurch.app/event/greenhouse/2026-12-06/
LOCATION:Pataskala Church of the Nazarene\, 8100 Hazelton Etna Road\, Pataskala\, OH\, 43062\, United States
CATEGORIES:Children's Ministry
ORGANIZER;CN="Church office":MAILTO:heislord@pataskalanaz.org
END:VEVENT
END:VCALENDAR