BEGIN:VCALENDAR
VERSION:2.0
PRODID:-//Pataskala Church of the Nazarene - ECPv6.6.4//NONSGML v1.0//EN
CALSCALE:GREGORIAN
METHOD:PUBLISH
X-ORIGINAL-URL:https://pataskalanaz.digitalchurch.app
X-WR-CALDESC:Events for Pataskala Church of the Nazarene
REFRESH-INTERVAL;VALUE=DURATION:PT1H
X-Robots-Tag:noindex
X-PUBLISHED-TTL:PT1H
BEGIN:VTIMEZONE
TZID:America/New_York
BEGIN:DAYLIGHT
TZOFFSETFROM:-0500
TZOFFSETTO:-0400
TZNAME:EDT
DTSTART:20280312T070000
END:DAYLIGHT
BEGIN:STANDARD
TZOFFSETFROM:-0400
TZOFFSETTO:-0500
TZNAME:EST
DTSTART:20281105T060000
END:STANDARD
END:VTIMEZONE
BEGIN:VEVENT
DTSTART;TZID=America/New_York:20280102T103000
DTEND;TZID=America/New_York:20280102T103000
DTSTAMP:20260425T213117
CREATED:20221031T224244Z
LAST-MODIFIED:20221031T224244Z
UID:20476-1830421800-1830421800@pataskalanaz.digitalchurch.app
SUMMARY:Greenhouse: Children’s Church
DESCRIPTION:
URL:https://pataskalanaz.digitalchurch.app/event/greenhouse/2028-01-02/
LOCATION:Pataskala Church of the Nazarene\, 8100 Hazelton Etna Road\, Pataskala\, OH\, 43062\, United States
CATEGORIES:Children's Ministry
ORGANIZER;CN="Church office":MAILTO:heislord@pataskalanaz.org
END:VEVENT
BEGIN:VEVENT
DTSTART;TZID=America/New_York:20280109T103000
DTEND;TZID=America/New_York:20280109T103000
DTSTAMP:20260425T213117
CREATED:20221031T224244Z
LAST-MODIFIED:20221031T224244Z
UID:20486-1831026600-1831026600@pataskalanaz.digitalchurch.app
SUMMARY:Greenhouse: Children’s Church
DESCRIPTION:
URL:https://pataskalanaz.digitalchurch.app/event/greenhouse/2028-01-09/
LOCATION:Pataskala Church of the Nazarene\, 8100 Hazelton Etna Road\, Pataskala\, OH\, 43062\, United States
CATEGORIES:Children's Ministry
ORGANIZER;CN="Church office":MAILTO:heislord@pataskalanaz.org
END:VEVENT
BEGIN:VEVENT
DTSTART;TZID=America/New_York:20280116T103000
DTEND;TZID=America/New_York:20280116T103000
DTSTAMP:20260425T213117
CREATED:20221031T224244Z
LAST-MODIFIED:20221031T224244Z
UID:20496-1831631400-1831631400@pataskalanaz.digitalchurch.app
SUMMARY:Greenhouse: Children’s Church
DESCRIPTION:
URL:https://pataskalanaz.digitalchurch.app/event/greenhouse/2028-01-16/
LOCATION:Pataskala Church of the Nazarene\, 8100 Hazelton Etna Road\, Pataskala\, OH\, 43062\, United States
CATEGORIES:Children's Ministry
ORGANIZER;CN="Church office":MAILTO:heislord@pataskalanaz.org
END:VEVENT
BEGIN:VEVENT
DTSTART;TZID=America/New_York:20280123T103000
DTEND;TZID=America/New_York:20280123T103000
DTSTAMP:20260425T213117
CREATED:20221031T224244Z
LAST-MODIFIED:20221031T224244Z
UID:20506-1832236200-1832236200@pataskalanaz.digitalchurch.app
SUMMARY:Greenhouse: Children’s Church
DESCRIPTION:
URL:https://pataskalanaz.digitalchurch.app/event/greenhouse/2028-01-23/
LOCATION:Pataskala Church of the Nazarene\, 8100 Hazelton Etna Road\, Pataskala\, OH\, 43062\, United States
CATEGORIES:Children's Ministry
ORGANIZER;CN="Church office":MAILTO:heislord@pataskalanaz.org
END:VEVENT
BEGIN:VEVENT
DTSTART;TZID=America/New_York:20280130T103000
DTEND;TZID=America/New_York:20280130T103000
DTSTAMP:20260425T213117
CREATED:20221031T224244Z
LAST-MODIFIED:20221031T224244Z
UID:20516-1832841000-1832841000@pataskalanaz.digitalchurch.app
SUMMARY:Greenhouse: Children’s Church
DESCRIPTION:
URL:https://pataskalanaz.digitalchurch.app/event/greenhouse/2028-01-30/
LOCATION:Pataskala Church of the Nazarene\, 8100 Hazelton Etna Road\, Pataskala\, OH\, 43062\, United States
CATEGORIES:Children's Ministry
ORGANIZER;CN="Church office":MAILTO:heislord@pataskalanaz.org
END:VEVENT
END:VCALENDAR