BEGIN:VCALENDAR
VERSION:2.0
PRODID:-//Pataskala Church of the Nazarene - ECPv6.6.4//NONSGML v1.0//EN
CALSCALE:GREGORIAN
METHOD:PUBLISH
X-ORIGINAL-URL:https://pataskalanaz.digitalchurch.app
X-WR-CALDESC:Events for Pataskala Church of the Nazarene
REFRESH-INTERVAL;VALUE=DURATION:PT1H
X-Robots-Tag:noindex
X-PUBLISHED-TTL:PT1H
BEGIN:VTIMEZONE
TZID:America/New_York
BEGIN:DAYLIGHT
TZOFFSETFROM:-0500
TZOFFSETTO:-0400
TZNAME:EDT
DTSTART:20270314T070000
END:DAYLIGHT
BEGIN:STANDARD
TZOFFSETFROM:-0400
TZOFFSETTO:-0500
TZNAME:EST
DTSTART:20271107T060000
END:STANDARD
END:VTIMEZONE
BEGIN:VEVENT
DTSTART;TZID=America/New_York:20270905T103000
DTEND;TZID=America/New_York:20270905T103000
DTSTAMP:20260423T060208
CREATED:20221031T224244Z
LAST-MODIFIED:20221031T224244Z
UID:20306-1820140200-1820140200@pataskalanaz.digitalchurch.app
SUMMARY:Greenhouse: Children’s Church
DESCRIPTION:
URL:https://pataskalanaz.digitalchurch.app/event/greenhouse/2027-09-05/
LOCATION:Pataskala Church of the Nazarene\, 8100 Hazelton Etna Road\, Pataskala\, OH\, 43062\, United States
CATEGORIES:Children's Ministry
ORGANIZER;CN="Church office":MAILTO:heislord@pataskalanaz.org
END:VEVENT
BEGIN:VEVENT
DTSTART;TZID=America/New_York:20270912T103000
DTEND;TZID=America/New_York:20270912T103000
DTSTAMP:20260423T060208
CREATED:20221031T224244Z
LAST-MODIFIED:20221031T224244Z
UID:20316-1820745000-1820745000@pataskalanaz.digitalchurch.app
SUMMARY:Greenhouse: Children’s Church
DESCRIPTION:
URL:https://pataskalanaz.digitalchurch.app/event/greenhouse/2027-09-12/
LOCATION:Pataskala Church of the Nazarene\, 8100 Hazelton Etna Road\, Pataskala\, OH\, 43062\, United States
CATEGORIES:Children's Ministry
ORGANIZER;CN="Church office":MAILTO:heislord@pataskalanaz.org
END:VEVENT
BEGIN:VEVENT
DTSTART;TZID=America/New_York:20270919T103000
DTEND;TZID=America/New_York:20270919T103000
DTSTAMP:20260423T060208
CREATED:20221031T224244Z
LAST-MODIFIED:20221031T224244Z
UID:20326-1821349800-1821349800@pataskalanaz.digitalchurch.app
SUMMARY:Greenhouse: Children’s Church
DESCRIPTION:
URL:https://pataskalanaz.digitalchurch.app/event/greenhouse/2027-09-19/
LOCATION:Pataskala Church of the Nazarene\, 8100 Hazelton Etna Road\, Pataskala\, OH\, 43062\, United States
CATEGORIES:Children's Ministry
ORGANIZER;CN="Church office":MAILTO:heislord@pataskalanaz.org
END:VEVENT
BEGIN:VEVENT
DTSTART;TZID=America/New_York:20270926T103000
DTEND;TZID=America/New_York:20270926T103000
DTSTAMP:20260423T060208
CREATED:20221031T224244Z
LAST-MODIFIED:20221031T224244Z
UID:20336-1821954600-1821954600@pataskalanaz.digitalchurch.app
SUMMARY:Greenhouse: Children’s Church
DESCRIPTION:
URL:https://pataskalanaz.digitalchurch.app/event/greenhouse/2027-09-26/
LOCATION:Pataskala Church of the Nazarene\, 8100 Hazelton Etna Road\, Pataskala\, OH\, 43062\, United States
CATEGORIES:Children's Ministry
ORGANIZER;CN="Church office":MAILTO:heislord@pataskalanaz.org
END:VEVENT
END:VCALENDAR