BEGIN:VCALENDAR
VERSION:2.0
PRODID:-//Pataskala Church of the Nazarene - ECPv6.6.4//NONSGML v1.0//EN
CALSCALE:GREGORIAN
METHOD:PUBLISH
X-WR-CALNAME:Pataskala Church of the Nazarene
X-ORIGINAL-URL:https://pataskalanaz.digitalchurch.app
X-WR-CALDESC:Events for Pataskala Church of the Nazarene
REFRESH-INTERVAL;VALUE=DURATION:PT1H
X-Robots-Tag:noindex
X-PUBLISHED-TTL:PT1H
BEGIN:VTIMEZONE
TZID:America/New_York
BEGIN:DAYLIGHT
TZOFFSETFROM:-0500
TZOFFSETTO:-0400
TZNAME:EDT
DTSTART:20210314T070000
END:DAYLIGHT
BEGIN:STANDARD
TZOFFSETFROM:-0400
TZOFFSETTO:-0500
TZNAME:EST
DTSTART:20211107T060000
END:STANDARD
END:VTIMEZONE
BEGIN:VEVENT
DTSTART;TZID=America/New_York:20210410T093000
DTEND;TZID=America/New_York:20210410T093000
DTSTAMP:20260425T081310
CREATED:20210314T175852Z
LAST-MODIFIED:20210314T175852Z
UID:10493-1618047000-1618047000@pataskalanaz.digitalchurch.app
SUMMARY:Pat Naz Men’s Golf Outing
DESCRIPTION:
URL:https://pataskalanaz.digitalchurch.app/event/pat-naz-mens-golf-outing/
LOCATION:Kyber Run Golf Course\, 5261 County Road 41\, Johnstown\, OH\, 43031\, United States
ORGANIZER;CN="Church office":MAILTO:heislord@pataskalanaz.org
END:VEVENT
END:VCALENDAR