BEGIN:VCALENDAR
VERSION:2.0
PRODID:-//Pataskala Church of the Nazarene - ECPv6.6.4//NONSGML v1.0//EN
CALSCALE:GREGORIAN
METHOD:PUBLISH
X-ORIGINAL-URL:https://pataskalanaz.digitalchurch.app
X-WR-CALDESC:Events for Pataskala Church of the Nazarene
REFRESH-INTERVAL;VALUE=DURATION:PT1H
X-Robots-Tag:noindex
X-PUBLISHED-TTL:PT1H
BEGIN:VTIMEZONE
TZID:America/New_York
BEGIN:DAYLIGHT
TZOFFSETFROM:-0500
TZOFFSETTO:-0400
TZNAME:EDT
DTSTART:20210314T070000
END:DAYLIGHT
BEGIN:STANDARD
TZOFFSETFROM:-0400
TZOFFSETTO:-0500
TZNAME:EST
DTSTART:20211107T060000
END:STANDARD
END:VTIMEZONE
BEGIN:VEVENT
DTSTART;TZID=America/New_York:20210220T090000
DTEND;TZID=America/New_York:20210220T160000
DTSTAMP:20260425T115022
CREATED:20210109T000230Z
LAST-MODIFIED:20210122T125307Z
UID:10366-1613811600-1613836800@pataskalanaz.digitalchurch.app
SUMMARY:Burning Heart
DESCRIPTION:The Burning Heart weekend is a focused time of developing a burning passion for God’s heart and His purposes for us. Weather you have been walking with God for two weeks for two decades; this event is for you!  Join us on\, Saturday February 20\, 2021 at 9 AM\, as we discuss making and keeping Jesus the focus of our lives!
URL:https://pataskalanaz.digitalchurch.app/event/burning-heart/
LOCATION:Pataskala Church of the Nazarene\, 8100 Hazelton Etna Road\, Pataskala\, OH\, 43062\, United States
ATTACH;FMTTYPE=image/jpeg:https://pataskalanaz.digitalchurch.app/wp-content/uploads/sites/92/2021/01/AAAD1069-523A-476F-A0D8-D02BE3BB22DC.jpeg
ORGANIZER;CN="Church office":MAILTO:heislord@pataskalanaz.org
END:VEVENT
END:VCALENDAR