BEGIN:VCALENDAR
VERSION:2.0
PRODID:-//Pataskala Church of the Nazarene - ECPv6.6.4//NONSGML v1.0//EN
CALSCALE:GREGORIAN
METHOD:PUBLISH
X-ORIGINAL-URL:https://pataskalanaz.digitalchurch.app
X-WR-CALDESC:Events for Pataskala Church of the Nazarene
REFRESH-INTERVAL;VALUE=DURATION:PT1H
X-Robots-Tag:noindex
X-PUBLISHED-TTL:PT1H
BEGIN:VTIMEZONE
TZID:America/New_York
BEGIN:DAYLIGHT
TZOFFSETFROM:-0500
TZOFFSETTO:-0400
TZNAME:EDT
DTSTART:20200308T070000
END:DAYLIGHT
BEGIN:STANDARD
TZOFFSETFROM:-0400
TZOFFSETTO:-0500
TZNAME:EST
DTSTART:20201101T060000
END:STANDARD
END:VTIMEZONE
BEGIN:VEVENT
DTSTART;TZID=America/New_York:20200929T183000
DTEND;TZID=America/New_York:20200929T183000
DTSTAMP:20260423T221954
CREATED:20200920T013322Z
LAST-MODIFIED:20200920T013322Z
UID:9863-1601404200-1601404200@pataskalanaz.digitalchurch.app
SUMMARY:GriefShare
DESCRIPTION:A new session of GriefShare begins on Tuesday\, September 29th at 6:30pm.\n\n\nGriefShare is a friendly\, caring group of people who will walk alongside you through one of life’s most difficult experiences. You don’t have to go through the grieving process alone.\nhttps://www.griefshare.org/groups/125469
URL:https://pataskalanaz.digitalchurch.app/event/griefshare-3/2020-09-29/
LOCATION:Pataskala Church of the Nazarene\, 8100 Hazelton Etna Road\, Pataskala\, OH\, 43062\, United States
ORGANIZER;CN="Church office":MAILTO:heislord@pataskalanaz.org
END:VEVENT
END:VCALENDAR