BEGIN:VCALENDAR
VERSION:2.0
PRODID:-//Pataskala Church of the Nazarene - ECPv6.6.4//NONSGML v1.0//EN
CALSCALE:GREGORIAN
METHOD:PUBLISH
X-ORIGINAL-URL:https://pataskalanaz.digitalchurch.app
X-WR-CALDESC:Events for Pataskala Church of the Nazarene
REFRESH-INTERVAL;VALUE=DURATION:PT1H
X-Robots-Tag:noindex
X-PUBLISHED-TTL:PT1H
BEGIN:VTIMEZONE
TZID:America/New_York
BEGIN:DAYLIGHT
TZOFFSETFROM:-0500
TZOFFSETTO:-0400
TZNAME:EDT
DTSTART:20250309T070000
END:DAYLIGHT
BEGIN:STANDARD
TZOFFSETFROM:-0400
TZOFFSETTO:-0500
TZNAME:EST
DTSTART:20251102T060000
END:STANDARD
BEGIN:DAYLIGHT
TZOFFSETFROM:-0500
TZOFFSETTO:-0400
TZNAME:EDT
DTSTART:20260308T070000
END:DAYLIGHT
BEGIN:STANDARD
TZOFFSETFROM:-0400
TZOFFSETTO:-0500
TZNAME:EST
DTSTART:20261101T060000
END:STANDARD
END:VTIMEZONE
BEGIN:VEVENT
DTSTART;TZID=America/New_York:20260419T180000
DTEND;TZID=America/New_York:20260419T180000
DTSTAMP:20260423T191056
CREATED:20240225T181847Z
LAST-MODIFIED:20240225T181847Z
UID:19349-1776621600-1776621600@pataskalanaz.digitalchurch.app
SUMMARY:Amplified: Youth Group
DESCRIPTION:
URL:https://pataskalanaz.digitalchurch.app/event/amplified-youth-group/2026-04-19/
LOCATION:Pataskala Church of the Nazarene\, 8100 Hazelton Etna Road\, Pataskala\, OH\, 43062\, United States
END:VEVENT
BEGIN:VEVENT
DTSTART;TZID=America/New_York:20260412T180000
DTEND;TZID=America/New_York:20260412T180000
DTSTAMP:20260423T191056
CREATED:20240225T181847Z
LAST-MODIFIED:20240225T181847Z
UID:19222-1776016800-1776016800@pataskalanaz.digitalchurch.app
SUMMARY:Amplified: Youth Group
DESCRIPTION:
URL:https://pataskalanaz.digitalchurch.app/event/amplified-youth-group/2026-04-12/
LOCATION:Pataskala Church of the Nazarene\, 8100 Hazelton Etna Road\, Pataskala\, OH\, 43062\, United States
END:VEVENT
BEGIN:VEVENT
DTSTART;TZID=America/New_York:20260405T180000
DTEND;TZID=America/New_York:20260405T180000
DTSTAMP:20260423T191056
CREATED:20240225T181847Z
LAST-MODIFIED:20240225T181847Z
UID:19203-1775412000-1775412000@pataskalanaz.digitalchurch.app
SUMMARY:Amplified: Youth Group
DESCRIPTION:
URL:https://pataskalanaz.digitalchurch.app/event/amplified-youth-group/2026-04-05/
LOCATION:Pataskala Church of the Nazarene\, 8100 Hazelton Etna Road\, Pataskala\, OH\, 43062\, United States
END:VEVENT
BEGIN:VEVENT
DTSTART;TZID=America/New_York:20260329T180000
DTEND;TZID=America/New_York:20260329T180000
DTSTAMP:20260423T191056
CREATED:20240225T181847Z
LAST-MODIFIED:20240225T181847Z
UID:19191-1774807200-1774807200@pataskalanaz.digitalchurch.app
SUMMARY:Amplified: Youth Group
DESCRIPTION:
URL:https://pataskalanaz.digitalchurch.app/event/amplified-youth-group/2026-03-29/
LOCATION:Pataskala Church of the Nazarene\, 8100 Hazelton Etna Road\, Pataskala\, OH\, 43062\, United States
END:VEVENT
BEGIN:VEVENT
DTSTART;TZID=America/New_York:20260322T180000
DTEND;TZID=America/New_York:20260322T180000
DTSTAMP:20260423T191056
CREATED:20240225T181847Z
LAST-MODIFIED:20240225T181847Z
UID:19162-1774202400-1774202400@pataskalanaz.digitalchurch.app
SUMMARY:Amplified: Youth Group
DESCRIPTION:
URL:https://pataskalanaz.digitalchurch.app/event/amplified-youth-group/2026-03-22/
LOCATION:Pataskala Church of the Nazarene\, 8100 Hazelton Etna Road\, Pataskala\, OH\, 43062\, United States
END:VEVENT
BEGIN:VEVENT
DTSTART;TZID=America/New_York:20260315T180000
DTEND;TZID=America/New_York:20260315T180000
DTSTAMP:20260423T191056
CREATED:20240225T181847Z
LAST-MODIFIED:20240225T181847Z
UID:19150-1773597600-1773597600@pataskalanaz.digitalchurch.app
SUMMARY:Amplified: Youth Group
DESCRIPTION:
URL:https://pataskalanaz.digitalchurch.app/event/amplified-youth-group/2026-03-15/
LOCATION:Pataskala Church of the Nazarene\, 8100 Hazelton Etna Road\, Pataskala\, OH\, 43062\, United States
END:VEVENT
BEGIN:VEVENT
DTSTART;TZID=America/New_York:20260308T180000
DTEND;TZID=America/New_York:20260308T180000
DTSTAMP:20260423T191056
CREATED:20240225T181847Z
LAST-MODIFIED:20240225T181847Z
UID:19134-1772992800-1772992800@pataskalanaz.digitalchurch.app
SUMMARY:Amplified: Youth Group
DESCRIPTION:
URL:https://pataskalanaz.digitalchurch.app/event/amplified-youth-group/2026-03-08/
LOCATION:Pataskala Church of the Nazarene\, 8100 Hazelton Etna Road\, Pataskala\, OH\, 43062\, United States
END:VEVENT
BEGIN:VEVENT
DTSTART;TZID=America/New_York:20260301T180000
DTEND;TZID=America/New_York:20260301T180000
DTSTAMP:20260423T191056
CREATED:20240225T181847Z
LAST-MODIFIED:20240225T181847Z
UID:19119-1772388000-1772388000@pataskalanaz.digitalchurch.app
SUMMARY:Amplified: Youth Group
DESCRIPTION:
URL:https://pataskalanaz.digitalchurch.app/event/amplified-youth-group/2026-03-01/
LOCATION:Pataskala Church of the Nazarene\, 8100 Hazelton Etna Road\, Pataskala\, OH\, 43062\, United States
END:VEVENT
BEGIN:VEVENT
DTSTART;TZID=America/New_York:20260222T180000
DTEND;TZID=America/New_York:20260222T180000
DTSTAMP:20260423T191056
CREATED:20240225T181847Z
LAST-MODIFIED:20240225T181847Z
UID:19107-1771783200-1771783200@pataskalanaz.digitalchurch.app
SUMMARY:Amplified: Youth Group
DESCRIPTION:
URL:https://pataskalanaz.digitalchurch.app/event/amplified-youth-group/2026-02-22/
LOCATION:Pataskala Church of the Nazarene\, 8100 Hazelton Etna Road\, Pataskala\, OH\, 43062\, United States
END:VEVENT
BEGIN:VEVENT
DTSTART;TZID=America/New_York:20260215T180000
DTEND;TZID=America/New_York:20260215T180000
DTSTAMP:20260423T191056
CREATED:20240225T181847Z
LAST-MODIFIED:20240225T181847Z
UID:19106-1771178400-1771178400@pataskalanaz.digitalchurch.app
SUMMARY:Amplified: Youth Group
DESCRIPTION:
URL:https://pataskalanaz.digitalchurch.app/event/amplified-youth-group/2026-02-15/
LOCATION:Pataskala Church of the Nazarene\, 8100 Hazelton Etna Road\, Pataskala\, OH\, 43062\, United States
END:VEVENT
BEGIN:VEVENT
DTSTART;TZID=America/New_York:20260208T180000
DTEND;TZID=America/New_York:20260208T180000
DTSTAMP:20260423T191056
CREATED:20240225T181847Z
LAST-MODIFIED:20240225T181847Z
UID:19105-1770573600-1770573600@pataskalanaz.digitalchurch.app
SUMMARY:Amplified: Youth Group
DESCRIPTION:
URL:https://pataskalanaz.digitalchurch.app/event/amplified-youth-group/2026-02-08/
LOCATION:Pataskala Church of the Nazarene\, 8100 Hazelton Etna Road\, Pataskala\, OH\, 43062\, United States
END:VEVENT
BEGIN:VEVENT
DTSTART;TZID=America/New_York:20260201T180000
DTEND;TZID=America/New_York:20260201T180000
DTSTAMP:20260423T191056
CREATED:20240225T181847Z
LAST-MODIFIED:20240225T181847Z
UID:19104-1769968800-1769968800@pataskalanaz.digitalchurch.app
SUMMARY:Amplified: Youth Group
DESCRIPTION:
URL:https://pataskalanaz.digitalchurch.app/event/amplified-youth-group/2026-02-01/
LOCATION:Pataskala Church of the Nazarene\, 8100 Hazelton Etna Road\, Pataskala\, OH\, 43062\, United States
END:VEVENT
BEGIN:VEVENT
DTSTART;TZID=America/New_York:20260125T180000
DTEND;TZID=America/New_York:20260125T180000
DTSTAMP:20260423T191056
CREATED:20240225T181847Z
LAST-MODIFIED:20240225T181847Z
UID:19103-1769364000-1769364000@pataskalanaz.digitalchurch.app
SUMMARY:Amplified: Youth Group
DESCRIPTION:
URL:https://pataskalanaz.digitalchurch.app/event/amplified-youth-group/2026-01-25/
LOCATION:Pataskala Church of the Nazarene\, 8100 Hazelton Etna Road\, Pataskala\, OH\, 43062\, United States
END:VEVENT
BEGIN:VEVENT
DTSTART;TZID=America/New_York:20260118T180000
DTEND;TZID=America/New_York:20260118T180000
DTSTAMP:20260423T191056
CREATED:20240225T181847Z
LAST-MODIFIED:20240225T181847Z
UID:19102-1768759200-1768759200@pataskalanaz.digitalchurch.app
SUMMARY:Amplified: Youth Group
DESCRIPTION:
URL:https://pataskalanaz.digitalchurch.app/event/amplified-youth-group/2026-01-18/
LOCATION:Pataskala Church of the Nazarene\, 8100 Hazelton Etna Road\, Pataskala\, OH\, 43062\, United States
END:VEVENT
BEGIN:VEVENT
DTSTART;TZID=America/New_York:20260111T180000
DTEND;TZID=America/New_York:20260111T180000
DTSTAMP:20260423T191056
CREATED:20240225T181847Z
LAST-MODIFIED:20240225T181847Z
UID:19101-1768154400-1768154400@pataskalanaz.digitalchurch.app
SUMMARY:Amplified: Youth Group
DESCRIPTION:
URL:https://pataskalanaz.digitalchurch.app/event/amplified-youth-group/2026-01-11/
LOCATION:Pataskala Church of the Nazarene\, 8100 Hazelton Etna Road\, Pataskala\, OH\, 43062\, United States
END:VEVENT
BEGIN:VEVENT
DTSTART;TZID=America/New_York:20260104T180000
DTEND;TZID=America/New_York:20260104T180000
DTSTAMP:20260423T191056
CREATED:20240225T181847Z
LAST-MODIFIED:20240225T181847Z
UID:19100-1767549600-1767549600@pataskalanaz.digitalchurch.app
SUMMARY:Amplified: Youth Group
DESCRIPTION:
URL:https://pataskalanaz.digitalchurch.app/event/amplified-youth-group/2026-01-04/
LOCATION:Pataskala Church of the Nazarene\, 8100 Hazelton Etna Road\, Pataskala\, OH\, 43062\, United States
END:VEVENT
BEGIN:VEVENT
DTSTART;TZID=America/New_York:20251228T180000
DTEND;TZID=America/New_York:20251228T180000
DTSTAMP:20260423T191056
CREATED:20240225T181847Z
LAST-MODIFIED:20240225T181847Z
UID:19099-1766944800-1766944800@pataskalanaz.digitalchurch.app
SUMMARY:Amplified: Youth Group
DESCRIPTION:
URL:https://pataskalanaz.digitalchurch.app/event/amplified-youth-group/2025-12-28/
LOCATION:Pataskala Church of the Nazarene\, 8100 Hazelton Etna Road\, Pataskala\, OH\, 43062\, United States
END:VEVENT
BEGIN:VEVENT
DTSTART;TZID=America/New_York:20251221T180000
DTEND;TZID=America/New_York:20251221T180000
DTSTAMP:20260423T191056
CREATED:20240225T181847Z
LAST-MODIFIED:20240225T181847Z
UID:19098-1766340000-1766340000@pataskalanaz.digitalchurch.app
SUMMARY:Amplified: Youth Group
DESCRIPTION:
URL:https://pataskalanaz.digitalchurch.app/event/amplified-youth-group/2025-12-21/
LOCATION:Pataskala Church of the Nazarene\, 8100 Hazelton Etna Road\, Pataskala\, OH\, 43062\, United States
END:VEVENT
BEGIN:VEVENT
DTSTART;TZID=America/New_York:20251214T180000
DTEND;TZID=America/New_York:20251214T180000
DTSTAMP:20260423T191056
CREATED:20240225T181847Z
LAST-MODIFIED:20240225T181847Z
UID:19097-1765735200-1765735200@pataskalanaz.digitalchurch.app
SUMMARY:Amplified: Youth Group
DESCRIPTION:
URL:https://pataskalanaz.digitalchurch.app/event/amplified-youth-group/2025-12-14/
LOCATION:Pataskala Church of the Nazarene\, 8100 Hazelton Etna Road\, Pataskala\, OH\, 43062\, United States
END:VEVENT
BEGIN:VEVENT
DTSTART;TZID=America/New_York:20251207T180000
DTEND;TZID=America/New_York:20251207T180000
DTSTAMP:20260423T191056
CREATED:20240225T181847Z
LAST-MODIFIED:20240225T181847Z
UID:19096-1765130400-1765130400@pataskalanaz.digitalchurch.app
SUMMARY:Amplified: Youth Group
DESCRIPTION:
URL:https://pataskalanaz.digitalchurch.app/event/amplified-youth-group/2025-12-07/
LOCATION:Pataskala Church of the Nazarene\, 8100 Hazelton Etna Road\, Pataskala\, OH\, 43062\, United States
END:VEVENT
BEGIN:VEVENT
DTSTART;TZID=America/New_York:20251130T180000
DTEND;TZID=America/New_York:20251130T180000
DTSTAMP:20260423T191056
CREATED:20240225T181847Z
LAST-MODIFIED:20240225T181847Z
UID:19095-1764525600-1764525600@pataskalanaz.digitalchurch.app
SUMMARY:Amplified: Youth Group
DESCRIPTION:
URL:https://pataskalanaz.digitalchurch.app/event/amplified-youth-group/2025-11-30/
LOCATION:Pataskala Church of the Nazarene\, 8100 Hazelton Etna Road\, Pataskala\, OH\, 43062\, United States
END:VEVENT
BEGIN:VEVENT
DTSTART;TZID=America/New_York:20251123T180000
DTEND;TZID=America/New_York:20251123T180000
DTSTAMP:20260423T191056
CREATED:20240225T181847Z
LAST-MODIFIED:20240225T181847Z
UID:19094-1763920800-1763920800@pataskalanaz.digitalchurch.app
SUMMARY:Amplified: Youth Group
DESCRIPTION:
URL:https://pataskalanaz.digitalchurch.app/event/amplified-youth-group/2025-11-23/
LOCATION:Pataskala Church of the Nazarene\, 8100 Hazelton Etna Road\, Pataskala\, OH\, 43062\, United States
END:VEVENT
BEGIN:VEVENT
DTSTART;TZID=America/New_York:20251116T180000
DTEND;TZID=America/New_York:20251116T180000
DTSTAMP:20260423T191056
CREATED:20240225T181847Z
LAST-MODIFIED:20240225T181847Z
UID:19093-1763316000-1763316000@pataskalanaz.digitalchurch.app
SUMMARY:Amplified: Youth Group
DESCRIPTION:
URL:https://pataskalanaz.digitalchurch.app/event/amplified-youth-group/2025-11-16/
LOCATION:Pataskala Church of the Nazarene\, 8100 Hazelton Etna Road\, Pataskala\, OH\, 43062\, United States
END:VEVENT
BEGIN:VEVENT
DTSTART;TZID=America/New_York:20251109T180000
DTEND;TZID=America/New_York:20251109T180000
DTSTAMP:20260423T191056
CREATED:20240225T181847Z
LAST-MODIFIED:20240225T181847Z
UID:19092-1762711200-1762711200@pataskalanaz.digitalchurch.app
SUMMARY:Amplified: Youth Group
DESCRIPTION:
URL:https://pataskalanaz.digitalchurch.app/event/amplified-youth-group/2025-11-09/
LOCATION:Pataskala Church of the Nazarene\, 8100 Hazelton Etna Road\, Pataskala\, OH\, 43062\, United States
END:VEVENT
BEGIN:VEVENT
DTSTART;TZID=America/New_York:20251102T180000
DTEND;TZID=America/New_York:20251102T180000
DTSTAMP:20260423T191056
CREATED:20240225T181847Z
LAST-MODIFIED:20240225T181847Z
UID:19091-1762106400-1762106400@pataskalanaz.digitalchurch.app
SUMMARY:Amplified: Youth Group
DESCRIPTION:
URL:https://pataskalanaz.digitalchurch.app/event/amplified-youth-group/2025-11-02/
LOCATION:Pataskala Church of the Nazarene\, 8100 Hazelton Etna Road\, Pataskala\, OH\, 43062\, United States
END:VEVENT
BEGIN:VEVENT
DTSTART;TZID=America/New_York:20251026T180000
DTEND;TZID=America/New_York:20251026T180000
DTSTAMP:20260423T191056
CREATED:20240225T181847Z
LAST-MODIFIED:20240225T181847Z
UID:19090-1761501600-1761501600@pataskalanaz.digitalchurch.app
SUMMARY:Amplified: Youth Group
DESCRIPTION:
URL:https://pataskalanaz.digitalchurch.app/event/amplified-youth-group/2025-10-26/
LOCATION:Pataskala Church of the Nazarene\, 8100 Hazelton Etna Road\, Pataskala\, OH\, 43062\, United States
END:VEVENT
BEGIN:VEVENT
DTSTART;TZID=America/New_York:20251019T180000
DTEND;TZID=America/New_York:20251019T180000
DTSTAMP:20260423T191056
CREATED:20240225T181847Z
LAST-MODIFIED:20240225T181847Z
UID:19089-1760896800-1760896800@pataskalanaz.digitalchurch.app
SUMMARY:Amplified: Youth Group
DESCRIPTION:
URL:https://pataskalanaz.digitalchurch.app/event/amplified-youth-group/2025-10-19/
LOCATION:Pataskala Church of the Nazarene\, 8100 Hazelton Etna Road\, Pataskala\, OH\, 43062\, United States
END:VEVENT
BEGIN:VEVENT
DTSTART;TZID=America/New_York:20251012T180000
DTEND;TZID=America/New_York:20251012T180000
DTSTAMP:20260423T191056
CREATED:20240225T181847Z
LAST-MODIFIED:20240225T181847Z
UID:19088-1760292000-1760292000@pataskalanaz.digitalchurch.app
SUMMARY:Amplified: Youth Group
DESCRIPTION:
URL:https://pataskalanaz.digitalchurch.app/event/amplified-youth-group/2025-10-12/
LOCATION:Pataskala Church of the Nazarene\, 8100 Hazelton Etna Road\, Pataskala\, OH\, 43062\, United States
END:VEVENT
BEGIN:VEVENT
DTSTART;TZID=America/New_York:20251005T180000
DTEND;TZID=America/New_York:20251005T180000
DTSTAMP:20260423T191056
CREATED:20240225T181847Z
LAST-MODIFIED:20240225T181847Z
UID:19087-1759687200-1759687200@pataskalanaz.digitalchurch.app
SUMMARY:Amplified: Youth Group
DESCRIPTION:
URL:https://pataskalanaz.digitalchurch.app/event/amplified-youth-group/2025-10-05/
LOCATION:Pataskala Church of the Nazarene\, 8100 Hazelton Etna Road\, Pataskala\, OH\, 43062\, United States
END:VEVENT
BEGIN:VEVENT
DTSTART;TZID=America/New_York:20250928T180000
DTEND;TZID=America/New_York:20250928T180000
DTSTAMP:20260423T191056
CREATED:20240225T181847Z
LAST-MODIFIED:20240225T181847Z
UID:19086-1759082400-1759082400@pataskalanaz.digitalchurch.app
SUMMARY:Amplified: Youth Group
DESCRIPTION:
URL:https://pataskalanaz.digitalchurch.app/event/amplified-youth-group/2025-09-28/
LOCATION:Pataskala Church of the Nazarene\, 8100 Hazelton Etna Road\, Pataskala\, OH\, 43062\, United States
END:VEVENT
END:VCALENDAR